
BEGIN:VCALENDAR
VERSION:2.0
PRODID:-//West Kootenay Regional Arts Council - ECPv6.15.20//NONSGML v1.0//EN
CALSCALE:GREGORIAN
METHOD:PUBLISH
X-ORIGINAL-URL:https://www.wkartscouncil.com
X-WR-CALDESC:Events for West Kootenay Regional Arts Council
REFRESH-INTERVAL;VALUE=DURATION:PT1H
X-Robots-Tag:noindex
X-PUBLISHED-TTL:PT1H
BEGIN:VTIMEZONE
TZID:America/Vancouver
BEGIN:DAYLIGHT
TZOFFSETFROM:-0800
TZOFFSETTO:-0700
TZNAME:PDT
DTSTART:20240310T100000
END:DAYLIGHT
BEGIN:STANDARD
TZOFFSETFROM:-0700
TZOFFSETTO:-0800
TZNAME:PST
DTSTART:20241103T090000
END:STANDARD
BEGIN:DAYLIGHT
TZOFFSETFROM:-0800
TZOFFSETTO:-0700
TZNAME:PDT
DTSTART:20250309T100000
END:DAYLIGHT
BEGIN:STANDARD
TZOFFSETFROM:-0700
TZOFFSETTO:-0800
TZNAME:PST
DTSTART:20251102T090000
END:STANDARD
BEGIN:DAYLIGHT
TZOFFSETFROM:-0800
TZOFFSETTO:-0700
TZNAME:PDT
DTSTART:20260308T100000
END:DAYLIGHT
BEGIN:STANDARD
TZOFFSETFROM:-0700
TZOFFSETTO:-0800
TZNAME:PST
DTSTART:20261101T090000
END:STANDARD
END:VTIMEZONE
BEGIN:VEVENT
DTSTART;TZID=America/Vancouver:20250117T193000
DTEND;TZID=America/Vancouver:20250117T220000
DTSTAMP:20260423T205904
CREATED:20241021T180508Z
LAST-MODIFIED:20250111T220234Z
UID:10439-1737142200-1737151200@www.wkartscouncil.com
SUMMARY:For the Love of Drag
DESCRIPTION:Get ready\, Nelson! “For the Love of Drag” is coming\, and it’s set to be a night of glitz\, glamour\, and unforgettable entertainment. This show promises to be bigger and better than ever\, featuring a lineup of the most dazzling drag queens and kings from across British Columbia\, including Victoria and Vancouver. \nA longtime fan of the show\, Alex from the Yukon\, raves\, “For the Love of Drag is pure magic. The performances are electrifying\, and the energy is contagious. You leave feeling uplifted and inspired.” \nJoin us for an evening where artistry meets extravagance\, and every performance is a work of art. Our talented performers will dazzle you with high-energy\, show-stopping numbers that will leave you cheering for more. Whether you’re a die-hard fan of drag or new to the scene\, “For the Love of Drag” is an experience you won’t want to miss. \n19+ \nCapitol Theatre \nAdult: $28; Senio: $25.50; Under 30: $10 \n 
URL:https://www.wkartscouncil.com/event/for-the-love-of-drag/
LOCATION:The Capitol Theatre\, 421 Victoria Street\, Nelson\, British Columbia\, V1L 5R2\, Canada
CATEGORIES:Calendar,Community Events,LGBTQIA2S+,Live Performance
ATTACH;FMTTYPE=image/png:https://genexsites.s3.ca-west-1.amazonaws.com/05/wp-content/uploads/sites/26/2024/10/20180113/5-ZLZKti.tmp_.png
END:VEVENT
BEGIN:VEVENT
DTSTART;TZID=America/Vancouver:20250130T160000
DTEND;TZID=America/Vancouver:20250130T180000
DTSTAMP:20260423T205904
CREATED:20250106T182405Z
LAST-MODIFIED:20250111T220239Z
UID:11421-1738252800-1738260000@www.wkartscouncil.com
SUMMARY:Artist Trading Cards Workshop
DESCRIPTION:The Nelson Museum is launching a monthly drop-in workshop for artists of all ages and skill levels to create and trade art cards! Artist trading cards are miniature works of art specifically made to be freely traded. Created on 2.5 x 3.5-inch card stock using any medium\, ATCs encourage artistic experimentation\, creativity\, and community building rather than consumption.\n \nBlank cards\, art making materials\, and collage supplies will be available but feel free to bring your own. This FREE program is an all ages drop-in program that will be offered the last Thursday of the month. You can join one\, two\, or all three programs!
URL:https://www.wkartscouncil.com/event/artist-trading-cards-workshop/
LOCATION:Nelson Museum\, Archives & Gallery\, 502 Vernon Street\, Nelson\, V1L 4E7\, Canada
CATEGORIES:Calendar,Community Events,Kid Friendly,LGBTQIA2S+,Workshops
ATTACH;FMTTYPE=image/png:https://genexsites.s3.ca-west-1.amazonaws.com/05/wp-content/uploads/sites/26/2025/01/20175756/artist-trading-cards-insta-sm-KmLDDT.tmp_.png
ORGANIZER;CN="Nelson Museum%2C Archives &amp%3B Gallery":MAILTO:info@nelsonmuseum.ca
END:VEVENT
END:VCALENDAR