
BEGIN:VCALENDAR
VERSION:2.0
PRODID:-//West Kootenay Regional Arts Council - ECPv6.15.20//NONSGML v1.0//EN
CALSCALE:GREGORIAN
METHOD:PUBLISH
X-ORIGINAL-URL:https://www.wkartscouncil.com
X-WR-CALDESC:Events for West Kootenay Regional Arts Council
REFRESH-INTERVAL;VALUE=DURATION:PT1H
X-Robots-Tag:noindex
X-PUBLISHED-TTL:PT1H
BEGIN:VTIMEZONE
TZID:America/Vancouver
BEGIN:DAYLIGHT
TZOFFSETFROM:-0800
TZOFFSETTO:-0700
TZNAME:PDT
DTSTART:20230312T100000
END:DAYLIGHT
BEGIN:STANDARD
TZOFFSETFROM:-0700
TZOFFSETTO:-0800
TZNAME:PST
DTSTART:20231105T090000
END:STANDARD
BEGIN:DAYLIGHT
TZOFFSETFROM:-0800
TZOFFSETTO:-0700
TZNAME:PDT
DTSTART:20240310T100000
END:DAYLIGHT
BEGIN:STANDARD
TZOFFSETFROM:-0700
TZOFFSETTO:-0800
TZNAME:PST
DTSTART:20241103T090000
END:STANDARD
BEGIN:DAYLIGHT
TZOFFSETFROM:-0800
TZOFFSETTO:-0700
TZNAME:PDT
DTSTART:20250309T100000
END:DAYLIGHT
BEGIN:STANDARD
TZOFFSETFROM:-0700
TZOFFSETTO:-0800
TZNAME:PST
DTSTART:20251102T090000
END:STANDARD
END:VTIMEZONE
BEGIN:VEVENT
DTSTART;TZID=America/Vancouver:20241107T193000
DTEND;TZID=America/Vancouver:20241107T210000
DTSTAMP:20260424T025105
CREATED:20240926T173518Z
LAST-MODIFIED:20241001T191745Z
UID:10093-1731007800-1731013200@www.wkartscouncil.com
SUMMARY:Nelson Sketch Comedy Revue
DESCRIPTION:Really Cool Productions proudly presents ‘The Nelson Sketch Comedy Revue\,’ an extraordinary comedy showcase at the Capitol Theatre. Directed by Michelle Hart\, this 95-minute spectacle is a celebration of Nelson’s unique humour. With Really Cool Productions reputation for sold-out shows (’20/40′ and ‘The Top Secret Improv Comedy Show’) and rave reviews\, it promises to be an unforgettable night of laughter and entertainment.
URL:https://www.wkartscouncil.com/event/nelson-sketch-comedy-revue-2/
LOCATION:The Capitol Theatre\, 421 Victoria Street\, Nelson\, British Columbia\, V1L 5R2\, Canada
CATEGORIES:Calendar,Community Events,LGBTQIA2S+,Live Performance
ATTACH;FMTTYPE=image/png:https://genexsites.s3.ca-west-1.amazonaws.com/05/wp-content/uploads/sites/26/2024/09/20180224/Copy-of-NSCR-Insta-Tile-1-1p8au9.tmp_.png
END:VEVENT
BEGIN:VEVENT
DTSTART;TZID=America/Vancouver:20241109T193000
DTEND;TZID=America/Vancouver:20241109T220000
DTSTAMP:20260424T025105
CREATED:20241009T013323Z
LAST-MODIFIED:20241110T003302Z
UID:10316-1731180600-1731189600@www.wkartscouncil.com
SUMMARY:Ivan Coyote: Playlist
DESCRIPTION:“Coyote ought to be recognized as one of Canada’s great humorists\, although often the stories are the laughing-through-tears variety. A lot of grit and a lot of heart.”\nGlobe and Mail\nJade Colbert \nDo you still remember every word of every song that ever changed your life? Writer and performer Ivan Coyote has crafted a playlist of stories that sing to us about how they managed to discover a coded but very possible queer future hidden in the music coming out of the AM radio in the kitchen\, lurking in their parent’s record collection\, and leaking out of the lyrics in their elementary school musical. \nAdult: $28; Senior: $25.50; Under 30: $10 \nAge. 14+. Some sexual content.
URL:https://www.wkartscouncil.com/event/ivan-coyote-playlist/
LOCATION:The Capitol Theatre\, 421 Victoria Street\, Nelson\, British Columbia\, V1L 5R2\, Canada
CATEGORIES:Calendar,Community Events,LGBTQIA2S+,Live Performance
ATTACH;FMTTYPE=image/png:https://genexsites.s3.ca-west-1.amazonaws.com/05/wp-content/uploads/sites/26/2024/10/20180138/18-1-2bLfzR.tmp_.png
END:VEVENT
END:VCALENDAR