
BEGIN:VCALENDAR
VERSION:2.0
PRODID:-//West Kootenay Regional Arts Council - ECPv6.15.20//NONSGML v1.0//EN
CALSCALE:GREGORIAN
METHOD:PUBLISH
X-ORIGINAL-URL:https://www.wkartscouncil.com
X-WR-CALDESC:Events for West Kootenay Regional Arts Council
REFRESH-INTERVAL;VALUE=DURATION:PT1H
X-Robots-Tag:noindex
X-PUBLISHED-TTL:PT1H
BEGIN:VTIMEZONE
TZID:America/Vancouver
BEGIN:DAYLIGHT
TZOFFSETFROM:-0800
TZOFFSETTO:-0700
TZNAME:PDT
DTSTART:20250309T100000
END:DAYLIGHT
BEGIN:STANDARD
TZOFFSETFROM:-0700
TZOFFSETTO:-0800
TZNAME:PST
DTSTART:20251102T090000
END:STANDARD
BEGIN:DAYLIGHT
TZOFFSETFROM:-0800
TZOFFSETTO:-0700
TZNAME:PDT
DTSTART:20260308T100000
END:DAYLIGHT
BEGIN:STANDARD
TZOFFSETFROM:-0700
TZOFFSETTO:-0800
TZNAME:PST
DTSTART:20261101T090000
END:STANDARD
BEGIN:DAYLIGHT
TZOFFSETFROM:-0800
TZOFFSETTO:-0700
TZNAME:PDT
DTSTART:20270314T100000
END:DAYLIGHT
BEGIN:STANDARD
TZOFFSETFROM:-0700
TZOFFSETTO:-0800
TZNAME:PST
DTSTART:20271107T090000
END:STANDARD
END:VTIMEZONE
BEGIN:VEVENT
DTSTART;TZID=America/Vancouver:20260415T190000
DTEND;TZID=America/Vancouver:20260415T210000
DTSTAMP:20260424T064746
CREATED:20260411T020312Z
LAST-MODIFIED:20260411T020312Z
UID:27152-1776279600-1776286800@www.wkartscouncil.com
SUMMARY:Creston - CanFilmDay free movie screening: YOUNGBLOOD
DESCRIPTION:National Canadian Film Day (CanFilmDay) is a massive\, coast-to-coast-to-coast salute to Canadian cinema! Launched in 2014\, CanFilmDay has brought together hundreds of thousands of Canadians\, to celebrate our stories and the incredible achievements of our filmmakers. \nThe Creston Valley Public Library is participating again for our fourth annual free film screening in conjunction with National Canadian Film Day. \nJoin us on Wednesday\, April 15th at 7pm for a free screening of the Canadian film YOUNGBLOOD\, directed by Hubert Davis\, starring Shawn Doyle\, Ashton James\, and Blair Underwood. \n“Dean Youngblood\, a top hockey prospect in the minor leagues\, faces the prospect of his career ending early when he’s suspended for an on-ice incident. Given a new chance on a new team\, he has to face his aggression head-on to get back on track and lead his team to a championship. \nDrawing inspiration from the 80s cult classic of the same name\, Director Hubert Davis expertly captures the drama both on and off the ice\, with incredible performances and exhilarating hockey sequences.” \n“In an age when sports movies often feel either overly sentimental or clumsily macho\, ‘Youngblood’ finds a refreshing sweet spot that’s emotionally intelligent\, grounded\, and deeply human.” — Louisa Moore\, Screen Zealots \nFree to attend\, all are welcome.\nfree popcorn! \nthis movie is rated PG.
URL:https://www.wkartscouncil.com/event/creston-free-movie-youngblood/
LOCATION:Creston Valley Public Library\, 531 16 Ave S\, Creston\, BC\, V0B 1G5
CATEGORIES:Art,Calendar,Community Events,Film,Kid Friendly,Sports
ATTACH;FMTTYPE=image/jpeg:https://genexsites.s3.ca-west-1.amazonaws.com/05/wp-content/uploads/sites/26/2026/04/10190029/National-canadian-film-day-youngblood.jpg
ORGANIZER;CN="Creston Valley Public Library":MAILTO:programs@crestonlibrary.com
END:VEVENT
BEGIN:VEVENT
DTSTART;TZID=America/Vancouver:20260424T180000
DTEND;TZID=America/Vancouver:20260424T190500
DTSTAMP:20260424T064747
CREATED:20260414T053354Z
LAST-MODIFIED:20260424T130043Z
UID:23989-1777053600-1777057500@www.wkartscouncil.com
SUMMARY:Trail - Circus Incognitus: Jamie Adkins
DESCRIPTION:The Trail & District Arts Council and Rossland Council for Arts and Culture present Circus Incognitus\, a one-man circus comedy show from Jamie Adkins for kids aged 4 – 17\,  their families and the young at heart to enjoy together. The show is on Friday April 24 at 6:00 pm in The Bailey Theatre as part of the TECK Family Series. \nAn unforgettable\, moving and hilarious show from Jamie Adkins\, a performer in the vaudeville tradition of Charlie Chaplin and Buster Keaton. With no hi-tech distractions\, he heroically battles with everyday objects\, always on the verge of disaster. The story of a man who tries\, but fails\, to tell us something!  \nA story told with touching humor\, witty tomfoolery\, and acrobatic exploits both on the ground and on the slack rope! Enchanter of almost nothing\, juggler of almost everything\, Jamie Adkins performs astonishing and wacky acrobatic circus feats. All the while engaging the audience without dialogue but only with sounds and gestures. \nWatch the trailer https://vimeo.com/72838781?share=copy. \n“His spontaneous improvisation and sensitivity to his audience make each performance unique. […] Adkins is a master of comic timing who seems to be having as much fun as his audience.” – Chronicle Telegraph \n“Contagious madness. […] Interaction with the young audience is the driving force behind this show. With his friendly face and funny acts…Circus Incognitus is a show for the whole family. Everyone will find something for them\, from the youngest to the parents. It’s fun\, entertaining and it’s timely.” – carrefourdequebec.com \nCircus Incognitus is a pure marvel that chases away all the gray clouds in the sky to explode with joy and light up stars in your eyes. It’s brilliant\, there are no other words.” – Le Soleil (Quebec) \nShow 65 minutes. \nRecognized as one of the most talented contemporary circus artists in Canada\, Jamie Adkins has performed Circus Incognitus over 1\,200 times across 27 countries and continues to captivate audiences with his unique blend of skill and humour.  \n“Here is a clown who transforms the trivial into the marvelous\, the banal into the extraordinary and the everyday into a fairy tale.” — Les Inrockuptibles (France) \nA renowned acrobat\, juggler\, and magnificent clown\, Jamie Adkins began his career at 13 as a street performer in his San Diego neighborhood\, where he delighted pedestrians. Later\, in San Francisco\, he continued his apprenticeship at the Pickle Family Circus. Now a Canadian citizen living in Quebec\, he is a former member of Cirque du Soleil and Cirque Éloize\, and distinguishes himself with his unique style that faithfully and humorously conveys the essence of the ordinary man. \nSingle tickets are $18 or get tickets to all 4 Family Series shows for just $60. General admission seating so get to the theatre early for the best seats. \nAll individual tickets and passes are available online at purchase.trail-arts.com\, by phone at 250-368-9669\, and in person at the Bailey Box Office at 1501 Cedar Ave.\, Trail. 
URL:https://www.wkartscouncil.com/event/circus-incognitus/
LOCATION:Bailey Theatre\, 1501 Cedar Ave.\, Trail\, BC
CATEGORIES:Calendar,Kid Friendly,Live Performance
ATTACH;FMTTYPE=image/jpeg:https://genexsites.s3.ca-west-1.amazonaws.com/05/wp-content/uploads/sites/26/2026/04/07124244/8b4702ca-6e2e-4882-9042-da86aebf6fe5-D7IN9c.jpg
ORGANIZER;CN="Trail &#038%3B District Arts Council":MAILTO:info@trail-arts.com
END:VEVENT
BEGIN:VEVENT
DTSTART;VALUE=DATE:20260501
DTEND;VALUE=DATE:20260504
DTSTAMP:20260424T064747
CREATED:20260414T050049Z
LAST-MODIFIED:20260414T050049Z
UID:27312-1777593600-1777852799@www.wkartscouncil.com
SUMMARY:Nelson - Kootenay Circus Arts Festival
DESCRIPTION:🎪 Kootenay Circus Arts Festival 2026 🎪 \nJoin us in Nelson\, BC for a weekend of circus\, creativity\, and community at the Kootenay Circus Arts Festival (KCAF) presented by Boundless Arts & Events.\nWorkshops are open to all ages and all experience levels — from complete beginners to experienced circus artists. Come try something new\, learn from inspiring instructors\, and connect with the circus community!\nFestival Schedule \n🌍 April 30 – Earth Day Collaboration Event\nAt the Nelson Youth Centre\n• Community film screening of Wild Aerial and Embers by aerial filmmaker Sasha Galitzki \n🤸 May 1–3 – Circus Workshops\n• Workshops for kids\, teens\, and adults\n• Classes for all levels\n• A chance to try aerials\, movement\, and circus skills in a welcoming environment \n🎭 May 2 – Saturday Night Cabaret\nA high-energy showcase featuring incredible circus performances. \n✨ Everyone is welcome — come try circus!
URL:https://www.wkartscouncil.com/event/kootenay-circus-arts-fest/
LOCATION:Discover Circus\, 330 Baker St. Suite 302\, Nelson\, BC\, V1L 4H5\, Canada
CATEGORIES:Art,Calendar,Film,Kid Friendly,LGBTQIA2S+,Live Performance,Markets/Festival,Workshops
ATTACH;FMTTYPE=image/jpeg:https://genexsites.s3.ca-west-1.amazonaws.com/05/wp-content/uploads/sites/26/2026/04/13215516/kootenay-circus-arts-.jpg
ORGANIZER;CN="Boundless Arts & Events":MAILTO:info@boundlessarts.ca
END:VEVENT
BEGIN:VEVENT
DTSTART;TZID=America/Vancouver:20260509T110000
DTEND;TZID=America/Vancouver:20260509T160000
DTSTAMP:20260424T064747
CREATED:20260421T212327Z
LAST-MODIFIED:20260421T212438Z
UID:27691-1778324400-1778342400@www.wkartscouncil.com
SUMMARY:Argenta - Lardeau Valley Community-Wide Garage Sale
DESCRIPTION:At Argenta Community Hall\, 1024 Argenta Johnsons Landing Road \nFree to attend! \nBring cash for shopping. \nWant to sell your stuff? We are accepting vendors —  please use the contact below if you are interested: \nLardeau Valley LINKS\nlinks@lardeauvalley.ca\n250-353-8675 \n 
URL:https://www.wkartscouncil.com/event/lardeau-community-garage-sale/
LOCATION:Argenta Community Hall\, 1024 Argenta Rd\, Argenta .\, British Columbia\, V0G1B0\, Canada
CATEGORIES:Art,Calendar,Community Events,Food/Beverage,Kid Friendly,Markets/Festival
ATTACH;FMTTYPE=image/jpeg:https://genexsites.s3.ca-west-1.amazonaws.com/05/wp-content/uploads/sites/26/2026/04/21141444/lardeau-community-garage-sale-2-scaled.jpg
ORGANIZER;CN="Lardeau Valley Opportunity Links Society":MAILTO:links@lardeauvalley.ca
END:VEVENT
END:VCALENDAR