
BEGIN:VCALENDAR
VERSION:2.0
PRODID:-//West Kootenay Regional Arts Council - ECPv6.15.20//NONSGML v1.0//EN
CALSCALE:GREGORIAN
METHOD:PUBLISH
X-WR-CALNAME:West Kootenay Regional Arts Council
X-ORIGINAL-URL:https://www.wkartscouncil.com
X-WR-CALDESC:Events for West Kootenay Regional Arts Council
REFRESH-INTERVAL;VALUE=DURATION:PT1H
X-Robots-Tag:noindex
X-PUBLISHED-TTL:PT1H
BEGIN:VTIMEZONE
TZID:America/Edmonton
BEGIN:DAYLIGHT
TZOFFSETFROM:-0700
TZOFFSETTO:-0600
TZNAME:MDT
DTSTART:20240310T090000
END:DAYLIGHT
BEGIN:STANDARD
TZOFFSETFROM:-0600
TZOFFSETTO:-0700
TZNAME:MST
DTSTART:20241103T080000
END:STANDARD
BEGIN:DAYLIGHT
TZOFFSETFROM:-0700
TZOFFSETTO:-0600
TZNAME:MDT
DTSTART:20250309T090000
END:DAYLIGHT
BEGIN:STANDARD
TZOFFSETFROM:-0600
TZOFFSETTO:-0700
TZNAME:MST
DTSTART:20251102T080000
END:STANDARD
BEGIN:DAYLIGHT
TZOFFSETFROM:-0700
TZOFFSETTO:-0600
TZNAME:MDT
DTSTART:20260308T090000
END:DAYLIGHT
BEGIN:STANDARD
TZOFFSETFROM:-0600
TZOFFSETTO:-0700
TZNAME:MST
DTSTART:20261101T080000
END:STANDARD
END:VTIMEZONE
BEGIN:VTIMEZONE
TZID:America/Vancouver
BEGIN:DAYLIGHT
TZOFFSETFROM:-0800
TZOFFSETTO:-0700
TZNAME:PDT
DTSTART:20240310T100000
END:DAYLIGHT
BEGIN:STANDARD
TZOFFSETFROM:-0700
TZOFFSETTO:-0800
TZNAME:PST
DTSTART:20241103T090000
END:STANDARD
BEGIN:DAYLIGHT
TZOFFSETFROM:-0800
TZOFFSETTO:-0700
TZNAME:PDT
DTSTART:20250309T100000
END:DAYLIGHT
BEGIN:STANDARD
TZOFFSETFROM:-0700
TZOFFSETTO:-0800
TZNAME:PST
DTSTART:20251102T090000
END:STANDARD
BEGIN:DAYLIGHT
TZOFFSETFROM:-0800
TZOFFSETTO:-0700
TZNAME:PDT
DTSTART:20260308T100000
END:DAYLIGHT
BEGIN:STANDARD
TZOFFSETFROM:-0700
TZOFFSETTO:-0800
TZNAME:PST
DTSTART:20261101T090000
END:STANDARD
END:VTIMEZONE
BEGIN:VEVENT
DTSTART;TZID=America/Edmonton:20251210T180000
DTEND;TZID=America/Edmonton:20251210T200000
DTSTAMP:20260424T044946
CREATED:20251203T024704Z
LAST-MODIFIED:20251203T024951Z
UID:21587-1765389600-1765396800@www.wkartscouncil.com
SUMMARY:Second Winds Community Band Holiday Concert in Invermere
DESCRIPTION:Second Winds Community Band is performing live at the Columbia Valley Centre on December 10th! Doors: 6 pm\, show @ 7 pm.\nFREE entry with donations to The Christmas Bureau of the Columbia Valley & Columbia Valley Food Bank will be gratefully accepted. Cash concession run by Bright New Minds Childcare Society.\nPresented by the District of Invermere. Enjoy an evening of festive music while supporting wonderful local causes. See you there!
URL:https://www.wkartscouncil.com/event/second-winds-community-band-holiday-concert/
LOCATION:Columbia Valley Centre\, 646 4 Street\, Invermere\, BC\, V0A 1K0
CATEGORIES:Calendar,Community Events,Kid Friendly,Live Performance
ATTACH;FMTTYPE=image/png:https://genexsites.s3.ca-west-1.amazonaws.com/05/wp-content/uploads/sites/26/2025/12/02184644/second-winds-holiday-concert.png
END:VEVENT
BEGIN:VEVENT
DTSTART;TZID=America/Vancouver:20251210T183000
DTEND;TZID=America/Vancouver:20251210T210000
DTSTAMP:20260424T044946
CREATED:20251203T214329Z
LAST-MODIFIED:20251203T214414Z
UID:21614-1765391400-1765400400@www.wkartscouncil.com
SUMMARY:Trail Rotary Club Christmas Carol Concert
DESCRIPTION:Trail Rotary Clubs Annual Christmas Carol Concert is back December 10th at the Charles Bailey Theatre \nDoors at 6:30\, show starts at 7:00 \nEntry is by donation and all proceeds go to the Trail Salvation Army Christmas Food Hamper
URL:https://www.wkartscouncil.com/event/rotary-christmas-carol-concert-in-trail/
LOCATION:Charles Bailey Theatre\, 1501 Cedar Ave\, Trail\, British Columbia\, V1R 4C7\, Canada
CATEGORIES:Calendar,Community Events,Kid Friendly,Live Performance
ATTACH;FMTTYPE=image/jpeg:https://genexsites.s3.ca-west-1.amazonaws.com/05/wp-content/uploads/sites/26/2025/12/03134316/trail-rotary-christmas-concert-scaled.jpg
END:VEVENT
END:VCALENDAR