
BEGIN:VCALENDAR
VERSION:2.0
PRODID:-//West Kootenay Regional Arts Council - ECPv6.15.20//NONSGML v1.0//EN
CALSCALE:GREGORIAN
METHOD:PUBLISH
X-ORIGINAL-URL:https://www.wkartscouncil.com
X-WR-CALDESC:Events for West Kootenay Regional Arts Council
REFRESH-INTERVAL;VALUE=DURATION:PT1H
X-Robots-Tag:noindex
X-PUBLISHED-TTL:PT1H
BEGIN:VTIMEZONE
TZID:America/Vancouver
BEGIN:DAYLIGHT
TZOFFSETFROM:-0800
TZOFFSETTO:-0700
TZNAME:PDT
DTSTART:20240310T100000
END:DAYLIGHT
BEGIN:STANDARD
TZOFFSETFROM:-0700
TZOFFSETTO:-0800
TZNAME:PST
DTSTART:20241103T090000
END:STANDARD
BEGIN:DAYLIGHT
TZOFFSETFROM:-0800
TZOFFSETTO:-0700
TZNAME:PDT
DTSTART:20250309T100000
END:DAYLIGHT
BEGIN:STANDARD
TZOFFSETFROM:-0700
TZOFFSETTO:-0800
TZNAME:PST
DTSTART:20251102T090000
END:STANDARD
BEGIN:DAYLIGHT
TZOFFSETFROM:-0800
TZOFFSETTO:-0700
TZNAME:PDT
DTSTART:20260308T100000
END:DAYLIGHT
BEGIN:STANDARD
TZOFFSETFROM:-0700
TZOFFSETTO:-0800
TZNAME:PST
DTSTART:20261101T090000
END:STANDARD
END:VTIMEZONE
BEGIN:VEVENT
DTSTART;TZID=America/Vancouver:20250823T110000
DTEND;TZID=America/Vancouver:20250823T120000
DTSTAMP:20260424T153642
CREATED:20250527T011949Z
LAST-MODIFIED:20250824T005453Z
UID:15468-1755946800-1755950400@www.wkartscouncil.com
SUMMARY:Saturday Bunker tours
DESCRIPTION:During the height of the Cold War\, in the 1950s and 1960s\, nearly 50 bunkers were constructed across Canada. In 2017\, the Nelson Museum began work on restoring the space and opening it to the public. You can join a tour of one of the Museumʼs best-loved spaces!\n\nFrom iodine pills and Geiger counters to board games and ashtrays\, visitors get a glimpse of the vast measures taken to create normalcy in an extraordinary time.\n\nClick on the link to register. Adult admission required – children under 19 are always free! (https://form-can.keela.co/bunker-tours)
URL:https://www.wkartscouncil.com/event/guided-cold-war-bunker-tours-94/
LOCATION:Nelson Museum\, Archives & Gallery\, 502 Vernon Street\, Nelson\, V1L 4E7\, Canada
CATEGORIES:Calendar,Community Events,Kid Friendly
ATTACH;FMTTYPE=image/jpeg:https://genexsites.s3.ca-west-1.amazonaws.com/05/wp-content/uploads/sites/26/2023/09/20182335/17-UdtcgC.tmp_.jpg
ORGANIZER;CN="Nelson Museum%2C Archives &amp%3B Gallery":MAILTO:info@nelsonmuseum.ca
END:VEVENT
BEGIN:VEVENT
DTSTART;TZID=America/Vancouver:20250823T190000
DTEND;TZID=America/Vancouver:20250823T230000
DTSTAMP:20260424T153642
CREATED:20250604T184628Z
LAST-MODIFIED:20250824T005453Z
UID:16292-1755975600-1755990000@www.wkartscouncil.com
SUMMARY:Bella Cat on Soul’s Paradise Beach
DESCRIPTION:Enjoy an outdoor music event in Kootenay Bay; Bella Cat Band will be performing on Soul’s Paradise Beach.\nPark on Pilot Bay Road\nBring your chairs & drinks.\nBook a campsite with Valéry if you want to spend the weekend with us: Text: 250-201-9441\n$31.50 with GST
URL:https://www.wkartscouncil.com/event/bella-cat-on-souls-paradise-beach/
LOCATION:Soul’s Paradise\, 16961 Pilot Bay Road\, Kootenay Bay\, BC\, Canada
CATEGORIES:Calendar,Kid Friendly,Live Performance,Markets/Festival
ATTACH;FMTTYPE=image/jpeg:https://genexsites.s3.ca-west-1.amazonaws.com/05/wp-content/uploads/sites/26/2025/06/20174551/2-copy-U9GEOJ.jpg
END:VEVENT
END:VCALENDAR