
BEGIN:VCALENDAR
VERSION:2.0
PRODID:-//West Kootenay Regional Arts Council - ECPv6.15.20//NONSGML v1.0//EN
CALSCALE:GREGORIAN
METHOD:PUBLISH
X-WR-CALNAME:West Kootenay Regional Arts Council
X-ORIGINAL-URL:https://www.wkartscouncil.com
X-WR-CALDESC:Events for West Kootenay Regional Arts Council
REFRESH-INTERVAL;VALUE=DURATION:PT1H
X-Robots-Tag:noindex
X-PUBLISHED-TTL:PT1H
BEGIN:VTIMEZONE
TZID:America/Vancouver
BEGIN:DAYLIGHT
TZOFFSETFROM:-0800
TZOFFSETTO:-0700
TZNAME:PDT
DTSTART:20240310T100000
END:DAYLIGHT
BEGIN:STANDARD
TZOFFSETFROM:-0700
TZOFFSETTO:-0800
TZNAME:PST
DTSTART:20241103T090000
END:STANDARD
BEGIN:DAYLIGHT
TZOFFSETFROM:-0800
TZOFFSETTO:-0700
TZNAME:PDT
DTSTART:20250309T100000
END:DAYLIGHT
BEGIN:STANDARD
TZOFFSETFROM:-0700
TZOFFSETTO:-0800
TZNAME:PST
DTSTART:20251102T090000
END:STANDARD
BEGIN:DAYLIGHT
TZOFFSETFROM:-0800
TZOFFSETTO:-0700
TZNAME:PDT
DTSTART:20260308T100000
END:DAYLIGHT
BEGIN:STANDARD
TZOFFSETFROM:-0700
TZOFFSETTO:-0800
TZNAME:PST
DTSTART:20261101T090000
END:STANDARD
END:VTIMEZONE
BEGIN:VEVENT
DTSTART;TZID=America/Vancouver:20250612T160000
DTEND;TZID=America/Vancouver:20250612T200000
DTSTAMP:20260424T184355
CREATED:20250317T163800Z
LAST-MODIFIED:20250612T234713Z
UID:13060-1749744000-1749758400@www.wkartscouncil.com
SUMMARY:Summer Lovin’ FREE Thursdays
DESCRIPTION:Come on down to the Nelson Museum on Thursday evenings\, where you can visit the galleries\, museum\, and shop for FREE. 4-8pm every Thursday.
URL:https://www.wkartscouncil.com/event/spring-fling-free-thursdays-15/
LOCATION:Nelson Museum\, Archives & Gallery\, 502 Vernon Street\, Nelson\, V1L 4E7\, Canada
CATEGORIES:Art,Calendar,Kid Friendly
ATTACH;FMTTYPE=image/png:https://genexsites.s3.ca-west-1.amazonaws.com/05/wp-content/uploads/sites/26/2025/06/20174552/summer-lovin-insta-FLsxqR.png
ORGANIZER;CN="Nelson Museum%2C Archives &amp%3B Gallery":MAILTO:info@nelsonmuseum.ca
END:VEVENT
BEGIN:VEVENT
DTSTART;TZID=America/Vancouver:20250612T200000
DTEND;TZID=America/Vancouver:20250612T233000
DTSTAMP:20260424T184355
CREATED:20250531T014002Z
LAST-MODIFIED:20250612T234729Z
UID:15632-1749758400-1749771000@www.wkartscouncil.com
SUMMARY:Haters (Aus)\, Laughing Sickness\, Favric Softener Live At NDYC
DESCRIPTION:Noise Cult Productions Presents: \nTickets available May 19th \nAll Ages Skate & Punk \nHaters (Australia) \nhttps://haters.love/ \nLaughing Sickness \nhttps://laughingsickness.bandcamp.com/album/infection \nFabric Softener \nhttps://www.instagram.com/fabricsoftenerband/ \n$10 Youth Presale \n$15 General Presale \nTickets available at Gaia Metaphysical Collective and from Noise Cult Productions \n8pm doors \nSkate Park Open & Encouraged For Use \nSponsored by Gaia Metaphysical\, Baddie Tattoos\, Vivid Abyss Piercings
URL:https://www.wkartscouncil.com/event/haters-aus-laughing-sickness-favric-softener-live-at-ndyc/
LOCATION:Nelson and District Youth Centre\, 608 Lake Street\, Nelson\, British Columbia\, V1L 4C8\, Canada
CATEGORIES:Calendar,Kid Friendly,Live Performance
ATTACH;FMTTYPE=image/jpeg:https://genexsites.s3.ca-west-1.amazonaws.com/05/wp-content/uploads/sites/26/2025/05/20175246/haters-Reu1lY.jpg
ORGANIZER;CN="Noise Cult Productions":MAILTO:thenelsonnoise@gmail.com
END:VEVENT
END:VCALENDAR