
BEGIN:VCALENDAR
VERSION:2.0
PRODID:-//West Kootenay Regional Arts Council - ECPv6.15.20//NONSGML v1.0//EN
CALSCALE:GREGORIAN
METHOD:PUBLISH
X-WR-CALNAME:West Kootenay Regional Arts Council
X-ORIGINAL-URL:https://www.wkartscouncil.com
X-WR-CALDESC:Events for West Kootenay Regional Arts Council
REFRESH-INTERVAL;VALUE=DURATION:PT1H
X-Robots-Tag:noindex
X-PUBLISHED-TTL:PT1H
BEGIN:VTIMEZONE
TZID:America/Vancouver
BEGIN:DAYLIGHT
TZOFFSETFROM:-0800
TZOFFSETTO:-0700
TZNAME:PDT
DTSTART:20240310T100000
END:DAYLIGHT
BEGIN:STANDARD
TZOFFSETFROM:-0700
TZOFFSETTO:-0800
TZNAME:PST
DTSTART:20241103T090000
END:STANDARD
BEGIN:DAYLIGHT
TZOFFSETFROM:-0800
TZOFFSETTO:-0700
TZNAME:PDT
DTSTART:20250309T100000
END:DAYLIGHT
BEGIN:STANDARD
TZOFFSETFROM:-0700
TZOFFSETTO:-0800
TZNAME:PST
DTSTART:20251102T090000
END:STANDARD
BEGIN:DAYLIGHT
TZOFFSETFROM:-0800
TZOFFSETTO:-0700
TZNAME:PDT
DTSTART:20260308T100000
END:DAYLIGHT
BEGIN:STANDARD
TZOFFSETFROM:-0700
TZOFFSETTO:-0800
TZNAME:PST
DTSTART:20261101T090000
END:STANDARD
END:VTIMEZONE
BEGIN:VEVENT
DTSTART;TZID=America/Vancouver:20250524T110000
DTEND;TZID=America/Vancouver:20250524T120000
DTSTAMP:20260425T102710
CREATED:20250224T235517Z
LAST-MODIFIED:20250525T004707Z
UID:12314-1748084400-1748088000@www.wkartscouncil.com
SUMMARY:Guided Cold War Bunker tours
DESCRIPTION:During the height of the Cold War\, in the 1950s and 1960s\, nearly 50 bunkers were constructed across Canada. In 2017\, the Nelson Museum began work on restoring the space and opening it to the public. You can join a tour of one of the Museumʼs best-loved spaces! \nFrom iodine pills and Geiger counters to board games and ashtrays\, visitors get a glimpse of the vast measures taken to create normalcy in an extraordinary time. \nEmail info@nelsonmuseum.ca to register. Adult admission required – children under 18 are always free!
URL:https://www.wkartscouncil.com/event/guided-cold-war-bunker-tours-81/
LOCATION:Nelson Museum\, Archives & Gallery\, 502 Vernon Street\, Nelson\, V1L 4E7\, Canada
CATEGORIES:Calendar,Community Events,Kid Friendly
ATTACH;FMTTYPE=image/jpeg:https://genexsites.s3.ca-west-1.amazonaws.com/05/wp-content/uploads/sites/26/2023/09/20182335/17-UdtcgC.tmp_.jpg
ORGANIZER;CN="Nelson Museum%2C Archives &amp%3B Gallery":MAILTO:info@nelsonmuseum.ca
END:VEVENT
BEGIN:VEVENT
DTSTART;TZID=America/Vancouver:20250524T130000
DTEND;TZID=America/Vancouver:20250524T190000
DTSTAMP:20260425T102710
CREATED:20250428T204958Z
LAST-MODIFIED:20250525T004708Z
UID:14471-1748091600-1748113200@www.wkartscouncil.com
SUMMARY:KCR Block Party at Lion’s Park
DESCRIPTION:Get ready for a free\, inclusive celebration of community\, culture\, and creativity right here in Nelson! \nThis year’s Block Party will be packed with live music\, kids’ activities\, sports\, and nonstop entertainment. Catch amazing performances by talented youth from the Kootenay Garage Band\, plus sets by Paris Pick and her band\, Snakes and Horses\, and Jayne with her backing band\, The Interbeings.\nDetails:\n– At Lion’s Park in Nelson from 1pm to 7pm\n– Bring chairs and sunbrella or tents for shade\n– Bring cash for 50/50 Koortenay Co-op Radio fundraiser! \nLocal nonprofits and co-ops will also be on-site\, sharing their incredible work and building community connections. Don’t miss it!
URL:https://www.wkartscouncil.com/event/kcr-block-party-at-lions-park/
LOCATION:Lions Park\, 298 Richards\, Nelson\, BC\, V1L 5J7\, Canada
CATEGORIES:Calendar,Community Events,Food/Beverage,Kid Friendly,Live Performance
ATTACH;FMTTYPE=image/png:https://genexsites.s3.ca-west-1.amazonaws.com/05/wp-content/uploads/sites/26/2025/04/20175336/Block-Party-kootenay-calendar-ZQLhMI.png
ORGANIZER;CN="Kootenay Co-op Radio":MAILTO:info@kootenaycoopradio.com
END:VEVENT
BEGIN:VEVENT
DTSTART;TZID=America/Vancouver:20250524T190000
DTEND;TZID=America/Vancouver:20250524T220000
DTSTAMP:20260425T102710
CREATED:20250508T215931Z
LAST-MODIFIED:20250525T004708Z
UID:14962-1748113200-1748124000@www.wkartscouncil.com
SUMMARY:Electrojazziness – An Interactive Improvised Concert (Kaslo)
DESCRIPTION:Electrojazziness is a 100% improvised duo featuring the amazing Montreal-based jazz piano maestro Alex McNally and the Nelson-based live-music-production-wizard and freestyle rapper thisissami.\n\nThese two life-long improvisers come from completely different music backgrounds\, yet their journeys intertwined last summer with the development of this jazz\, electronic\, and hip hop fusion project in Montreal parks. Their mad skills are now taking them on a 15-show tour across BC!\n\nThis evening will begin with a workshop at 7:15pm where you will get a chance to learn music production & performance techniques from these pros and collaborate with them. At 8:00pm\, we kick off an interactive concert where the audience will direct the music journey that will be weaved by Electrojazziness.
URL:https://www.wkartscouncil.com/event/electrojazziness-an-interactive-improvised-concert-kaslo/
LOCATION:The Langham\, 447 A Avenue\, Kaslo\, BC\, V0G 1M0\, Canada
CATEGORIES:Calendar,Community Events,Kid Friendly,Live Performance,Workshops
END:VEVENT
END:VCALENDAR