
BEGIN:VCALENDAR
VERSION:2.0
PRODID:-//West Kootenay Regional Arts Council - ECPv6.15.20//NONSGML v1.0//EN
CALSCALE:GREGORIAN
METHOD:PUBLISH
X-ORIGINAL-URL:https://www.wkartscouncil.com
X-WR-CALDESC:Events for West Kootenay Regional Arts Council
REFRESH-INTERVAL;VALUE=DURATION:PT1H
X-Robots-Tag:noindex
X-PUBLISHED-TTL:PT1H
BEGIN:VTIMEZONE
TZID:America/Vancouver
BEGIN:DAYLIGHT
TZOFFSETFROM:-0800
TZOFFSETTO:-0700
TZNAME:PDT
DTSTART:20240310T100000
END:DAYLIGHT
BEGIN:STANDARD
TZOFFSETFROM:-0700
TZOFFSETTO:-0800
TZNAME:PST
DTSTART:20241103T090000
END:STANDARD
BEGIN:DAYLIGHT
TZOFFSETFROM:-0800
TZOFFSETTO:-0700
TZNAME:PDT
DTSTART:20250309T100000
END:DAYLIGHT
BEGIN:STANDARD
TZOFFSETFROM:-0700
TZOFFSETTO:-0800
TZNAME:PST
DTSTART:20251102T090000
END:STANDARD
BEGIN:DAYLIGHT
TZOFFSETFROM:-0800
TZOFFSETTO:-0700
TZNAME:PDT
DTSTART:20260308T100000
END:DAYLIGHT
BEGIN:STANDARD
TZOFFSETFROM:-0700
TZOFFSETTO:-0800
TZNAME:PST
DTSTART:20261101T090000
END:STANDARD
END:VTIMEZONE
BEGIN:VEVENT
DTSTART;VALUE=DATE:20250517
DTEND;VALUE=DATE:20250520
DTSTAMP:20260425T090520
CREATED:20250505T191418Z
LAST-MODIFIED:20250518T000109Z
UID:14642-1747440000-1747699199@www.wkartscouncil.com
SUMMARY:Kaslo May Days
DESCRIPTION:The 2025 Festival will take place May 17 to May 19\, 2025. \nWhether you’re new to Kaslo\, a long-time local\, or back for a visit over the Victoria Day long weekend\, Kaslo May Days feels like coming home. May Days—a celebration of the return of summer—has been part of the fabric of this community since 1892. Every year\, for three glorious\, fun-filled days\, the Kaslo & Area Chamber of Commerce serves as its proud host and steward. \nDuring May Days\, dozens of arts and crafts vendors set up booths at Vimy Park to sell their wares alongside artisan food producers\, craft beer\, and other gourmet treats. The park’s Gazebo becomes a stage for Music in the Park\, with a foot-tapping\, finger-snapping lineup of live music performances throughout the weekend. In keeping with tradition\, local children enact the Maypole Dance\, which just so happens to be the longest consecutive annual Maypole Dance in North America.  And it’s not just the park—during May Days\, the entire village of Kaslo is abuzz with events and activities. \nLogger Sports is a marquis May Days tradition in Kaslo\, and a spectator favourite. Competitors travel here from all over the continent to vie for prizes at this spirited two-day event\, which features competitions in Tree Climbing\, Log Rolling\, Axe Throwing\, and Springboard Chopping. If you’re new to May Days\, we can pretty much guarantee you’ve never seen anything like this before! \nShow ‘n’ Shine has been a part of May Days for more than 25 years. Typically held on Sunday\, hundreds of unique cars—from 1900s antiques to rare sports car icons like the AC Cobra—can be seen lining the streets of Kaslo’s historic downtown.
URL:https://www.wkartscouncil.com/event/kaslo-may-days/
LOCATION:Downtown Kaslo\, Kaslo
CATEGORIES:Calendar,Community Events,Kid Friendly,Live Performance,Markets/Festival
ATTACH;FMTTYPE=image/png:https://genexsites.s3.ca-west-1.amazonaws.com/05/wp-content/uploads/sites/26/2025/05/20175330/May-Days-2025-Logo-with-Dates-D0DMwa.png
ORGANIZER;CN="Kaslo &amp%3B Area Chamber of Commerce":MAILTO:thekaslochamber@gmail.com
END:VEVENT
BEGIN:VEVENT
DTSTART;TZID=America/Vancouver:20250517T110000
DTEND;TZID=America/Vancouver:20250517T120000
DTSTAMP:20260425T090520
CREATED:20250218T190603Z
LAST-MODIFIED:20250518T000109Z
UID:12175-1747479600-1747483200@www.wkartscouncil.com
SUMMARY:Guided Cold War Bunker tours
DESCRIPTION:During the height of the Cold War\, in the 1950s and 1960s\, nearly 50 bunkers were constructed across Canada. In 2017\, the Nelson Museum began work on restoring the space and opening it to the public. You can join a tour of one of the Museumʼs best-loved spaces! \nFrom iodine pills and Geiger counters to board games and ashtrays\, visitors get a glimpse of the vast measures taken to create normalcy in an extraordinary time. \nEmail info@nelsonmuseum.ca to register. Adult admission required – children under 18 are always free!
URL:https://www.wkartscouncil.com/event/guided-cold-war-bunker-tours-75/
LOCATION:Nelson Museum\, Archives & Gallery\, 502 Vernon Street\, Nelson\, V1L 4E7\, Canada
CATEGORIES:Calendar,Community Events,Kid Friendly
ATTACH;FMTTYPE=image/jpeg:https://genexsites.s3.ca-west-1.amazonaws.com/05/wp-content/uploads/sites/26/2023/09/20182335/17-UdtcgC.tmp_.jpg
ORGANIZER;CN="Nelson Museum%2C Archives &amp%3B Gallery":MAILTO:info@nelsonmuseum.ca
END:VEVENT
BEGIN:VEVENT
DTSTART;TZID=America/Vancouver:20250517T110000
DTEND;TZID=America/Vancouver:20250517T170000
DTSTAMP:20260425T090520
CREATED:20250505T191418Z
LAST-MODIFIED:20250518T000110Z
UID:14644-1747479600-1747501200@www.wkartscouncil.com
SUMMARY:Kaslo May Days Logger Sports
DESCRIPTION:Logger Sports has become one of the main events at the annual Kaslo May Days Celebration. Competitors from across Canada and the United States compete for big prize money and the opportunity to show off their logging skills. \nThe venue is the shore of beautiful Kootenay Lake with its gorgeous backdrop of the Purcell Mountain Range. Our grounds are steadily being improved with beautiful amphitheater style seating and a new log rolling pond. \nEvery year on the Victoria Day long weekend spectators are thrilled by Canadian Championship events such as Tree Climbing\, Log Rolling\, Axe Throwing and Springboard Chopping to name a few. \n\n2025 Schedule\n\n 
URL:https://www.wkartscouncil.com/event/kaslo-may-days-logger-sports-2/
LOCATION:British Columbia
CATEGORIES:Calendar,Community Events,Kid Friendly,Live Performance,Markets/Festival,Sports
ATTACH;FMTTYPE=image/png:https://genexsites.s3.ca-west-1.amazonaws.com/05/wp-content/uploads/sites/26/2025/05/20175329/Screen-Shot-2025-05-01-at-8.49.08-AM-scaled-iFGka1.png
ORGANIZER;CN="Kaslo &amp%3B Area Chamber of Commerce":MAILTO:thekaslochamber@gmail.com
END:VEVENT
END:VCALENDAR