
BEGIN:VCALENDAR
VERSION:2.0
PRODID:-//West Kootenay Regional Arts Council - ECPv6.15.20//NONSGML v1.0//EN
CALSCALE:GREGORIAN
METHOD:PUBLISH
X-WR-CALNAME:West Kootenay Regional Arts Council
X-ORIGINAL-URL:https://www.wkartscouncil.com
X-WR-CALDESC:Events for West Kootenay Regional Arts Council
REFRESH-INTERVAL;VALUE=DURATION:PT1H
X-Robots-Tag:noindex
X-PUBLISHED-TTL:PT1H
BEGIN:VTIMEZONE
TZID:America/Vancouver
BEGIN:DAYLIGHT
TZOFFSETFROM:-0800
TZOFFSETTO:-0700
TZNAME:PDT
DTSTART:20240310T100000
END:DAYLIGHT
BEGIN:STANDARD
TZOFFSETFROM:-0700
TZOFFSETTO:-0800
TZNAME:PST
DTSTART:20241103T090000
END:STANDARD
BEGIN:DAYLIGHT
TZOFFSETFROM:-0800
TZOFFSETTO:-0700
TZNAME:PDT
DTSTART:20250309T100000
END:DAYLIGHT
BEGIN:STANDARD
TZOFFSETFROM:-0700
TZOFFSETTO:-0800
TZNAME:PST
DTSTART:20251102T090000
END:STANDARD
BEGIN:DAYLIGHT
TZOFFSETFROM:-0800
TZOFFSETTO:-0700
TZNAME:PDT
DTSTART:20260308T100000
END:DAYLIGHT
BEGIN:STANDARD
TZOFFSETFROM:-0700
TZOFFSETTO:-0800
TZNAME:PST
DTSTART:20261101T090000
END:STANDARD
END:VTIMEZONE
BEGIN:VEVENT
DTSTART;TZID=America/Vancouver:20250509T100000
DTEND;TZID=America/Vancouver:20250509T140000
DTSTAMP:20260425T040127
CREATED:20250505T191158Z
LAST-MODIFIED:20250510T001610Z
UID:14600-1746784800-1746799200@www.wkartscouncil.com
SUMMARY:Mother’s Day Pop-up Card workshop
DESCRIPTION:Nelson Museum Public Program Coordinator Stephanie Myers shows you tips and techniques for making your very own pop-up Mother’s Day card for the special people in your life! All the materials will be supplied. Pre-registration is required and space is limited. Fees for the workshop are $10+GST for non-members and $5+GST for Nelson Museum members\, which includes all materials needed. \nClick here to sign up for a Nelson Museum membership and save $5 today on your program registration!
URL:https://www.wkartscouncil.com/event/mothers-day-pop-up-card-workshop/
LOCATION:Nelson Museum\, Archives & Gallery\, 502 Vernon Street\, Nelson\, V1L 4E7\, Canada
CATEGORIES:Art,Calendar,Community Events,Kid Friendly,Workshops
ATTACH;FMTTYPE=image/png:https://genexsites.s3.ca-west-1.amazonaws.com/05/wp-content/uploads/sites/26/2025/04/20175334/mothers-day-card-workshop-insta-2-sm-99c8wY.png
ORGANIZER;CN="Nelson Museum%2C Archives &amp%3B Gallery":MAILTO:info@nelsonmuseum.ca
END:VEVENT
BEGIN:VEVENT
DTSTART;TZID=America/Vancouver:20250509T190000
DTEND;TZID=America/Vancouver:20250509T210000
DTSTAMP:20260425T040127
CREATED:20250507T235638Z
LAST-MODIFIED:20250510T001610Z
UID:14819-1746817200-1746824400@www.wkartscouncil.com
SUMMARY:Community Square Dance!
DESCRIPTION:This Community Square Dance at J.V. Humphries (Kaslo) is a community builder and school fundraiser. Big shout-out and thank you to our talented caller and local musicians for their support: Louis Bockner\, Yvonne Boyd\, Aurora Smith\, Reid Smith\, Roger Luckey and Kit Ashenhurst. This promises to be a fun and wholesome evening for all ages. Finger-food goodies will be available!\n\nAdults $10 / Youth (6-13) $5 / Under 5 free / Family (up to 5) $25.\n\nTickets at Sunnyside Naturals and JVH front desk\, or message 778-928-7560.
URL:https://www.wkartscouncil.com/event/community-square-dance/
LOCATION:JV Humphries Elementary-Secondary\, 500 6th St\, Kaslo\, BC\, V0G 1M0\, Canada
CATEGORIES:Calendar,Community Events,Kid Friendly,Live Performance
ATTACH;FMTTYPE=image/png:https://genexsites.s3.ca-west-1.amazonaws.com/05/wp-content/uploads/sites/26/2025/05/20175318/Sq-dance-updated-small-aDgVDE.png
END:VEVENT
END:VCALENDAR