
BEGIN:VCALENDAR
VERSION:2.0
PRODID:-//West Kootenay Regional Arts Council - ECPv6.15.20//NONSGML v1.0//EN
CALSCALE:GREGORIAN
METHOD:PUBLISH
X-WR-CALNAME:West Kootenay Regional Arts Council
X-ORIGINAL-URL:https://www.wkartscouncil.com
X-WR-CALDESC:Events for West Kootenay Regional Arts Council
REFRESH-INTERVAL;VALUE=DURATION:PT1H
X-Robots-Tag:noindex
X-PUBLISHED-TTL:PT1H
BEGIN:VTIMEZONE
TZID:America/Vancouver
BEGIN:DAYLIGHT
TZOFFSETFROM:-0800
TZOFFSETTO:-0700
TZNAME:PDT
DTSTART:20240310T100000
END:DAYLIGHT
BEGIN:STANDARD
TZOFFSETFROM:-0700
TZOFFSETTO:-0800
TZNAME:PST
DTSTART:20241103T090000
END:STANDARD
BEGIN:DAYLIGHT
TZOFFSETFROM:-0800
TZOFFSETTO:-0700
TZNAME:PDT
DTSTART:20250309T100000
END:DAYLIGHT
BEGIN:STANDARD
TZOFFSETFROM:-0700
TZOFFSETTO:-0800
TZNAME:PST
DTSTART:20251102T090000
END:STANDARD
BEGIN:DAYLIGHT
TZOFFSETFROM:-0800
TZOFFSETTO:-0700
TZNAME:PDT
DTSTART:20260308T100000
END:DAYLIGHT
BEGIN:STANDARD
TZOFFSETFROM:-0700
TZOFFSETTO:-0800
TZNAME:PST
DTSTART:20261101T090000
END:STANDARD
END:VTIMEZONE
BEGIN:VEVENT
DTSTART;TZID=America/Vancouver:20250406T150000
DTEND;TZID=America/Vancouver:20250406T170000
DTSTAMP:20260425T035621
CREATED:20250310T165012Z
LAST-MODIFIED:20250407T004609Z
UID:12849-1743951600-1743958800@www.wkartscouncil.com
SUMMARY:Discover Circus Presents: Fairy Tales in Flight
DESCRIPTION:Get ready for a night of enchantment at Fairy Tales in Flight\, a mesmerizing circus showcase by Discover Circus students! This spectacular performance brings your favourite fairy tales to life like never before. From thrilling aerial feats to jaw-dropping acrobatics and delightful moments of comedy\, each act will transport you into a magical world where dreams take flight. Don’t miss this unforgettable experience for all ages! \nWhere: The Capitol Theatre\nWhen: April 4th\, 6PM\nApril 5th\, 6PM\nApril 6th\, 3PM\nTickets: $25\, purchase tickets >> HERE <<
URL:https://www.wkartscouncil.com/event/discover-circus-presents-fairy-tales-in-flight/
LOCATION:The Capitol Theatre\, 421 Victoria Street\, Nelson\, British Columbia\, V1L 5R2\, Canada
CATEGORIES:Calendar,Kid Friendly,Live Performance
ORGANIZER;CN="Discover Circus":MAILTO:info@discovercircus.ca
END:VEVENT
END:VCALENDAR