
BEGIN:VCALENDAR
VERSION:2.0
PRODID:-//West Kootenay Regional Arts Council - ECPv6.15.20//NONSGML v1.0//EN
CALSCALE:GREGORIAN
METHOD:PUBLISH
X-WR-CALNAME:West Kootenay Regional Arts Council
X-ORIGINAL-URL:https://www.wkartscouncil.com
X-WR-CALDESC:Events for West Kootenay Regional Arts Council
REFRESH-INTERVAL;VALUE=DURATION:PT1H
X-Robots-Tag:noindex
X-PUBLISHED-TTL:PT1H
BEGIN:VTIMEZONE
TZID:America/Vancouver
BEGIN:DAYLIGHT
TZOFFSETFROM:-0800
TZOFFSETTO:-0700
TZNAME:PDT
DTSTART:20240310T100000
END:DAYLIGHT
BEGIN:STANDARD
TZOFFSETFROM:-0700
TZOFFSETTO:-0800
TZNAME:PST
DTSTART:20241103T090000
END:STANDARD
BEGIN:DAYLIGHT
TZOFFSETFROM:-0800
TZOFFSETTO:-0700
TZNAME:PDT
DTSTART:20250309T100000
END:DAYLIGHT
BEGIN:STANDARD
TZOFFSETFROM:-0700
TZOFFSETTO:-0800
TZNAME:PST
DTSTART:20251102T090000
END:STANDARD
BEGIN:DAYLIGHT
TZOFFSETFROM:-0800
TZOFFSETTO:-0700
TZNAME:PDT
DTSTART:20260308T100000
END:DAYLIGHT
BEGIN:STANDARD
TZOFFSETFROM:-0700
TZOFFSETTO:-0800
TZNAME:PST
DTSTART:20261101T090000
END:STANDARD
END:VTIMEZONE
BEGIN:VTIMEZONE
TZID:America/Edmonton
BEGIN:DAYLIGHT
TZOFFSETFROM:-0700
TZOFFSETTO:-0600
TZNAME:MDT
DTSTART:20240310T090000
END:DAYLIGHT
BEGIN:STANDARD
TZOFFSETFROM:-0600
TZOFFSETTO:-0700
TZNAME:MST
DTSTART:20241103T080000
END:STANDARD
BEGIN:DAYLIGHT
TZOFFSETFROM:-0700
TZOFFSETTO:-0600
TZNAME:MDT
DTSTART:20250309T090000
END:DAYLIGHT
BEGIN:STANDARD
TZOFFSETFROM:-0600
TZOFFSETTO:-0700
TZNAME:MST
DTSTART:20251102T080000
END:STANDARD
BEGIN:DAYLIGHT
TZOFFSETFROM:-0700
TZOFFSETTO:-0600
TZNAME:MDT
DTSTART:20260308T090000
END:DAYLIGHT
BEGIN:STANDARD
TZOFFSETFROM:-0600
TZOFFSETTO:-0700
TZNAME:MST
DTSTART:20261101T080000
END:STANDARD
END:VTIMEZONE
BEGIN:VEVENT
DTSTART;TZID=America/Vancouver:20251101T110000
DTEND;TZID=America/Vancouver:20251101T120000
DTSTAMP:20260424T030150
CREATED:20250814T005413Z
LAST-MODIFIED:20250902T223020Z
UID:18482-1761994800-1761998400@www.wkartscouncil.com
SUMMARY:Saturday Bunker tours
DESCRIPTION:During the height of the Cold War\, in the 1950s and 1960s\, nearly 50 bunkers were constructed across Canada. In 2017\, the Nelson Museum began work on restoring the space and opening it to the public. You can join a tour of one of the Museumʼs best-loved spaces!\n\nFrom iodine pills and Geiger counters to board games and ashtrays\, visitors get a glimpse of the vast measures taken to create normalcy in an extraordinary time.\n\nClick on the link to register. Adult admission required – children under 19 are always free! (https://form-can.keela.co/bunker-tours)
URL:https://www.wkartscouncil.com/event/saturday-bunker-tours-10/
LOCATION:Nelson Museum\, Archives & Gallery\, 502 Vernon Street\, Nelson\, V1L 4E7\, Canada
CATEGORIES:Calendar,Community Events,Kid Friendly
ATTACH;FMTTYPE=image/jpeg:https://genexsites.s3.ca-west-1.amazonaws.com/05/wp-content/uploads/sites/26/2023/09/20182335/17-UdtcgC.tmp_.jpg
ORGANIZER;CN="Nelson Museum%2C Archives &amp%3B Gallery":MAILTO:info@nelsonmuseum.ca
END:VEVENT
BEGIN:VEVENT
DTSTART;TZID=America/Edmonton:20251101T150000
DTEND;TZID=America/Edmonton:20251101T230000
DTSTAMP:20260424T030150
CREATED:20251031T061516Z
LAST-MODIFIED:20251031T175214Z
UID:20578-1762009200-1762038000@www.wkartscouncil.com
SUMMARY:Day of the Dead: A Cross-Cultural Celebration
DESCRIPTION:Join us for a very special Day of the Dead celebration\, a free\, family-friendly community event where we’ll honor tradition while embracing the richness of many cultures. Inspired by Día de Muertos\, this event brings together diverse practices of remembrance and celebration of life. \nWhat to Expect at the Day of the Dead Celebration \n✨ Mexico – Dia de Muertos\nInteractive altar. Arts & crafts while we share the meaning of this tradition. Plus\, live serenatas (serenades) will fill the space with music and remembrance. \n✨ Philippines – “Undas”\nExperience the Filipino tradition of Undas through a communal altar\, prayers\, and music. Participate in shared offerings\, hands-on crafts\, and enjoy a live performance of Dahil Sayo. \n✨ India – “Moksha”\n“Moksha” is a visual and interactive display of India’s diverse rituals of remembrance\, including storytelling\, a short talk\, and a participatory dance performance. \n✨ Celtic Roots – “From Samhain to Halloween”\nPresenter Shannon Silvermoon will explore Samhain’s ancient rituals and its transformation into Halloween. Participate in a short visualization\, ancestor offerings\, and intention-setting for the new year. \n✨ Reflections on Grief and Healing\nLed by death doula Leif\, this space invites us to reflect on loss\, grief\, and renewal. \n✨ Community Offerings \n-Food vendors & face painting \n-Performances by local & guest artists \n-A closing dance party with uplifting global beats \n📌 Save the date: Full schedule with times will be shared soon! \nEvent Schedule: \n-3:00 – 4:00 PM: Altars making & community gathering begin\, live Serenata from 3:30–4:00 PM & face painting & mini traditional food market open \n-4:00 – 4:10 PM: Land Acknowledgment\nby Rick Desautel \n-4:10 – 5:10 PM: Community Talk: “Grief\, Loss\, and Healing”by Leif Mjolsness \n-5:10 – 6:20 PM: Cultural Presentations:\nIreland – Origins of Halloween (5:10–5:30)\nIndia – Moska (5:30–5:40)\nMexico – Traditions + Activity (5:40–6:00)\nPhilippines – Heritage + Activity (6:00–6:20) \n-6:20 – 6:30 PM: Closing Remarks \n-6:30 – 7:00 PM: Dance Performances featuring:\nMiriam Martínez\, Slava Doval’s DanceFusion\, Sophie Barbaric\, Surya & Nino\, Tango group & Tapatia Collective \n-7:00 – 9:30 PM: Dance Party featuring\nDJ Mochilero & DJ Dubconscious \n-9:30 – 11:00 PM: Karaoke & Curated Playlist
URL:https://www.wkartscouncil.com/event/day-of-the-dead-2025/
LOCATION:The Eagles Hall\, 641 Baker St\, Nelson\, BC V1L 4J3\, Canada\, BC\, V1L 4J3\, Canada
CATEGORIES:Art,Calendar,Community Events,Exhibition/Speakers,Food/Beverage,Kid Friendly,Live Performance,Wellness,Workshops
ATTACH;FMTTYPE=image/jpeg:https://genexsites.s3.ca-west-1.amazonaws.com/05/wp-content/uploads/sites/26/2025/10/30231904/Day-of-the-Dead-Tapatia-2025.jpg
ORGANIZER;CN="Tapatia Collective":MAILTO:Info@tapatiacollective.com
END:VEVENT
BEGIN:VEVENT
DTSTART;TZID=America/Vancouver:20251106T160000
DTEND;TZID=America/Vancouver:20251106T200000
DTSTAMP:20260424T030150
CREATED:20250814T005357Z
LAST-MODIFIED:20250902T223045Z
UID:18493-1762444800-1762459200@www.wkartscouncil.com
SUMMARY:Summer Lovin’ FREE Thursdays
DESCRIPTION:Come on down to the Nelson Museum on Thursday evenings\, where you can visit the galleries\, museum\, and shop for FREE. 4-8pm every Thursday.
URL:https://www.wkartscouncil.com/event/summer-lovin-free-thursdays-10/
LOCATION:Nelson Museum\, Archives & Gallery\, 502 Vernon Street\, Nelson\, V1L 4E7\, Canada
CATEGORIES:Art,Calendar,Kid Friendly
ATTACH;FMTTYPE=image/png:https://genexsites.s3.ca-west-1.amazonaws.com/05/wp-content/uploads/sites/26/2025/06/20174552/summer-lovin-insta-FLsxqR.png
ORGANIZER;CN="Nelson Museum%2C Archives &amp%3B Gallery":MAILTO:info@nelsonmuseum.ca
END:VEVENT
BEGIN:VEVENT
DTSTART;TZID=America/Edmonton:20251107T080000
DTEND;TZID=America/Edmonton:20251107T170000
DTSTAMP:20260424T030150
CREATED:20251108T055437Z
LAST-MODIFIED:20251108T055437Z
UID:20786-1762502400-1762534800@www.wkartscouncil.com
SUMMARY:We Can Help Animals! BC SPCA Comics Workshop (Ages 8-12)
DESCRIPTION:Are you a young changemaker looking to help animals? \nParticipants will learn ways to help at-risk animals through a variety of activities at the West Kootenay Community Animal Centre. Discuss how the BC SPCA helps animals.\nCreate comics about the value of all beings. Give back by collaborating on a project for the shelter. This is a fast-paced and engaging workshop that combines play\, creativity and learning! \nDate and Time: November 15\, 2025 from 9:30am-12:30pm \nLocation: West Kootenay Community Animal Centre\, 124 Heritage Way\, Castlegar BC \nAges: 8-12 \nPrice: $37.50 \nNote – While there may be some time for animal interactions\, we cannot guarantee the availability of suitable animals.
URL:https://www.wkartscouncil.com/event/help-animals-bc-spca-comics-workshop-8-12/
LOCATION:West Kootenay Community Animal Centre\, 124 Heritage Way\, Castlegar BC
CATEGORIES:Art,Calendar,Community Events,Kid Friendly,Workshops
ATTACH;FMTTYPE=image/jpeg:https://genexsites.s3.ca-west-1.amazonaws.com/05/wp-content/uploads/sites/26/2025/11/07215301/BCSPCAHelpAnimals.jpg
ORGANIZER;CN="BC SPCA":MAILTO:eshuttleworth@spca.bc.ca
END:VEVENT
BEGIN:VEVENT
DTSTART;TZID=America/Vancouver:20251108T110000
DTEND;TZID=America/Vancouver:20251108T120000
DTSTAMP:20260424T030150
CREATED:20250814T005353Z
LAST-MODIFIED:20250902T223051Z
UID:18495-1762599600-1762603200@www.wkartscouncil.com
SUMMARY:Saturday Bunker tours
DESCRIPTION:During the height of the Cold War\, in the 1950s and 1960s\, nearly 50 bunkers were constructed across Canada. In 2017\, the Nelson Museum began work on restoring the space and opening it to the public. You can join a tour of one of the Museumʼs best-loved spaces!\n\nFrom iodine pills and Geiger counters to board games and ashtrays\, visitors get a glimpse of the vast measures taken to create normalcy in an extraordinary time.\n\nClick on the link to register. Adult admission required – children under 19 are always free! (https://form-can.keela.co/bunker-tours)
URL:https://www.wkartscouncil.com/event/saturday-bunker-tours-9/
LOCATION:Nelson Museum\, Archives & Gallery\, 502 Vernon Street\, Nelson\, V1L 4E7\, Canada
CATEGORIES:Calendar,Community Events,Kid Friendly
ATTACH;FMTTYPE=image/jpeg:https://genexsites.s3.ca-west-1.amazonaws.com/05/wp-content/uploads/sites/26/2023/09/20182335/17-UdtcgC.tmp_.jpg
ORGANIZER;CN="Nelson Museum%2C Archives &amp%3B Gallery":MAILTO:info@nelsonmuseum.ca
END:VEVENT
BEGIN:VEVENT
DTSTART;TZID=America/Vancouver:20251113T160000
DTEND;TZID=America/Vancouver:20251113T200000
DTSTAMP:20260424T030150
CREATED:20250819T210736Z
LAST-MODIFIED:20250902T223124Z
UID:18580-1763049600-1763064000@www.wkartscouncil.com
SUMMARY:Summer Lovin’ FREE Thursdays
DESCRIPTION:Come on down to the Nelson Museum on Thursday evenings\, where you can visit the galleries\, museum\, and shop for FREE. 4-8pm every Thursday.
URL:https://www.wkartscouncil.com/event/summer-lovin-free-thursdays-11/
LOCATION:Nelson Museum\, Archives & Gallery\, 502 Vernon Street\, Nelson\, V1L 4E7\, Canada
CATEGORIES:Art,Calendar,Kid Friendly
ATTACH;FMTTYPE=image/png:https://genexsites.s3.ca-west-1.amazonaws.com/05/wp-content/uploads/sites/26/2025/06/20174552/summer-lovin-insta-FLsxqR.png
ORGANIZER;CN="Nelson Museum%2C Archives &amp%3B Gallery":MAILTO:info@nelsonmuseum.ca
END:VEVENT
BEGIN:VEVENT
DTSTART;TZID=America/Edmonton:20251114T160000
DTEND;TZID=America/Edmonton:20251115T160000
DTSTAMP:20260424T030150
CREATED:20251108T054946Z
LAST-MODIFIED:20251108T055745Z
UID:20781-1763136000-1763222400@www.wkartscouncil.com
SUMMARY:Selkirk Weavers Christmas Sale: Friday (14th) & Saturday (15th)
DESCRIPTION:The Selkirk Weavers and Spinners Guild\, a group of local artisans from Castlegar\, Nelson\, Trail\, and Fruitvale\, are holding their annual Holiday Sale and Exhibit on Friday November 14th from 4-8 pm\, and Saturday November 15th from 9am-4pm.\nIt will be at the Kinnaird Hall at 2320 Columbia Avenue\, Castlegar\, BC.\nHope to see you all there!
URL:https://www.wkartscouncil.com/event/selkirk-weavers-christmas-sale/
LOCATION:Kinnaird Hall\, 2320 Columbia Avenue\, Castlegar\, BC\, V1N 2X1\, Canada
CATEGORIES:Art,Calendar,Community Events,Kid Friendly,Markets/Festival
ATTACH;FMTTYPE=image/png:https://genexsites.s3.ca-west-1.amazonaws.com/05/wp-content/uploads/sites/26/2025/11/07214454/CHRISTMAS-SALE-final-1.png
ORGANIZER;CN="Selkirk Weavers and Spinners Guild":MAILTO:selkirkweavers@gmail.com
END:VEVENT
BEGIN:VEVENT
DTSTART;TZID=America/Edmonton:20251115T093000
DTEND;TZID=America/Edmonton:20251115T123000
DTSTAMP:20260424T030150
CREATED:20251112T234238Z
LAST-MODIFIED:20251112T234238Z
UID:20907-1763199000-1763209800@www.wkartscouncil.com
SUMMARY:We Can Help Animals! BC SPCA Youth Workshop (Ages 8-12)
DESCRIPTION:Are you a young changemaker looking to help animals? \nParticipants will learn ways to help at-risk animals through a variety of activities at the West Kootenay Community Animal Centre. Discuss how the BC SPCA helps animals. Create comics about the value of all beings. Give back by collaborating on a project for the shelter. This is a fast-paced and engaging workshop that combines play\, creativity and learning! \nDate and Time: November 15\, 2025 from 9:30am-12:30pm \nLocation: West Kootenay Community Animal Centre\, 124 Heritage Way\, Castlegar BC \nAges: 8-12 \nPrice: $37.50 \nNote – While there may be some time for animal interactions\, we cannot guarantee the availability of suitable animals.
URL:https://www.wkartscouncil.com/event/we-can-help-animals-bc-spca-youth-workshop-ages-8-12/
LOCATION:West Kootenay Community Animal Centre\, 124 Heritage Way\, Castlegar BC
CATEGORIES:Art,Calendar,Community Events,Kid Friendly,Workshops
ATTACH;FMTTYPE=image/jpeg:https://genexsites.s3.ca-west-1.amazonaws.com/05/wp-content/uploads/sites/26/2025/11/07215301/BCSPCAHelpAnimals.jpg
ORGANIZER;CN="BC SPCA":MAILTO:eshuttleworth@spca.bc.ca
END:VEVENT
BEGIN:VEVENT
DTSTART;TZID=America/Vancouver:20251115T110000
DTEND;TZID=America/Vancouver:20251115T120000
DTSTAMP:20260424T030150
CREATED:20250819T210732Z
LAST-MODIFIED:20250902T223130Z
UID:18625-1763204400-1763208000@www.wkartscouncil.com
SUMMARY:Saturday Bunker tours
DESCRIPTION:During the height of the Cold War\, in the 1950s and 1960s\, nearly 50 bunkers were constructed across Canada. In 2017\, the Nelson Museum began work on restoring the space and opening it to the public. You can join a tour of one of the Museumʼs best-loved spaces!\n\nFrom iodine pills and Geiger counters to board games and ashtrays\, visitors get a glimpse of the vast measures taken to create normalcy in an extraordinary time.\n\nClick on the link to register. Adult admission required – children under 19 are always free! (https://form-can.keela.co/bunker-tours)
URL:https://www.wkartscouncil.com/event/saturday-bunker-tours-11/
LOCATION:Nelson Museum\, Archives & Gallery\, 502 Vernon Street\, Nelson\, V1L 4E7\, Canada
CATEGORIES:Calendar,Community Events,Kid Friendly
ATTACH;FMTTYPE=image/jpeg:https://genexsites.s3.ca-west-1.amazonaws.com/05/wp-content/uploads/sites/26/2023/09/20182335/17-UdtcgC.tmp_.jpg
ORGANIZER;CN="Nelson Museum%2C Archives &amp%3B Gallery":MAILTO:info@nelsonmuseum.ca
END:VEVENT
BEGIN:VEVENT
DTSTART;TZID=America/Vancouver:20251120T160000
DTEND;TZID=America/Vancouver:20251120T200000
DTSTAMP:20260424T030150
CREATED:20250827T175341Z
LAST-MODIFIED:20250902T223151Z
UID:18806-1763654400-1763668800@www.wkartscouncil.com
SUMMARY:Summer Lovin’ FREE Thursdays
DESCRIPTION:Come on down to the Nelson Museum on Thursday evenings\, where you can visit the galleries\, museum\, and shop for FREE. 4-8pm every Thursday.
URL:https://www.wkartscouncil.com/event/summer-lovin-free-thursdays-12/
LOCATION:Nelson Museum\, Archives & Gallery\, 502 Vernon Street\, Nelson\, V1L 4E7\, Canada
CATEGORIES:Art,Calendar,Kid Friendly
ATTACH;FMTTYPE=image/png:https://genexsites.s3.ca-west-1.amazonaws.com/05/wp-content/uploads/sites/26/2025/06/20174552/summer-lovin-insta-FLsxqR.png
ORGANIZER;CN="Nelson Museum%2C Archives &amp%3B Gallery":MAILTO:info@nelsonmuseum.ca
END:VEVENT
BEGIN:VEVENT
DTSTART;TZID=America/Vancouver:20251122T110000
DTEND;TZID=America/Vancouver:20251122T120000
DTSTAMP:20260424T030150
CREATED:20250827T175336Z
LAST-MODIFIED:20250902T223155Z
UID:18856-1763809200-1763812800@www.wkartscouncil.com
SUMMARY:Saturday Bunker tours
DESCRIPTION:During the height of the Cold War\, in the 1950s and 1960s\, nearly 50 bunkers were constructed across Canada. In 2017\, the Nelson Museum began work on restoring the space and opening it to the public. You can join a tour of one of the Museumʼs best-loved spaces!\n\nFrom iodine pills and Geiger counters to board games and ashtrays\, visitors get a glimpse of the vast measures taken to create normalcy in an extraordinary time.\n\nClick on the link to register. Adult admission required – children under 19 are always free! (https://form-can.keela.co/bunker-tours)
URL:https://www.wkartscouncil.com/event/saturday-bunker-tours-12/
LOCATION:Nelson Museum\, Archives & Gallery\, 502 Vernon Street\, Nelson\, V1L 4E7\, Canada
CATEGORIES:Calendar,Community Events,Kid Friendly
ATTACH;FMTTYPE=image/jpeg:https://genexsites.s3.ca-west-1.amazonaws.com/05/wp-content/uploads/sites/26/2023/09/20182335/17-UdtcgC.tmp_.jpg
ORGANIZER;CN="Nelson Museum%2C Archives &amp%3B Gallery":MAILTO:info@nelsonmuseum.ca
END:VEVENT
BEGIN:VEVENT
DTSTART;TZID=America/Edmonton:20251122T130000
DTEND;TZID=America/Edmonton:20251122T150000
DTSTAMP:20260424T030150
CREATED:20251114T034156Z
LAST-MODIFIED:20251114T034156Z
UID:20945-1763816400-1763823600@www.wkartscouncil.com
SUMMARY:2026 Collage Calendar Making @ Nelson Museum and Archives
DESCRIPTION:Join Nelson Museum’s Stephanie Myers\, our Program Coordinator\, and make your own 2026 Calendar using our amazing stock of collage and crafting materials. They make a great gift or keepsake. \nThis is a two-part workshop. \nAll materials supplied. \nSaturday\, Nov 22nd & 29th from 1 – 3pm \n$10 for members $15 for non-members
URL:https://www.wkartscouncil.com/event/2026-collage-calendar-making-nelson-museum-and-archives/
LOCATION:Nelson Museum\, Archives & Gallery\, 502 Vernon Street\, Nelson\, V1L 4E7\, Canada
CATEGORIES:Art,Calendar,Kid Friendly
ATTACH;FMTTYPE=image/png:https://genexsites.s3.ca-west-1.amazonaws.com/05/wp-content/uploads/sites/26/2025/11/13193921/2026-Collage-Calendar-making.png
ORGANIZER;CN="Nelson Museum%2C Archives &amp%3B Gallery":MAILTO:info@nelsonmuseum.ca
END:VEVENT
BEGIN:VEVENT
DTSTART;TZID=America/Edmonton:20251128T183000
DTEND;TZID=America/Edmonton:20251128T213000
DTSTAMP:20260424T030150
CREATED:20251117T201601Z
LAST-MODIFIED:20251117T201601Z
UID:21042-1764354600-1764365400@www.wkartscouncil.com
SUMMARY:RLOP Presents: Into The Woods
DESCRIPTION:The Rossland Light Opera Players are proud to present their 2025 Mainstage Production of Into the Woods! \nEscape into a fantastical fairytale adventure where wishes come true\, not free. \nInto the Woods is a witty and whimsical musical that combines the plots of familiar fairy tales like Jack and the Beanstalk\, Cinderella\, Little Red Riding Hood\, Rapunzel\, and more. \nThe story pulls from the darker elements of the original folk and fairy tales\, combining the darkness with comedy to create this delightfully macabre story that explores the consequences of its characters’ wishes. \nWatch our characters’ paths intertwine as they chase their deepest desires through an enchanted forest! \nAt the Charles Bailey Theatre \nNovember 28th 6:30pm\, November 29th 2pm & 6:30pm\, November 30th 2pm \nSponsored by Teck Trail Operations
URL:https://www.wkartscouncil.com/event/rlop-presents-into-the-woods/
LOCATION:Charles Bailey Theatre\, 1501 Cedar Ave\, Trail\, British Columbia\, V1R 4C7\, Canada
CATEGORIES:Art,Calendar,Kid Friendly,Live Performance
ATTACH;FMTTYPE=image/jpeg:https://genexsites.s3.ca-west-1.amazonaws.com/05/wp-content/uploads/sites/26/2025/11/17121549/into-the-woods.jpg
END:VEVENT
BEGIN:VEVENT
DTSTART;TZID=America/Vancouver:20251129T110000
DTEND;TZID=America/Vancouver:20251129T120000
DTSTAMP:20260424T030150
CREATED:20250903T011624Z
LAST-MODIFIED:20250903T011624Z
UID:19070-1764414000-1764417600@www.wkartscouncil.com
SUMMARY:Saturday Bunker tours
DESCRIPTION:During the height of the Cold War\, in the 1950s and 1960s\, nearly 50 bunkers were constructed across Canada. In 2017\, the Nelson Museum began work on restoring the space and opening it to the public. You can join a tour of one of the Museumʼs best-loved spaces!\n\nFrom iodine pills and Geiger counters to board games and ashtrays\, visitors get a glimpse of the vast measures taken to create normalcy in an extraordinary time.\n\nClick on the link to register. Adult admission required – children under 19 are always free! (https://form-can.keela.co/bunker-tours)
URL:https://www.wkartscouncil.com/event/saturday-bunker-tours-13/
LOCATION:Nelson Museum\, Archives & Gallery\, 502 Vernon Street\, Nelson\, V1L 4E7\, Canada
CATEGORIES:Calendar,Community Events,Kid Friendly
ATTACH;FMTTYPE=image/jpeg:https://genexsites.s3.ca-west-1.amazonaws.com/05/wp-content/uploads/sites/26/2023/09/20182335/17-UdtcgC.tmp_.jpg
ORGANIZER;CN="Nelson Museum%2C Archives &amp%3B Gallery":MAILTO:info@nelsonmuseum.ca
END:VEVENT
BEGIN:VEVENT
DTSTART;TZID=America/Edmonton:20251129T140000
DTEND;TZID=America/Edmonton:20251129T170000
DTSTAMP:20260424T030150
CREATED:20251117T202216Z
LAST-MODIFIED:20251117T202216Z
UID:21048-1764424800-1764435600@www.wkartscouncil.com
SUMMARY:RLOP Presents: Into The Woods
DESCRIPTION:The Rossland Light Opera Players are proud to present their 2025 Mainstage Production of Into the Woods! \nEscape into a fantastical fairytale adventure where wishes come true\, not free. \nInto the Woods is a witty and whimsical musical that combines the plots of familiar fairy tales like Jack and the Beanstalk\, Cinderella\, Little Red Riding Hood\, Rapunzel\, and more. \nThe story pulls from the darker elements of the original folk and fairy tales\, combining the darkness with comedy to create this delightfully macabre story that explores the consequences of its characters’ wishes. \nWatch our characters’ paths intertwine as they chase their deepest desires through an enchanted forest! \nAt the Charles Bailey Theatre \nNovember 28th 6:30pm\, November 29th 2pm & 6:30pm\, November 30th 2pm \nSponsored by Teck Trail Operations
URL:https://www.wkartscouncil.com/event/rlop-presents-into-the-woods-2/
LOCATION:Charles Bailey Theatre\, 1501 Cedar Ave\, Trail\, British Columbia\, V1R 4C7\, Canada
CATEGORIES:Art,Calendar,Kid Friendly,Live Performance
ATTACH;FMTTYPE=image/jpeg:https://genexsites.s3.ca-west-1.amazonaws.com/05/wp-content/uploads/sites/26/2025/11/17121549/into-the-woods.jpg
END:VEVENT
BEGIN:VEVENT
DTSTART;TZID=America/Edmonton:20251130T140000
DTEND;TZID=America/Edmonton:20251130T170000
DTSTAMP:20260424T030150
CREATED:20251117T202357Z
LAST-MODIFIED:20251117T202357Z
UID:21050-1764511200-1764522000@www.wkartscouncil.com
SUMMARY:RLOP Presents: Into The Woods
DESCRIPTION:The Rossland Light Opera Players are proud to present their 2025 Mainstage Production of Into the Woods! \nEscape into a fantastical fairytale adventure where wishes come true\, not free. \nInto the Woods is a witty and whimsical musical that combines the plots of familiar fairy tales like Jack and the Beanstalk\, Cinderella\, Little Red Riding Hood\, Rapunzel\, and more. \nThe story pulls from the darker elements of the original folk and fairy tales\, combining the darkness with comedy to create this delightfully macabre story that explores the consequences of its characters’ wishes. \nWatch our characters’ paths intertwine as they chase their deepest desires through an enchanted forest! \nAt the Charles Bailey Theatre \nNovember 28th 6:30pm\, November 29th 2pm & 6:30pm\, November 30th 2pm \nSponsored by Teck Trail Operations
URL:https://www.wkartscouncil.com/event/rlop-presents-into-the-woods-3/
LOCATION:Charles Bailey Theatre\, 1501 Cedar Ave\, Trail\, British Columbia\, V1R 4C7\, Canada
CATEGORIES:Art,Calendar,Kid Friendly,Live Performance
ATTACH;FMTTYPE=image/jpeg:https://genexsites.s3.ca-west-1.amazonaws.com/05/wp-content/uploads/sites/26/2025/11/17121549/into-the-woods.jpg
END:VEVENT
END:VCALENDAR