
BEGIN:VCALENDAR
VERSION:2.0
PRODID:-//West Kootenay Regional Arts Council - ECPv6.15.20//NONSGML v1.0//EN
CALSCALE:GREGORIAN
METHOD:PUBLISH
X-WR-CALNAME:West Kootenay Regional Arts Council
X-ORIGINAL-URL:https://www.wkartscouncil.com
X-WR-CALDESC:Events for West Kootenay Regional Arts Council
REFRESH-INTERVAL;VALUE=DURATION:PT1H
X-Robots-Tag:noindex
X-PUBLISHED-TTL:PT1H
BEGIN:VTIMEZONE
TZID:America/Vancouver
BEGIN:DAYLIGHT
TZOFFSETFROM:-0800
TZOFFSETTO:-0700
TZNAME:PDT
DTSTART:20240310T100000
END:DAYLIGHT
BEGIN:STANDARD
TZOFFSETFROM:-0700
TZOFFSETTO:-0800
TZNAME:PST
DTSTART:20241103T090000
END:STANDARD
BEGIN:DAYLIGHT
TZOFFSETFROM:-0800
TZOFFSETTO:-0700
TZNAME:PDT
DTSTART:20250309T100000
END:DAYLIGHT
BEGIN:STANDARD
TZOFFSETFROM:-0700
TZOFFSETTO:-0800
TZNAME:PST
DTSTART:20251102T090000
END:STANDARD
BEGIN:DAYLIGHT
TZOFFSETFROM:-0800
TZOFFSETTO:-0700
TZNAME:PDT
DTSTART:20260308T100000
END:DAYLIGHT
BEGIN:STANDARD
TZOFFSETFROM:-0700
TZOFFSETTO:-0800
TZNAME:PST
DTSTART:20261101T090000
END:STANDARD
END:VTIMEZONE
BEGIN:VTIMEZONE
TZID:America/Edmonton
BEGIN:DAYLIGHT
TZOFFSETFROM:-0700
TZOFFSETTO:-0600
TZNAME:MDT
DTSTART:20240310T090000
END:DAYLIGHT
BEGIN:STANDARD
TZOFFSETFROM:-0600
TZOFFSETTO:-0700
TZNAME:MST
DTSTART:20241103T080000
END:STANDARD
BEGIN:DAYLIGHT
TZOFFSETFROM:-0700
TZOFFSETTO:-0600
TZNAME:MDT
DTSTART:20250309T090000
END:DAYLIGHT
BEGIN:STANDARD
TZOFFSETFROM:-0600
TZOFFSETTO:-0700
TZNAME:MST
DTSTART:20251102T080000
END:STANDARD
BEGIN:DAYLIGHT
TZOFFSETFROM:-0700
TZOFFSETTO:-0600
TZNAME:MDT
DTSTART:20260308T090000
END:DAYLIGHT
BEGIN:STANDARD
TZOFFSETFROM:-0600
TZOFFSETTO:-0700
TZNAME:MST
DTSTART:20261101T080000
END:STANDARD
END:VTIMEZONE
BEGIN:VEVENT
DTSTART;TZID=America/Vancouver:20250301T110000
DTEND;TZID=America/Vancouver:20250301T120000
DTSTAMP:20260425T085638
CREATED:20241203T202327Z
LAST-MODIFIED:20250302T003155Z
UID:10888-1740826800-1740830400@www.wkartscouncil.com
SUMMARY:Guided Cold War Bunker tours
DESCRIPTION:During the height of the Cold War\, in the 1950s and 1960s\, nearly 50 bunkers were constructed across Canada. In 2017\, the Nelson Museum began work on restoring the space and opening it to the public. You can join a tour of one of the Museumʼs best-loved spaces! \nFrom iodine pills and Geiger counters to board games and ashtrays\, visitors get a glimpse of the vast measures taken to create normalcy in an extraordinary time. \nEmail info@nelsonmuseum.ca to register. Adult admission required – children under 18 are always free!
URL:https://www.wkartscouncil.com/event/guided-cold-war-bunker-tours-69/
LOCATION:Nelson Museum\, Archives & Gallery\, 502 Vernon Street\, Nelson\, V1L 4E7\, Canada
CATEGORIES:Calendar,Community Events,Kid Friendly
ATTACH;FMTTYPE=image/jpeg:https://genexsites.s3.ca-west-1.amazonaws.com/05/wp-content/uploads/sites/26/2023/09/20182335/17-UdtcgC.tmp_.jpg
ORGANIZER;CN="Nelson Museum%2C Archives &amp%3B Gallery":MAILTO:info@nelsonmuseum.ca
END:VEVENT
BEGIN:VEVENT
DTSTART;TZID=America/Vancouver:20250306T160000
DTEND;TZID=America/Vancouver:20250306T200000
DTSTAMP:20260425T085638
CREATED:20250303T193426Z
LAST-MODIFIED:20250307T000220Z
UID:12621-1741276800-1741291200@www.wkartscouncil.com
SUMMARY:Spring Fling FREE Thursdays
DESCRIPTION:Come on down to the Nelson Museum on Thursday evenings\, where you can visit the galleries\, museum\, and shop for FREE. 4-8pm every Thursday.
URL:https://www.wkartscouncil.com/event/spring-fling-free-thursdays-13/
LOCATION:Nelson Museum\, Archives & Gallery\, 502 Vernon Street\, Nelson\, V1L 4E7\, Canada
CATEGORIES:Art,Calendar,Kid Friendly
ATTACH;FMTTYPE=image/png:https://genexsites.s3.ca-west-1.amazonaws.com/05/wp-content/uploads/sites/26/2025/03/20175546/spring-fling-insta-sm-mmxj1E.tmp_.png
ORGANIZER;CN="Nelson Museum%2C Archives &amp%3B Gallery":MAILTO:info@nelsonmuseum.ca
END:VEVENT
BEGIN:VEVENT
DTSTART;TZID=America/Vancouver:20250308T110000
DTEND;TZID=America/Vancouver:20250308T120000
DTSTAMP:20260425T085638
CREATED:20241209T205624Z
LAST-MODIFIED:20250308T234618Z
UID:11084-1741431600-1741435200@www.wkartscouncil.com
SUMMARY:Guided Cold War Bunker tours
DESCRIPTION:During the height of the Cold War\, in the 1950s and 1960s\, nearly 50 bunkers were constructed across Canada. In 2017\, the Nelson Museum began work on restoring the space and opening it to the public. You can join a tour of one of the Museumʼs best-loved spaces! \nFrom iodine pills and Geiger counters to board games and ashtrays\, visitors get a glimpse of the vast measures taken to create normalcy in an extraordinary time. \nEmail info@nelsonmuseum.ca to register. Adult admission required – children under 18 are always free!
URL:https://www.wkartscouncil.com/event/guided-cold-war-bunker-tours-70/
LOCATION:Nelson Museum\, Archives & Gallery\, 502 Vernon Street\, Nelson\, V1L 4E7\, Canada
CATEGORIES:Calendar,Community Events,Kid Friendly
ATTACH;FMTTYPE=image/jpeg:https://genexsites.s3.ca-west-1.amazonaws.com/05/wp-content/uploads/sites/26/2023/09/20182335/17-UdtcgC.tmp_.jpg
ORGANIZER;CN="Nelson Museum%2C Archives &amp%3B Gallery":MAILTO:info@nelsonmuseum.ca
END:VEVENT
BEGIN:VEVENT
DTSTART;TZID=America/Vancouver:20250308T130000
DTEND;TZID=America/Vancouver:20250308T150000
DTSTAMP:20260425T085638
CREATED:20250304T175302Z
LAST-MODIFIED:20250308T234618Z
UID:12681-1741438800-1741446000@www.wkartscouncil.com
SUMMARY:Project Wild One Book Signing
DESCRIPTION:Otter Books is hosting a book signing for Rossland author Louise Sidley’s debut novel\, PROJECT WILD ONE. The book is for readers 7 and up\, published by Red Deer Press\, and distributed by Firefly Books.\n\nIt is available for pre-order from Otter Books\, Indigo\, and Amazon.\n\nThe event is on Saturday\, March 8th\, from 1-3 at Otter Books.
URL:https://www.wkartscouncil.com/event/project-wild-one-book-signing/
LOCATION:Otter Books\, 398 Baker St\, Nelson\, V1L 4H5
CATEGORIES:Calendar,Community Events,Kid Friendly
ATTACH;FMTTYPE=image/png:https://genexsites.s3.ca-west-1.amazonaws.com/05/wp-content/uploads/sites/26/2025/03/20175532/Project-Wild-OneOtterBooks-KC9oac.tmp_.png
END:VEVENT
BEGIN:VEVENT
DTSTART;TZID=America/Vancouver:20250309T100000
DTEND;TZID=America/Vancouver:20250309T150000
DTSTAMP:20260425T085638
CREATED:20250303T193104Z
LAST-MODIFIED:20250310T000117Z
UID:12645-1741514400-1741532400@www.wkartscouncil.com
SUMMARY:Museum Mash!
DESCRIPTION:Lucas Myers & Krista Lynch\, Lance Ledger\, and the Nelson Writing Salon return to the Nelson Museum for everyone’s favourite FREE children’s program–Museum Mash! Explore the building\, get crafty with puppet-making\, sing and dance\, and have a blast! There’s lots of room to run and play\, and no shushing here!
URL:https://www.wkartscouncil.com/event/museum-mash-4/
LOCATION:Nelson Museum\, Archives & Gallery\, 502 Vernon Street\, Nelson\, V1L 4E7\, Canada
CATEGORIES:Calendar,Community Events,Kid Friendly,Live Performance,Workshops
ATTACH;FMTTYPE=image/png:https://genexsites.s3.ca-west-1.amazonaws.com/05/wp-content/uploads/sites/26/2025/03/20175541/museum-mash-insta-sm-21Ywqn.tmp_.png
ORGANIZER;CN="Nelson Museum%2C Archives &amp%3B Gallery":MAILTO:info@nelsonmuseum.ca
END:VEVENT
BEGIN:VEVENT
DTSTART;TZID=America/Vancouver:20250313T160000
DTEND;TZID=America/Vancouver:20250313T200000
DTSTAMP:20260425T085638
CREATED:20250303T193104Z
LAST-MODIFIED:20250314T000116Z
UID:12647-1741881600-1741896000@www.wkartscouncil.com
SUMMARY:Spring Fling FREE Thursdays
DESCRIPTION:Come on down to the Nelson Museum on Thursday evenings\, where you can visit the galleries\, museum\, and shop for FREE. 4-8pm every Thursday.
URL:https://www.wkartscouncil.com/event/spring-fling-free-thursdays-12/
LOCATION:Nelson Museum\, Archives & Gallery\, 502 Vernon Street\, Nelson\, V1L 4E7\, Canada
CATEGORIES:Art,Calendar,Kid Friendly
ATTACH;FMTTYPE=image/png:https://genexsites.s3.ca-west-1.amazonaws.com/05/wp-content/uploads/sites/26/2025/03/20175546/spring-fling-insta-sm-mmxj1E.tmp_.png
ORGANIZER;CN="Nelson Museum%2C Archives &amp%3B Gallery":MAILTO:info@nelsonmuseum.ca
END:VEVENT
BEGIN:VEVENT
DTSTART;TZID=America/Vancouver:20250315T110000
DTEND;TZID=America/Vancouver:20250315T120000
DTSTAMP:20260425T085638
CREATED:20241216T180815Z
LAST-MODIFIED:20250316T004617Z
UID:11251-1742036400-1742040000@www.wkartscouncil.com
SUMMARY:Guided Cold War Bunker tours
DESCRIPTION:During the height of the Cold War\, in the 1950s and 1960s\, nearly 50 bunkers were constructed across Canada. In 2017\, the Nelson Museum began work on restoring the space and opening it to the public. You can join a tour of one of the Museumʼs best-loved spaces! \nFrom iodine pills and Geiger counters to board games and ashtrays\, visitors get a glimpse of the vast measures taken to create normalcy in an extraordinary time. \nEmail info@nelsonmuseum.ca to register. Adult admission required – children under 18 are always free!
URL:https://www.wkartscouncil.com/event/guided-cold-war-bunker-tours-71/
LOCATION:Nelson Museum\, Archives & Gallery\, 502 Vernon Street\, Nelson\, V1L 4E7\, Canada
CATEGORIES:Calendar,Community Events,Kid Friendly
ATTACH;FMTTYPE=image/jpeg:https://genexsites.s3.ca-west-1.amazonaws.com/05/wp-content/uploads/sites/26/2023/09/20182335/17-UdtcgC.tmp_.jpg
ORGANIZER;CN="Nelson Museum%2C Archives &amp%3B Gallery":MAILTO:info@nelsonmuseum.ca
END:VEVENT
BEGIN:VEVENT
DTSTART;VALUE=DATE:20250317
DTEND;VALUE=DATE:20250321
DTSTAMP:20260425T085638
CREATED:20250303T193256Z
LAST-MODIFIED:20250318T001617Z
UID:12638-1742169600-1742515199@www.wkartscouncil.com
SUMMARY:Beats and Brushes: Kid’s HIP-HOP and VISUAL ARTS Workshop
DESCRIPTION:Join us this MARCH BREAK for four days of music\, storytelling\, art\, and creativity! Kids will collaborate with conscious hip-hop artist Kosmic T to write\, produce\, and record an original hip-hop song. From writing catchy hooks to exploring beats and rhythms—no experience needed\, just enthusiasm! Animator and Artist Angela Meilleur (owner of Acorns and Aprons) will guide young artists in crafting colourful spirit animal masks\, using templates to help build confidence while painting. Plus\, enjoy other engaging visual arts projects\, hands-on activities\, and outdoor play in a beautiful natural setting.  \nMake a Song\, Make Art\, Make New Friends and Make Memories! \nDates: March 17-20\, 2025\nTime: 10:00 AM – 3:00 PM (Mon-Thurs)\nWhere: Acorns and Aprons studio\nAges: 7-12 \nCapacity: 12 kids\n2 specialized instructors \nThis workshop fosters self-expression\, teamwork\, and creativity—an unforgettable experience in music and art!  \nRegistration form and Learn more here: https://www.acornsandaprons.com/workshops\n \n 
URL:https://www.wkartscouncil.com/event/beats-and-brushes-kids-hip-hop-and-visual-arts-workshop/
LOCATION:TBA
CATEGORIES:Art,Calendar,Kid Friendly,Workshops
ATTACH;FMTTYPE=image/jpeg:https://genexsites.s3.ca-west-1.amazonaws.com/05/wp-content/uploads/sites/26/2025/03/20175542/IMG_8437-xMTtxX.tmp_.jpg
END:VEVENT
BEGIN:VEVENT
DTSTART;TZID=America/Edmonton:20250317T090000
DTEND;TZID=America/Edmonton:20250321T120000
DTSTAMP:20260425T085638
CREATED:20250225T235400Z
LAST-MODIFIED:20250225T235400Z
UID:12442-1742202000-1742558400@www.wkartscouncil.com
SUMMARY:Spring Break Photography Camp with Charlotte Truant (Ages 9-13)
DESCRIPTION:Join instructor Charlotte Truant for a week of photography exploration. Participants will be provided with DSLR cameras\, learning to take photos both indoors and outdoors. Each day will begin and end at the VISAC Gallery. Depending on weather\, they may take excursions around Trail to capture photos outdoors\, or in other buildings. Kids will be provided with a scrap book and tools to create and display their beautiful photo creations\, as well as access to a printer to print out their photos. \nWhen: March 17 – 21\, 2025 @ 9:00am-12:00pm \nDuration: 5 days \nAges: 9-13 \nClass Fee: $300 \nAbout Charlotte Truant: Located in the beautiful West Kootenays of British Columbia\, Canada. I actually went to school for dental assisting and I’m a self taught photographer. I had my first little and knew I didn’t want to go back to work. During my maternity leave\, I started a Social media marketing business where I purchased my first camera (Canon Rebel t5i) so that I could take better photos for the businesses that I was running social media for. I ended up loving the photo taking part so much more than the social media part so quickly switched over to only photography. \nIf you have any questions\, reach out to info@visacgallery.com \nRegister here: https://revenue-can.keela.co/youth-photography-workshop
URL:https://www.wkartscouncil.com/event/spring-break-photography-camp-with-charlotte-truant-ages-9-13/
LOCATION:VISAC Gallery\, 1501 Cedar Avenue\, Trail\, V1R 2J5
CATEGORIES:Calendar,Kid Friendly,Workshops
ATTACH;FMTTYPE=image/png:https://genexsites.s3.ca-west-1.amazonaws.com/05/wp-content/uploads/sites/26/2025/02/20175557/Photo-1.png
ORGANIZER;CN="VISAC Gallery":MAILTO:Info@visacgallery.com
END:VEVENT
BEGIN:VEVENT
DTSTART;TZID=America/Vancouver:20250320T160000
DTEND;TZID=America/Vancouver:20250320T200000
DTSTAMP:20260425T085638
CREATED:20250303T193104Z
LAST-MODIFIED:20250321T003207Z
UID:12652-1742486400-1742500800@www.wkartscouncil.com
SUMMARY:Spring Fling FREE Thursdays
DESCRIPTION:Come on down to the Nelson Museum on Thursday evenings\, where you can visit the galleries\, museum\, and shop for FREE. 4-8pm every Thursday.
URL:https://www.wkartscouncil.com/event/spring-fling-free-thursdays-11/
LOCATION:Nelson Museum\, Archives & Gallery\, 502 Vernon Street\, Nelson\, V1L 4E7\, Canada
CATEGORIES:Art,Calendar,Kid Friendly
ATTACH;FMTTYPE=image/png:https://genexsites.s3.ca-west-1.amazonaws.com/05/wp-content/uploads/sites/26/2025/03/20175546/spring-fling-insta-sm-mmxj1E.tmp_.png
ORGANIZER;CN="Nelson Museum%2C Archives &amp%3B Gallery":MAILTO:info@nelsonmuseum.ca
END:VEVENT
BEGIN:VEVENT
DTSTART;TZID=America/Vancouver:20250322T110000
DTEND;TZID=America/Vancouver:20250322T120000
DTSTAMP:20260425T085638
CREATED:20241230T175424Z
LAST-MODIFIED:20250323T004623Z
UID:11299-1742641200-1742644800@www.wkartscouncil.com
SUMMARY:Guided Cold War Bunker tours
DESCRIPTION:During the height of the Cold War\, in the 1950s and 1960s\, nearly 50 bunkers were constructed across Canada. In 2017\, the Nelson Museum began work on restoring the space and opening it to the public. You can join a tour of one of the Museumʼs best-loved spaces! \nFrom iodine pills and Geiger counters to board games and ashtrays\, visitors get a glimpse of the vast measures taken to create normalcy in an extraordinary time. \nEmail info@nelsonmuseum.ca to register. Adult admission required – children under 18 are always free!
URL:https://www.wkartscouncil.com/event/guided-cold-war-bunker-tours-73/
LOCATION:Nelson Museum\, Archives & Gallery\, 502 Vernon Street\, Nelson\, V1L 4E7\, Canada
CATEGORIES:Calendar,Community Events,Kid Friendly
ATTACH;FMTTYPE=image/jpeg:https://genexsites.s3.ca-west-1.amazonaws.com/05/wp-content/uploads/sites/26/2023/09/20182335/17-UdtcgC.tmp_.jpg
ORGANIZER;CN="Nelson Museum%2C Archives &amp%3B Gallery":MAILTO:info@nelsonmuseum.ca
END:VEVENT
BEGIN:VEVENT
DTSTART;TZID=America/Vancouver:20250322T130000
DTEND;TZID=America/Vancouver:20250322T150000
DTSTAMP:20260425T085638
CREATED:20250317T230709Z
LAST-MODIFIED:20250323T004623Z
UID:13164-1742648400-1742655600@www.wkartscouncil.com
SUMMARY:Project Wild One Book Signing with Author Louise Sidley at Otter Books
DESCRIPTION:Due to delays at the printers\, Louise Sidley’s book signing event has been postponed to March 22 at Otter Books. \nProject Wild One\, published by Red Deer Press is intended for readers ages 7 and up. This eco-friendly tale is full of adventure and challenges assumptions about nature and the role young people have in it. \nBooks will be available for purchase and signing by the author.
URL:https://www.wkartscouncil.com/event/project-wild-one-book-signing-with-author-louise-sidley-at-otter-books/
LOCATION:Otter Books\, 398 Baker St\, Nelson\, V1L 4H5
CATEGORIES:Calendar,Community Events,Kid Friendly
ATTACH;FMTTYPE=image/png:https://genexsites.s3.ca-west-1.amazonaws.com/05/wp-content/uploads/sites/26/2025/03/20175456/Project-Wild-OneGeneric-Mt3hlT.tmp_.png
END:VEVENT
BEGIN:VEVENT
DTSTART;TZID=America/Vancouver:20250325T100000
DTEND;TZID=America/Vancouver:20250327T150000
DTSTAMP:20260425T085638
CREATED:20250303T051832Z
LAST-MODIFIED:20250303T051832Z
UID:12525-1742896800-1743087600@www.wkartscouncil.com
SUMMARY:Kid’s Felting Workshop
DESCRIPTION:3-day March Break Felting Workshop for Kids – Course Summary\nThis three-day workshop invites children ages 6-12 to explore the art of felting while incorporating colour theory\, creativity\, and hands-on crafting. Each day\, kids will learn a new felting technique—wet felting and needle felting—while creating beautiful handmade projects to take home. Beyond fiber arts\, the workshop includes painting\, storytelling\, and outdoor play\, ensuring a well-rounded and engaging experience. With guidance from two experienced instructors\, kids will develop new skills\, express their creativity\, and gain confidence in their artistic abilities. \nDay 1 – Learn colour theory\, paint a colour wheel\, then Wet felt a Complimentary coloured pouch\nDay 2 – Needle felting intro: Make a Fox Star Wand & design your own brooch or pin (start a 3D owl)\nDay 3 – Create a 3D Needle-Felted Owl \nAges 6-12\nDate: March 25-27 (Tuesday – Thursday) Time: 10 AM – 3 PM Daily\nPrice: $240 (including All Materials)\nLimited spots! \nPerfect for young makers who love art\, nature\, and crafting! \nLearn more about the workshop\, instructors and studio here: \nhttps://www.acornsandaprons.com/workshops \nRegistration form here: \nhttps://forms.gle/Yy2szMvZ8bbkTf3V8
URL:https://www.wkartscouncil.com/event/kids-felting-workshop/
LOCATION:Acrons and Aprons\, South Slocan\, BC
CATEGORIES:Calendar,Kid Friendly,Workshops
ATTACH;FMTTYPE=image/png:https://genexsites.s3.ca-west-1.amazonaws.com/05/wp-content/uploads/sites/26/2025/02/20175549/Untitled-design.png
END:VEVENT
BEGIN:VEVENT
DTSTART;TZID=America/Vancouver:20250327T160000
DTEND;TZID=America/Vancouver:20250327T200000
DTSTAMP:20260425T085638
CREATED:20250303T193104Z
LAST-MODIFIED:20250328T004627Z
UID:12655-1743091200-1743105600@www.wkartscouncil.com
SUMMARY:Spring Fling FREE Thursdays
DESCRIPTION:Come on down to the Nelson Museum on Thursday evenings\, where you can visit the galleries\, museum\, and shop for FREE. 4-8pm every Thursday.
URL:https://www.wkartscouncil.com/event/spring-fling-free-thursdays-10/
LOCATION:Nelson Museum\, Archives & Gallery\, 502 Vernon Street\, Nelson\, V1L 4E7\, Canada
CATEGORIES:Art,Calendar,Kid Friendly
ATTACH;FMTTYPE=image/png:https://genexsites.s3.ca-west-1.amazonaws.com/05/wp-content/uploads/sites/26/2025/03/20175546/spring-fling-insta-sm-mmxj1E.tmp_.png
ORGANIZER;CN="Nelson Museum%2C Archives &amp%3B Gallery":MAILTO:info@nelsonmuseum.ca
END:VEVENT
BEGIN:VEVENT
DTSTART;TZID=America/Vancouver:20250329T110000
DTEND;TZID=America/Vancouver:20250329T120000
DTSTAMP:20260425T085638
CREATED:20241230T175423Z
LAST-MODIFIED:20250330T001614Z
UID:11316-1743246000-1743249600@www.wkartscouncil.com
SUMMARY:Guided Cold War Bunker tours
DESCRIPTION:During the height of the Cold War\, in the 1950s and 1960s\, nearly 50 bunkers were constructed across Canada. In 2017\, the Nelson Museum began work on restoring the space and opening it to the public. You can join a tour of one of the Museumʼs best-loved spaces! \nFrom iodine pills and Geiger counters to board games and ashtrays\, visitors get a glimpse of the vast measures taken to create normalcy in an extraordinary time. \nEmail info@nelsonmuseum.ca to register. Adult admission required – children under 18 are always free!
URL:https://www.wkartscouncil.com/event/guided-cold-war-bunker-tours-72/
LOCATION:Nelson Museum\, Archives & Gallery\, 502 Vernon Street\, Nelson\, V1L 4E7\, Canada
CATEGORIES:Calendar,Community Events,Kid Friendly
ATTACH;FMTTYPE=image/jpeg:https://genexsites.s3.ca-west-1.amazonaws.com/05/wp-content/uploads/sites/26/2023/09/20182335/17-UdtcgC.tmp_.jpg
ORGANIZER;CN="Nelson Museum%2C Archives &amp%3B Gallery":MAILTO:info@nelsonmuseum.ca
END:VEVENT
BEGIN:VEVENT
DTSTART;TZID=America/Vancouver:20250329T190000
DTEND;TZID=America/Vancouver:20250329T220000
DTSTAMP:20260425T085638
CREATED:20250218T190035Z
LAST-MODIFIED:20250330T001615Z
UID:12075-1743274800-1743285600@www.wkartscouncil.com
SUMMARY:Cows Go Moo Live At Bloom Nightclub
DESCRIPTION:The Pride Presents \nCows Go Moo  \nFull Rock Band of youths from Whitehorse Yukon! \nDJ Philly Groove & Lil Sis  \nYouth DJ’s From the Yukon \nKolbe Mikah  \nKootenay Pop & Rnb artist \n  \nThis is a family friendly event all ages welcome \n7-10pm
URL:https://www.wkartscouncil.com/event/cows-go-moo-live-at-bloom-nightclub/
LOCATION:Bloom Nightclub\, 198 Baker St\, Nelson\, British Columbia\, V1L 4H4\, Canada
CATEGORIES:Calendar,Community Events,Kid Friendly,Live Performance
END:VEVENT
END:VCALENDAR