
BEGIN:VCALENDAR
VERSION:2.0
PRODID:-//West Kootenay Regional Arts Council - ECPv6.15.20//NONSGML v1.0//EN
CALSCALE:GREGORIAN
METHOD:PUBLISH
X-WR-CALNAME:West Kootenay Regional Arts Council
X-ORIGINAL-URL:https://www.wkartscouncil.com
X-WR-CALDESC:Events for West Kootenay Regional Arts Council
REFRESH-INTERVAL;VALUE=DURATION:PT1H
X-Robots-Tag:noindex
X-PUBLISHED-TTL:PT1H
BEGIN:VTIMEZONE
TZID:America/Vancouver
BEGIN:DAYLIGHT
TZOFFSETFROM:-0800
TZOFFSETTO:-0700
TZNAME:PDT
DTSTART:20240310T100000
END:DAYLIGHT
BEGIN:STANDARD
TZOFFSETFROM:-0700
TZOFFSETTO:-0800
TZNAME:PST
DTSTART:20241103T090000
END:STANDARD
BEGIN:DAYLIGHT
TZOFFSETFROM:-0800
TZOFFSETTO:-0700
TZNAME:PDT
DTSTART:20250309T100000
END:DAYLIGHT
BEGIN:STANDARD
TZOFFSETFROM:-0700
TZOFFSETTO:-0800
TZNAME:PST
DTSTART:20251102T090000
END:STANDARD
BEGIN:DAYLIGHT
TZOFFSETFROM:-0800
TZOFFSETTO:-0700
TZNAME:PDT
DTSTART:20260308T100000
END:DAYLIGHT
BEGIN:STANDARD
TZOFFSETFROM:-0700
TZOFFSETTO:-0800
TZNAME:PST
DTSTART:20261101T090000
END:STANDARD
END:VTIMEZONE
BEGIN:VEVENT
DTSTART;TZID=America/Vancouver:20250308T190000
DTEND;TZID=America/Vancouver:20250308T210000
DTSTAMP:20260419T105141
CREATED:20250218T190036Z
LAST-MODIFIED:20250308T234619Z
UID:12059-1741460400-1741467600@www.wkartscouncil.com
SUMMARY:ReelRock 19
DESCRIPTION:TAWKROC and THE CASTLE THEATRE PRESENT:REELROCK 19\nSaturday March 8th – doors at 6pm show at 7pmLicensed event\nCome out and support your local climbing community\nReel Rock 19 showcases three world-premiere climbing films spanning disciplines\, characters\, and continents: a heartfelt story of second chances in love and climbing on Squamish’s legendary Cobra Crack; an outrageous 18-day big wall epic on Patagonia’s towering Torre Central; and the pursuit of a lifelong dream—a 5.15 first ascent—made possible by an unlikely partnership. Reel Rock 19 is on tour worldwide starting March 2025.
URL:https://www.wkartscouncil.com/event/reelrock-19/
LOCATION:Castle Theatre\, 185 Columbia Ave.\, Castlegar
CATEGORIES:Calendar,Community Events,Exhibition/Speakers,Film,Sports
ATTACH;FMTTYPE=image/jpeg:https://genexsites.s3.ca-west-1.amazonaws.com/05/wp-content/uploads/sites/26/2025/02/20175635/rr-zatP9M.tmp_.jpg
END:VEVENT
END:VCALENDAR