
BEGIN:VCALENDAR
VERSION:2.0
PRODID:-//West Kootenay Regional Arts Council - ECPv6.15.20//NONSGML v1.0//EN
CALSCALE:GREGORIAN
METHOD:PUBLISH
X-WR-CALNAME:West Kootenay Regional Arts Council
X-ORIGINAL-URL:https://www.wkartscouncil.com
X-WR-CALDESC:Events for West Kootenay Regional Arts Council
REFRESH-INTERVAL;VALUE=DURATION:PT1H
X-Robots-Tag:noindex
X-PUBLISHED-TTL:PT1H
BEGIN:VTIMEZONE
TZID:America/Vancouver
BEGIN:DAYLIGHT
TZOFFSETFROM:-0800
TZOFFSETTO:-0700
TZNAME:PDT
DTSTART:20230312T100000
END:DAYLIGHT
BEGIN:STANDARD
TZOFFSETFROM:-0700
TZOFFSETTO:-0800
TZNAME:PST
DTSTART:20231105T090000
END:STANDARD
BEGIN:DAYLIGHT
TZOFFSETFROM:-0800
TZOFFSETTO:-0700
TZNAME:PDT
DTSTART:20240310T100000
END:DAYLIGHT
BEGIN:STANDARD
TZOFFSETFROM:-0700
TZOFFSETTO:-0800
TZNAME:PST
DTSTART:20241103T090000
END:STANDARD
BEGIN:DAYLIGHT
TZOFFSETFROM:-0800
TZOFFSETTO:-0700
TZNAME:PDT
DTSTART:20250309T100000
END:DAYLIGHT
BEGIN:STANDARD
TZOFFSETFROM:-0700
TZOFFSETTO:-0800
TZNAME:PST
DTSTART:20251102T090000
END:STANDARD
END:VTIMEZONE
BEGIN:VEVENT
DTSTART;TZID=America/Vancouver:20241214T123000
DTEND;TZID=America/Vancouver:20241214T170000
DTSTAMP:20260419T154825
CREATED:20241209T211037Z
LAST-MODIFIED:20241214T184708Z
UID:11023-1734179400-1734195600@www.wkartscouncil.com
SUMMARY:Home for the Holidays
DESCRIPTION:It’s the most wonderful time of the year. The Civic has been on the move a lot this year with an under the stars outdoor theatre in the Summer and Fall and now we are off to Studio 88 for our annual Home for The Holidays free community event. Co-presented and hosted by Studio 88\, this year’s event promises performance\, more art and music along with a free holiday movie\, prizes and a visit from Santa. Bring your sketchbook and mark making tools if you got them. We will have paper and pencils on hand if you don’t.
URL:https://www.wkartscouncil.com/event/home-for-the-holidays/
LOCATION:Nelson Studio 88\, 402 Victoria St.\, Nelson\, BC\, V1L 4K5\, Canada
CATEGORIES:Calendar,Community Events,Film,Kid Friendly,Live Performance
ATTACH;FMTTYPE=image/jpeg:https://genexsites.s3.ca-west-1.amazonaws.com/05/wp-content/uploads/sites/26/2024/12/20175851/hh-qHWfAo.tmp_.jpg
END:VEVENT
END:VCALENDAR