
BEGIN:VCALENDAR
VERSION:2.0
PRODID:-//West Kootenay Regional Arts Council - ECPv6.15.20//NONSGML v1.0//EN
CALSCALE:GREGORIAN
METHOD:PUBLISH
X-WR-CALNAME:West Kootenay Regional Arts Council
X-ORIGINAL-URL:https://www.wkartscouncil.com
X-WR-CALDESC:Events for West Kootenay Regional Arts Council
REFRESH-INTERVAL;VALUE=DURATION:PT1H
X-Robots-Tag:noindex
X-PUBLISHED-TTL:PT1H
BEGIN:VTIMEZONE
TZID:America/Vancouver
BEGIN:DAYLIGHT
TZOFFSETFROM:-0800
TZOFFSETTO:-0700
TZNAME:PDT
DTSTART:20230312T100000
END:DAYLIGHT
BEGIN:STANDARD
TZOFFSETFROM:-0700
TZOFFSETTO:-0800
TZNAME:PST
DTSTART:20231105T090000
END:STANDARD
BEGIN:DAYLIGHT
TZOFFSETFROM:-0800
TZOFFSETTO:-0700
TZNAME:PDT
DTSTART:20240310T100000
END:DAYLIGHT
BEGIN:STANDARD
TZOFFSETFROM:-0700
TZOFFSETTO:-0800
TZNAME:PST
DTSTART:20241103T090000
END:STANDARD
BEGIN:DAYLIGHT
TZOFFSETFROM:-0800
TZOFFSETTO:-0700
TZNAME:PDT
DTSTART:20250309T100000
END:DAYLIGHT
BEGIN:STANDARD
TZOFFSETFROM:-0700
TZOFFSETTO:-0800
TZNAME:PST
DTSTART:20251102T090000
END:STANDARD
END:VTIMEZONE
BEGIN:VEVENT
DTSTART;TZID=America/Vancouver:20241012T220000
DTEND;TZID=America/Vancouver:20241013T030000
DTSTAMP:20260419T221254
CREATED:20240923T044206Z
LAST-MODIFIED:20241010T200235Z
UID:10039-1728770400-1728788400@www.wkartscouncil.com
SUMMARY:SHADOWPLAY: A Night of Dark Music
DESCRIPTION:Join duo CLOAK & DAGGER and their comrade JAKOB with special guest MRAKI for a spectral second installment of SHADOWPLAY Saturday October 12th at the Oxygen Art Centre. This dark music event takes its name from the iconic track off of Joy Division’s debut album Unknown Pleasures. The band’s intervention in 1979 was a game changer that inspired many genres of unique auditory exploration\, such as darkwave\, EBM\, industrial\, new wave\, post-punk\, and gothic rock. The night will feature vintage and contemporary releases from a variety of these mesmerizing and mysterious musical genres.
URL:https://www.wkartscouncil.com/event/shadowplay-a-night-of-dark-music/
LOCATION:Oxygen Art Centre\, 320 Vernon St Unit-3\, Nelson\, British Columbia\, V1L 4E4\, Canada
CATEGORIES:Calendar,Community Events,Film,Live Performance
ATTACH;FMTTYPE=image/jpeg:https://genexsites.s3.ca-west-1.amazonaws.com/05/wp-content/uploads/sites/26/2024/09/20180233/Shadowplay-Oct.-2024-Kootenay-Calender-Tile-01-XeGmPn.tmp_.jpg
ORGANIZER;CN="JAKOB":MAILTO:jakob-sounds@protonmail.com
END:VEVENT
END:VCALENDAR