
BEGIN:VCALENDAR
VERSION:2.0
PRODID:-//West Kootenay Regional Arts Council - ECPv6.15.20//NONSGML v1.0//EN
CALSCALE:GREGORIAN
METHOD:PUBLISH
X-ORIGINAL-URL:https://www.wkartscouncil.com
X-WR-CALDESC:Events for West Kootenay Regional Arts Council
REFRESH-INTERVAL;VALUE=DURATION:PT1H
X-Robots-Tag:noindex
X-PUBLISHED-TTL:PT1H
BEGIN:VTIMEZONE
TZID:America/Vancouver
BEGIN:DAYLIGHT
TZOFFSETFROM:-0800
TZOFFSETTO:-0700
TZNAME:PDT
DTSTART:20240310T100000
END:DAYLIGHT
BEGIN:STANDARD
TZOFFSETFROM:-0700
TZOFFSETTO:-0800
TZNAME:PST
DTSTART:20241103T090000
END:STANDARD
BEGIN:DAYLIGHT
TZOFFSETFROM:-0800
TZOFFSETTO:-0700
TZNAME:PDT
DTSTART:20250309T100000
END:DAYLIGHT
BEGIN:STANDARD
TZOFFSETFROM:-0700
TZOFFSETTO:-0800
TZNAME:PST
DTSTART:20251102T090000
END:STANDARD
BEGIN:DAYLIGHT
TZOFFSETFROM:-0800
TZOFFSETTO:-0700
TZNAME:PDT
DTSTART:20260308T100000
END:DAYLIGHT
BEGIN:STANDARD
TZOFFSETFROM:-0700
TZOFFSETTO:-0800
TZNAME:PST
DTSTART:20261101T090000
END:STANDARD
BEGIN:DAYLIGHT
TZOFFSETFROM:-0800
TZOFFSETTO:-0700
TZNAME:PDT
DTSTART:20270314T100000
END:DAYLIGHT
BEGIN:STANDARD
TZOFFSETFROM:-0700
TZOFFSETTO:-0800
TZNAME:PST
DTSTART:20271107T090000
END:STANDARD
END:VTIMEZONE
BEGIN:VEVENT
DTSTART;TZID=America/Vancouver:20251112T203000
DTEND;TZID=America/Vancouver:20251112T230000
DTSTAMP:20260422T155926
CREATED:20250814T164849Z
LAST-MODIFIED:20250902T223118Z
UID:18545-1762979400-1762988400@www.wkartscouncil.com
SUMMARY:KOOTENAY COMEDY OPEN MIC
DESCRIPTION:With your host Cry Bebe Mikey! $5 at the door! 19+ \n  \nOpen Mic Comedy with some of the Kootenays finest and some others! \nmessage @kootenaycomedy on instagram to sign up!
URL:https://www.wkartscouncil.com/event/kootenay-comedy-open-mic-24/
LOCATION:The Royal\, 330 Baker Street Nelson\, BC V1L 4H5\, Nelson\, British Columbia\, V1L 4H5\, Canada
CATEGORIES:Calendar,Comedy
END:VEVENT
BEGIN:VEVENT
DTSTART;TZID=America/Vancouver:20260207T150000
DTEND;TZID=America/Vancouver:20260207T160000
DTSTAMP:20260422T155926
CREATED:20260126T230617Z
LAST-MODIFIED:20260126T230617Z
UID:23196-1770476400-1770480000@www.wkartscouncil.com
SUMMARY:Trail: Presto! The Great Lambrusco
DESCRIPTION:The Rossland Council for Arts and Culture and Trail & District Arts Council TOGETHER present PRESTO! by Nayana Fielkov\, a comedic show for kids 5 to 12 years old and their families to enjoy together. The show is on Saturday\, February 7 at 3 pm at the Rossland Miners Hall as part of the TECK Family Series. \nPresto! The Great Lambrusco turns scarves into eggs! Coins appear from thin air\, and a cupcake gets baked in a shoe! In this comedic unfolding\, the audience finds out that illusions are not reality\, and that to find true magic\, we must slow down\, observe\, and listen.\nReal magic\, real comedy\, real entertainment for the whole family! \nWatch the trailer https://youtu.be/kJoyUj-gsq4 \nSuitable for ages 5 to 12 years old. 60 minutes. \nAcclaimed performing artist Nayana Fielkov has performed at festivals and venues across the country with her genre-bending approach to theatre. She is co-creator of award-winning RAGMOP Theatre\, Habitats\, Underbelly\, and The Myrtle Sisters\, and is a founding member of the Dusty Flowerpot Cabaret. \nSingle tickets are $18 or get tickets to all 4 Family Series shows for just $60. General admission seating so come early to get the best seats.\nAll individual tickets and passes are available online at purchase.trail-arts.com\, by phone at 250-368-9669\, and in person at the Bailey Box Office at 1501 Cedar Ave.\, Trail. \nThis show is made possible thanks to funding from Teck Trail Operations\, the BC Arts Council\, BC Touring Council\, the Government of Canada\, and Tourism South Kootenay with support from Ferraro Foods and the Prestige Mountain Resort Rossland. We also gratefully acknowledge the financial support of the Province of British Columbia.
URL:https://www.wkartscouncil.com/event/trail-presto-the-great-lambrusco/
LOCATION:Bailey Theatre\, 1501 Cedar Ave.\, Trail\, BC
CATEGORIES:Art,Calendar,Comedy,Kid Friendly,Live Performance
ATTACH;FMTTYPE=image/jpeg:https://genexsites.s3.ca-west-1.amazonaws.com/05/wp-content/uploads/sites/26/2026/01/26150507/presto-1.jpg
ORGANIZER;CN="Trail &#038%3B District Arts Council":MAILTO:info@trail-arts.com
END:VEVENT
BEGIN:VEVENT
DTSTART;TZID=America/Vancouver:20260411T193000
DTEND;TZID=America/Vancouver:20260411T220000
DTSTAMP:20260422T155926
CREATED:20260411T020826Z
LAST-MODIFIED:20260411T234520Z
UID:23964-1775935800-1775944800@www.wkartscouncil.com
SUMMARY:Trail - Queen City Burlesque Expo
DESCRIPTION:Queen City Burlesque Expo Returns for Its 7th Season with “Step Into Your Power” \nThree-Night Celebration Brings International Performers to the Kootenays\, April 11–13 \nCASTLEGAR/TRAIL/SALMO\, BC — The Queen City Burlesque Expo is back\, and this year it’s going silver. Now in its seventh season\, the landmark Kootenay burlesque event returns April 11–13 with a three-night run across Castlegar\, Trail\, and Salmo under the theme Step Into Your Power — a celebration of diversity\, personal strength\, and fearless self-expression. \nHeadlining this year’s Expo is the internationally acclaimed Jessabelle Thunder\, joined by Canadian icons Bettina May and Jezebel Express\, alongside performers from around the world converging on the region for one extraordinary weekend. Want to join in on the fun? Character-driven workshops covering movement\, modelling\, and personal discovery will be offered at Bailey Theatre on Saturday\, April 11th\, at $25 each and open to everyone. \nShow Schedule:\nFriday\, April 10 — Castle Theatre\, Castlegar | 8:00 PM\nSaturday\, April 11 — Charles Bailey Theatre\, Trail | 7:30 PM\nSunday\, April 12 — Salmo Hotel Pub & Grill\, Salmo | 12:00 PM \nTickets range from $17 to $45 (CAD) and are available now at queencityburlesque.ca. \n“The Kootenays deserve world-class live art\, and for seven years the Queen City Burlesque Expo has delivered exactly that. This season’s theme\, Step Into Your Power\, is an invitation to everyone in our community to show up\, be seen\, and celebrate what makes us distinct. We have an extraordinary lineup\, and I cannot wait to share it.” Venessa Loubert\, Founder and Artistic Director\, Queen City Burlesque Expo \nTrail business manager at Copper Magnolia\, Dana Gould\, echoes that sentiment: “The Expo is great for Trail and its surrounding area. It’s a fun crowd\, presenting phenomenal showcases\, and the influx of tourism during an otherwise quiet time of the year is a great reason to go out and support the show.” \nNow in its seventh year\, the Queen City Burlesque Expo has established itself as one of the Kootenays’ most distinctive live arts events\, drawing audiences and performers from across Canada and beyond. The Expo is produced by Trail Arts Council along with its Founder and Artistic Director\, a four-time Top 5 Canadian Burlesque Producer. \nThe weekend is sponsored by Trail & District Arts Council\, ReDi Grants\, Columbia Basin Trust\, British Columbia Arts Council\, Government of Canada\, South Kootenay\, and BC Live Performance Network. \nFor tickets and full event details\, visit queencityburlesque.ca.
URL:https://www.wkartscouncil.com/event/trail-qcb-expo/
LOCATION:Charles Bailey Theatre\, 1501 Cedar Ave\, Trail\, British Columbia\, V1R 4C7\, Canada
CATEGORIES:Art,Calendar,Comedy,Community Events,LGBTQIA2S+
ATTACH;FMTTYPE=image/png:https://genexsites.s3.ca-west-1.amazonaws.com/05/wp-content/uploads/sites/26/2026/03/17111129/queen-city-burlesque.png
END:VEVENT
BEGIN:VEVENT
DTSTART;TZID=America/Vancouver:20260412T120000
DTEND;TZID=America/Vancouver:20260412T140000
DTSTAMP:20260422T155926
CREATED:20260411T021638Z
LAST-MODIFIED:20260411T022050Z
UID:23961-1775995200-1776002400@www.wkartscouncil.com
SUMMARY:Salmo - Queen City Burlesque Expo
DESCRIPTION:Queen City Burlesque Expo Returns for Its 7th Season with “Step Into Your Power” \nThree-Night Celebration Brings International Performers to the Kootenays\, April 11–13 \nCASTLEGAR/TRAIL/SALMO\, BC — The Queen City Burlesque Expo is back\, and this year it’s going silver. Now in its seventh season\, the landmark Kootenay burlesque event returns April 11–13 with a three-night run across Castlegar\, Trail\, and Salmo under the theme Step Into Your Power — a celebration of diversity\, personal strength\, and fearless self-expression. \nHeadlining this year’s Expo is the internationally acclaimed Jessabelle Thunder\, joined by Canadian icons Bettina May and Jezebel Express\, alongside performers from around the world converging on the region for one extraordinary weekend. Want to join in on the fun? Character-driven workshops covering movement\, modelling\, and personal discovery will be offered at Bailey Theatre on Saturday\, April 11th\, at $25 each and open to everyone. \nShow Schedule:\nFriday\, April 10 — Castle Theatre\, Castlegar | 8:00 PM\nSaturday\, April 11 — Charles Bailey Theatre\, Trail | 7:30 PM\nSunday\, April 12 — Salmo Hotel Pub & Grill\, Salmo | 12:00 PM \nTickets range from $17 to $45 (CAD) and are available now at queencityburlesque.ca. \n“The Kootenays deserve world-class live art\, and for seven years the Queen City Burlesque Expo has delivered exactly that. This season’s theme\, Step Into Your Power\, is an invitation to everyone in our community to show up\, be seen\, and celebrate what makes us distinct. We have an extraordinary lineup\, and I cannot wait to share it.” Venessa Loubert\, Founder and Artistic Director\, Queen City Burlesque Expo \nTrail business manager at Copper Magnolia\, Dana Gould\, echoes that sentiment: “The Expo is great for Trail and its surrounding area. It’s a fun crowd\, presenting phenomenal showcases\, and the influx of tourism during an otherwise quiet time of the year is a great reason to go out and support the show.” \nNow in its seventh year\, the Queen City Burlesque Expo has established itself as one of the Kootenays’ most distinctive live arts events\, drawing audiences and performers from across Canada and beyond. The Expo is produced by Trail Arts Council along with its Founder and Artistic Director\, a four-time Top 5 Canadian Burlesque Producer. \nThe weekend is sponsored by Trail & District Arts Council\, ReDi Grants\, Columbia Basin Trust\, British Columbia Arts Council\, Government of Canada\, South Kootenay\, and BC Live Performance Network. \nFor tickets and full event details\, visit queencityburlesque.ca.
URL:https://www.wkartscouncil.com/event/salmo-qcb-expo/
LOCATION:Salmo Hotel Pub & Grill\, 101 Fourth St\, Salmo
CATEGORIES:Art,Calendar,Comedy,Community Events,LGBTQIA2S+
ATTACH;FMTTYPE=image/png:https://genexsites.s3.ca-west-1.amazonaws.com/05/wp-content/uploads/sites/26/2026/03/17111129/queen-city-burlesque.png
END:VEVENT
END:VCALENDAR