
BEGIN:VCALENDAR
VERSION:2.0
PRODID:-//West Kootenay Regional Arts Council - ECPv6.15.20//NONSGML v1.0//EN
CALSCALE:GREGORIAN
METHOD:PUBLISH
X-WR-CALNAME:West Kootenay Regional Arts Council
X-ORIGINAL-URL:https://www.wkartscouncil.com
X-WR-CALDESC:Events for West Kootenay Regional Arts Council
REFRESH-INTERVAL;VALUE=DURATION:PT1H
X-Robots-Tag:noindex
X-PUBLISHED-TTL:PT1H
BEGIN:VTIMEZONE
TZID:America/Vancouver
BEGIN:DAYLIGHT
TZOFFSETFROM:-0800
TZOFFSETTO:-0700
TZNAME:PDT
DTSTART:20240310T100000
END:DAYLIGHT
BEGIN:STANDARD
TZOFFSETFROM:-0700
TZOFFSETTO:-0800
TZNAME:PST
DTSTART:20241103T090000
END:STANDARD
BEGIN:DAYLIGHT
TZOFFSETFROM:-0800
TZOFFSETTO:-0700
TZNAME:PDT
DTSTART:20250309T100000
END:DAYLIGHT
BEGIN:STANDARD
TZOFFSETFROM:-0700
TZOFFSETTO:-0800
TZNAME:PST
DTSTART:20251102T090000
END:STANDARD
BEGIN:DAYLIGHT
TZOFFSETFROM:-0800
TZOFFSETTO:-0700
TZNAME:PDT
DTSTART:20260308T100000
END:DAYLIGHT
BEGIN:STANDARD
TZOFFSETFROM:-0700
TZOFFSETTO:-0800
TZNAME:PST
DTSTART:20261101T090000
END:STANDARD
END:VTIMEZONE
BEGIN:VEVENT
DTSTART;TZID=America/Vancouver:20250527T193000
DTEND;TZID=America/Vancouver:20250527T213000
DTSTAMP:20260421T233348
CREATED:20250317T230707Z
LAST-MODIFIED:20250327T201657Z
UID:13179-1748374200-1748381400@www.wkartscouncil.com
SUMMARY:Nelson Sketch Comedy Revue: Volume II
DESCRIPTION:After selling out the Capitol Theatre in November 2024 with the premiere of Nelson Sketch Comedy Revue\, we’re back—bigger\, bolder\, and weirder than ever. \nThis show is a love letter to the phrase “Keep Nelson Weird.” It’s a live show packed with fast-paced\, scripted comedy. Each scene is short\, sharp\, and completely original—written and performed by the cast. Expect the return of Nelson News Tonight—and if you don’t know what that is… well\, we won’t spoil it for you.  \nWhat audiences said about our last show: \n“That was such an amazing show! Maybe the best I’ve seen in Nelson\, honestly. Please do it again!”\n “I haven’t laughed that much in a long time.”\n “We loved it so so much and can’t wait to see the next show!”\n“PEOPLE IN THE BATHROOM CAN”T STOP TALKING ABOUT HOW GOOD THE SHOW IS!!!! AHHH!!!!!” \nThe Cast: \nJaymes Bowman \nMichelle Hart \nEmma Hill \nRuby Horton \nKait Hundt-Lippett \nRuth Krulitsky \nJonathan Ramos \n  \nWith special guest\, Jackie Atkins!  \n  \nDirected by Michelle Hart  \nThis 90-minute production\, including an intermission\, features mature content—parental discretion is advised. \nDue to the incredible response to our last show\, we’re thrilled to add a second performance! Don’t miss your chance to catch us at the Capitol Theatre on May 15 or May 27
URL:https://www.wkartscouncil.com/event/nelson-sketch-comedy-revue-volume-ii/
LOCATION:The Capitol Theatre\, 421 Victoria Street\, Nelson\, British Columbia\, V1L 5R2\, Canada
CATEGORIES:Art,Calendar,Comedy,Community Events,Exhibition/Speakers
ATTACH;FMTTYPE=image/png:https://genexsites.s3.ca-west-1.amazonaws.com/05/wp-content/uploads/sites/26/2025/03/20175453/Insta-Tiles-.png
END:VEVENT
END:VCALENDAR