
BEGIN:VCALENDAR
VERSION:2.0
PRODID:-//West Kootenay Regional Arts Council - ECPv6.15.20//NONSGML v1.0//EN
CALSCALE:GREGORIAN
METHOD:PUBLISH
X-WR-CALNAME:West Kootenay Regional Arts Council
X-ORIGINAL-URL:https://www.wkartscouncil.com
X-WR-CALDESC:Events for West Kootenay Regional Arts Council
REFRESH-INTERVAL;VALUE=DURATION:PT1H
X-Robots-Tag:noindex
X-PUBLISHED-TTL:PT1H
BEGIN:VTIMEZONE
TZID:America/Vancouver
BEGIN:DAYLIGHT
TZOFFSETFROM:-0800
TZOFFSETTO:-0700
TZNAME:PDT
DTSTART:20240310T100000
END:DAYLIGHT
BEGIN:STANDARD
TZOFFSETFROM:-0700
TZOFFSETTO:-0800
TZNAME:PST
DTSTART:20241103T090000
END:STANDARD
BEGIN:DAYLIGHT
TZOFFSETFROM:-0800
TZOFFSETTO:-0700
TZNAME:PDT
DTSTART:20250309T100000
END:DAYLIGHT
BEGIN:STANDARD
TZOFFSETFROM:-0700
TZOFFSETTO:-0800
TZNAME:PST
DTSTART:20251102T090000
END:STANDARD
BEGIN:DAYLIGHT
TZOFFSETFROM:-0800
TZOFFSETTO:-0700
TZNAME:PDT
DTSTART:20260308T100000
END:DAYLIGHT
BEGIN:STANDARD
TZOFFSETFROM:-0700
TZOFFSETTO:-0800
TZNAME:PST
DTSTART:20261101T090000
END:STANDARD
END:VTIMEZONE
BEGIN:VEVENT
DTSTART;TZID=America/Vancouver:20250510T193000
DTEND;TZID=America/Vancouver:20250510T210000
DTSTAMP:20260421T233350
CREATED:20250407T183626Z
LAST-MODIFIED:20250423T201522Z
UID:13785-1746905400-1746910800@www.wkartscouncil.com
SUMMARY:“HYPROV: Improv Under Hypnosis” starring Colin Mochrie (of Whose Line Is It Anyway?) and Asad Mecci (World Renowned Hypnotist)
DESCRIPTION:The City of Trail and Trail Arts Council co-present Silver City Day’s “HYPROV: Improv Under Hypnosis” starring Colin Mochrie (of Whose Line Is It Anyway?) and Asad Mecci (World Renowned Hypnotist).\n\nHYPROV (pronounced hip-rawv) is coming to Trail after 100 cities toured\, a 70-show run Off Broadway in New York City and a six month residency in Las Vegas!!\n\nHYPROV is “hilarious and fascinating” (says Time Out New York) and is “catnip for those who relish spontaneity and informality\,” (The Wall Street Journal). The New Yorker says\, “say yes to HYPROV\,”!\n\nThe 90-minute live show combines hypnosis and improv – two art forms that have mystified and entertained fans\, skeptics and everyone in between worldwide – for a totally unique comedy experience that The Times of London declared “a celebration of the human imagination.” Your evening begins with World Renowned Hypnotist\, Asad Mecci welcoming 20 volunteers* on stage to be hypnotized.\n\nThe most receptive to hypnosis then join Colin Mochrie (Whose Line is it\, Anyway?) to improvise the rest of the show\, while hypnotized. In the hands of two experts\, and solely crafted from the volunteers’ uninhibited\, unconscious minds and audience suggestions\, each show is an entirely original and completely unforgettable theatrical experience. Whether in the audience or on stage performing\, get ready to have the time of your life!!\n\nThe most interactive comedy show in the world!\n\n“Hilarious and Fascinating” – Time out New York\n\nMore about the show at https://hyprov.com/\n\nLicensed Event.\n\nTICKETS: ALL AGES $50. Community Access Card $25 (limited # available)\n\nReserved Seating. Length of show: 90mins\n\n*Participation is completely voluntary\n**Disclaimer*** all ages welcome but we cannot control the language of what comes out the mouths of people under hypnosis.\n*** The show will be over in time to watch the SCD fireworks.\n\nWheelchair seating is available but can only be purchased through the box office 250-368-9669.
URL:https://www.wkartscouncil.com/event/hyprov-improv-under-hypnosis-starring-colin-mochrie-of-whose-line-is-it-anyway-and-asad-mecci-world-renowned-hypnotist/
LOCATION:Bailey Theatre\, 1501 Cedar Ave.\, Trail\, BC
CATEGORIES:Calendar,Comedy,Live Performance
ATTACH;FMTTYPE=image/jpeg:https://genexsites.s3.ca-west-1.amazonaws.com/05/wp-content/uploads/sites/26/2025/04/20175402/hyprov-tm-secondary-zdhp99.tmp_.jpg
ORGANIZER;CN="Trail &#038%3B District Arts Council":MAILTO:info@trail-arts.com
END:VEVENT
END:VCALENDAR