
BEGIN:VCALENDAR
VERSION:2.0
PRODID:-//West Kootenay Regional Arts Council - ECPv6.15.20//NONSGML v1.0//EN
CALSCALE:GREGORIAN
METHOD:PUBLISH
X-ORIGINAL-URL:https://www.wkartscouncil.com
X-WR-CALDESC:Events for West Kootenay Regional Arts Council
REFRESH-INTERVAL;VALUE=DURATION:PT1H
X-Robots-Tag:noindex
X-PUBLISHED-TTL:PT1H
BEGIN:VTIMEZONE
TZID:America/Vancouver
BEGIN:DAYLIGHT
TZOFFSETFROM:-0800
TZOFFSETTO:-0700
TZNAME:PDT
DTSTART:20240310T100000
END:DAYLIGHT
BEGIN:STANDARD
TZOFFSETFROM:-0700
TZOFFSETTO:-0800
TZNAME:PST
DTSTART:20241103T090000
END:STANDARD
BEGIN:DAYLIGHT
TZOFFSETFROM:-0800
TZOFFSETTO:-0700
TZNAME:PDT
DTSTART:20250309T100000
END:DAYLIGHT
BEGIN:STANDARD
TZOFFSETFROM:-0700
TZOFFSETTO:-0800
TZNAME:PST
DTSTART:20251102T090000
END:STANDARD
BEGIN:DAYLIGHT
TZOFFSETFROM:-0800
TZOFFSETTO:-0700
TZNAME:PDT
DTSTART:20260308T100000
END:DAYLIGHT
BEGIN:STANDARD
TZOFFSETFROM:-0700
TZOFFSETTO:-0800
TZNAME:PST
DTSTART:20261101T090000
END:STANDARD
END:VTIMEZONE
BEGIN:VEVENT
DTSTART;TZID=America/Vancouver:20250504T190000
DTEND;TZID=America/Vancouver:20250504T210000
DTSTAMP:20260422T012009
CREATED:20250401T175538Z
LAST-MODIFIED:20250505T000137Z
UID:13649-1746385200-1746392400@www.wkartscouncil.com
SUMMARY:Because I’m Your Mother\, That’s Why!
DESCRIPTION:A sensitive\, funny\, and poignant dramatic play reading about motherhood\, directed by Pat Henman and featuring two dozen local actors\, singers and your friends and neighbours–just ahead of Mother’s Day! It’s also a fundraiser for Taghum Hall’s kitchen reno.
URL:https://www.wkartscouncil.com/event/because-im-your-mother-thats-why/
LOCATION:Taghum Hall\, 5915 Taghum Hall Rd\, Nelson\, V1L 6Y4
CATEGORIES:Art,Calendar,Comedy,Live Performance
ORGANIZER;CN="Taghum Hall":MAILTO:taghumhall@shaw.ca
END:VEVENT
END:VCALENDAR