
BEGIN:VCALENDAR
VERSION:2.0
PRODID:-//West Kootenay Regional Arts Council - ECPv6.15.20//NONSGML v1.0//EN
CALSCALE:GREGORIAN
METHOD:PUBLISH
X-ORIGINAL-URL:https://www.wkartscouncil.com
X-WR-CALDESC:Events for West Kootenay Regional Arts Council
REFRESH-INTERVAL;VALUE=DURATION:PT1H
X-Robots-Tag:noindex
X-PUBLISHED-TTL:PT1H
BEGIN:VTIMEZONE
TZID:America/Vancouver
BEGIN:DAYLIGHT
TZOFFSETFROM:-0800
TZOFFSETTO:-0700
TZNAME:PDT
DTSTART:20240310T100000
END:DAYLIGHT
BEGIN:STANDARD
TZOFFSETFROM:-0700
TZOFFSETTO:-0800
TZNAME:PST
DTSTART:20241103T090000
END:STANDARD
BEGIN:DAYLIGHT
TZOFFSETFROM:-0800
TZOFFSETTO:-0700
TZNAME:PDT
DTSTART:20250309T100000
END:DAYLIGHT
BEGIN:STANDARD
TZOFFSETFROM:-0700
TZOFFSETTO:-0800
TZNAME:PST
DTSTART:20251102T090000
END:STANDARD
BEGIN:DAYLIGHT
TZOFFSETFROM:-0800
TZOFFSETTO:-0700
TZNAME:PDT
DTSTART:20260308T100000
END:DAYLIGHT
BEGIN:STANDARD
TZOFFSETFROM:-0700
TZOFFSETTO:-0800
TZNAME:PST
DTSTART:20261101T090000
END:STANDARD
END:VTIMEZONE
BEGIN:VEVENT
DTSTART;TZID=America/Vancouver:20250709T203000
DTEND;TZID=America/Vancouver:20250709T230000
DTSTAMP:20260421T182112
CREATED:20250527T011949Z
LAST-MODIFIED:20250709T211744Z
UID:15525-1752093000-1752102000@www.wkartscouncil.com
SUMMARY:KOOTENAY COMEDY OPEN MIC
DESCRIPTION:With your host Cry Bebe Mikey! $5 at the door! 19+ \n  \nOpen Mic Comedy with some of the Kootenays finest and some others! \nmessage @kootenaycomedy on instagram to sign up!
URL:https://www.wkartscouncil.com/event/kootenay-comedy-open-mic-20/
LOCATION:The Royal\, 330 Baker Street Nelson\, BC V1L 4H5\, Nelson\, British Columbia\, V1L 4H5\, Canada
CATEGORIES:Calendar,Comedy
END:VEVENT
BEGIN:VEVENT
DTSTART;TZID=America/Vancouver:20250718T170000
DTEND;TZID=America/Vancouver:20250720T220000
DTSTAMP:20260421T182112
CREATED:20250531T011019Z
LAST-MODIFIED:20250719T004819Z
UID:16018-1752858000-1753048800@www.wkartscouncil.com
SUMMARY:Starbelly Jam Music Festival
DESCRIPTION:NOT TOO BIG\, NOT TOO SMALL…\n\n\n\n\n\n\n\n\nStarbelly Jam is a special festival; great entertainment\, great food\, great people\, lots of happy kids and room to play — we’ve deliberately steered the festival away from getting too big or becoming too crowded; this festival’s success is all about the celebration of life through music\, friendship and having a fun time for all in a safe and secure environment.
URL:https://www.wkartscouncil.com/event/starbelly-jam-music-festival-3/
LOCATION:Crawford Bay
CATEGORIES:Art,Calendar,Comedy,Community Events,Exhibition/Speakers,Kid Friendly,Live Performance,Markets/Festival,Workshops
ORGANIZER;CN="Starbelly Jam":MAILTO:info@starbellyjam.org
END:VEVENT
BEGIN:VEVENT
DTSTART;TZID=America/Vancouver:20250726T180000
DTEND;TZID=America/Vancouver:20250726T210000
DTSTAMP:20260421T182112
CREATED:20250729T182514Z
LAST-MODIFIED:20250729T182514Z
UID:18128-1753552800-1753563600@www.wkartscouncil.com
SUMMARY:Cry Bebes Yacht Rock Garden
DESCRIPTION:Putting the SAD back and your SADderday nights LIVE this week at the World famous HUME BEER GARDEN! set sale for a sentimental journey as the Titan of tears himself Navigates this ship through the rough waters of emotions from 6 until 9 PM! Family friendly\, kids and dogs welcome!
URL:https://www.wkartscouncil.com/event/cry-bebes-yacht-rock-garden/
LOCATION:Hume Hotel Beer Garden Stage\, 422 Vernon Street\, Nelson\, British Columbia\, V1L 4E5\, Canada
CATEGORIES:Calendar,Comedy,Food/Beverage,Live Performance
ATTACH;FMTTYPE=image/jpeg:https://genexsites.s3.ca-west-1.amazonaws.com/05/wp-content/uploads/sites/26/2025/07/20174425/image0-3-PGvGio.jpg
ORGANIZER;CN="Hume Hotel":MAILTO:info@humehotel.com
END:VEVENT
END:VCALENDAR