
BEGIN:VCALENDAR
VERSION:2.0
PRODID:-//West Kootenay Regional Arts Council - ECPv6.15.20//NONSGML v1.0//EN
CALSCALE:GREGORIAN
METHOD:PUBLISH
X-ORIGINAL-URL:https://www.wkartscouncil.com
X-WR-CALDESC:Events for West Kootenay Regional Arts Council
REFRESH-INTERVAL;VALUE=DURATION:PT1H
X-Robots-Tag:noindex
X-PUBLISHED-TTL:PT1H
BEGIN:VTIMEZONE
TZID:America/Vancouver
BEGIN:DAYLIGHT
TZOFFSETFROM:-0800
TZOFFSETTO:-0700
TZNAME:PDT
DTSTART:20240310T100000
END:DAYLIGHT
BEGIN:STANDARD
TZOFFSETFROM:-0700
TZOFFSETTO:-0800
TZNAME:PST
DTSTART:20241103T090000
END:STANDARD
BEGIN:DAYLIGHT
TZOFFSETFROM:-0800
TZOFFSETTO:-0700
TZNAME:PDT
DTSTART:20250309T100000
END:DAYLIGHT
BEGIN:STANDARD
TZOFFSETFROM:-0700
TZOFFSETTO:-0800
TZNAME:PST
DTSTART:20251102T090000
END:STANDARD
BEGIN:DAYLIGHT
TZOFFSETFROM:-0800
TZOFFSETTO:-0700
TZNAME:PDT
DTSTART:20260308T100000
END:DAYLIGHT
BEGIN:STANDARD
TZOFFSETFROM:-0700
TZOFFSETTO:-0800
TZNAME:PST
DTSTART:20261101T090000
END:STANDARD
END:VTIMEZONE
BEGIN:VEVENT
DTSTART;TZID=America/Vancouver:20250306T193000
DTEND;TZID=America/Vancouver:20250306T210000
DTSTAMP:20260422T011856
CREATED:20250303T193256Z
LAST-MODIFIED:20250307T000220Z
UID:12625-1741289400-1741294800@www.wkartscouncil.com
SUMMARY:Randy from Creston at the Scout Hall
DESCRIPTION:Lucas Myers returns with his lovable rural opinionator\, Randy from Creston! Randy will be addressing the divisiveness or our current social situation and sharing his own very particular version of “radical redneck wellfullness”\, a process which will include many tangents\, a few tunes\, and a guest star. Oh and laughs. Lots of laughs. Buckle up\, buttercup! \nPick your ticket price\, $15 or $20 plus fees.
URL:https://www.wkartscouncil.com/event/randy-from-creston-at-the-scout-hall-4/
LOCATION:The Scout Hall 310 Cedar st\, 310 Cedar St\, Nelson\, BC\, Canada
CATEGORIES:Calendar,Comedy,Live Performance
ATTACH;FMTTYPE=image/avif:https://genexsites.s3.ca-west-1.amazonaws.com/05/wp-content/uploads/sites/26/2025/03/20175545/randy-byQozT.tmp_.avif
ORGANIZER;CN="Pilotcopilot Theatre":MAILTO:lucasmyers5000@gmail.com
END:VEVENT
BEGIN:VEVENT
DTSTART;TZID=America/Vancouver:20250307T193000
DTEND;TZID=America/Vancouver:20250307T210000
DTSTAMP:20260422T011856
CREATED:20250303T193256Z
LAST-MODIFIED:20250308T003125Z
UID:12627-1741375800-1741381200@www.wkartscouncil.com
SUMMARY:Randy from Creston at the Scout Hall
DESCRIPTION:Lucas Myers returns with his lovable rural opinionator\, Randy from Creston! Randy will be addressing the divisiveness or our current social situation and sharing his own very particular version of “radical redneck wellfullness”\, a process which will include many tangents\, a few tunes\, and a guest star. Oh and laughs. Lots of laughs. Buckle up\, buttercup! \nPick your ticket price\, $15 or $20 plus fees.
URL:https://www.wkartscouncil.com/event/randy-from-creston-at-the-scout-hall-3/
LOCATION:The Scout Hall 310 Cedar st\, 310 Cedar St\, Nelson\, BC\, Canada
CATEGORIES:Calendar,Comedy,Live Performance
ATTACH;FMTTYPE=image/avif:https://genexsites.s3.ca-west-1.amazonaws.com/05/wp-content/uploads/sites/26/2025/03/20175545/randy-byQozT.tmp_.avif
ORGANIZER;CN="Pilotcopilot Theatre":MAILTO:lucasmyers5000@gmail.com
END:VEVENT
BEGIN:VEVENT
DTSTART;TZID=America/Vancouver:20250307T193000
DTEND;TZID=America/Vancouver:20250307T213000
DTSTAMP:20260422T011856
CREATED:20250304T175302Z
LAST-MODIFIED:20250308T003126Z
UID:12678-1741375800-1741383000@www.wkartscouncil.com
SUMMARY:Hot Flash Comedy Tour
DESCRIPTION:The Trail and District Arts Council presens: \nHot Flash Comedy Tour \nFriday\, March 7\, 7:30 pm at The Bailey Theatre at 1501 Cedar Avenue in downtown Trail. \nGeneral Seating – doors open at 6:45 \n19+ event. Tickets on sale to the General Public on Tuesday Sept 3rd. Licensed Event. \nRegular Ticket $42 \nIndividual Ticket Under 30 years old (with ID): $12 \nCommon Access Card Holder (with ID): 20% off single tickets available through Box Office only \nPatron Member get 20% OFF on all Trail Arts Council presentations including this show! Discount is applicable to regular admission tickets only. Memberships can be purchased through this website or by visiting or calling our Box Office 250-368-9669. \nThe Trail & District Arts Council presents the hilarious Hot Flash Comedy Tour\,featuring Syd Bosel and Helen Schneiderman\, for International Women’s Day weekend on Friday\, March 7 at 7:30 pm in The Bailey Theatre! \nSyd Boselis a stand-up comedian who spins hilarious and relatable tales of “adult” children\, being married for 1\,000 years\, surviving breast cancer\, and other glories of nature. \nWith loads of accolades Syd was voted “Best of the Fest” at the Nanaimo Fringe Festival in 2023 and got “four yesses” in CTV’s Canada’s Got Talent and you’ve probably heard her on CBC’s “Just for Laughs” and “Laugh Out Loud.” \nSyd placed 1st\, and was voted Fan Favourite\, in the 2018 “BC’s Funniest New Female Comic” and was a finalist in the 2019 “Great Canadian Yuk Off”. Then\, in 2022\, Syd placed 2nd (out of 65 comics) in Vancouver’s “Funniest Person with a Day Job” competition. She is also a regular on the Jest Ladies and “Life is Funny” troupes and Jokers Canada. \nSyd has opened for Debra DiGiovanni\, Maria Bamford\, Simon King and Julie Kim. \nAudience reviews of Syd’s shows include “That older lady was really funny” and “My wife laughed so much that she peed her pants”. \nLIsten to some of Syd’s comedy: https://open.spotify.com/track/0NXWQz1pxzvkc8VH9vbSwh?si=87baa249cffe4128 \nHelen Schneiderman opens for Syd sharing the good\, the bad and the ugly to get you laughing. Helen got into stand-up comedy a few years ago as a way to get off her couch. Now she’s so busy performing\, her couch misses her. \nHelen’s comedy draws from her varied life experiences and trips around the globe. She’s not afraid to share and audiences love her sincere and relatable style. Helen has performed all across the lower mainland and Vancouver Island. She was runner-up in the 2019 BC Funniest New Female Comic contest and was the opening comic for the 2020 “I Am Woman Hear Me Laff” tour and 2022 Chutzpah Festival. \nHelen’s favourite review: “I really liked the pretty one with the weird accent.” \nWatch Helen perform: https://youtu.be/IgaecbMWYmQ \nPlus a local comedy act! Joining them is Nelson based Michelle Hart\, a multi-disciplinary artist\, specializing in theatre and improvisation. \nSince graduating from Mount Allison University with a theatre degree\, she has trained\, taught\, and performed with theatre institutions across North America to hone her craft. Michelle is a two-time recipient of the Pat & Tony Freedom Fund\, Outstanding Sketch/Improv Productions from My Entertainment Weekly\, and was featured on JFL42 Sirius FX Just For Laughs Festival. She has worked as a cast member for MSC Seaside\, The Second City\, and Bad Dog Theatre Feature Players. Michelle has opened for Julie Kim\, Jane Staton and now can’t wait to open for Sydney Bosel. \nEnjoy a night of laughter with these fabulous female comedians! \nLicensed Event. Wheelchair seating is available but can only be purchased through the box office 250-368-9669. The Bailey Theatre is a scent- free facility. Please refrain from wearing perfumes or strong scents. Building doors open 60 minutes before show time. Theatre doors open 30 minutes before show time. \nThis venue does not issue print-at-home or electronic tickets. Your paper tickets can be picked up at the Box Office in the hour before show time\, or in advance at The Bailey Theatre box office Mon-Friday from 12 noon – 4 pm. \nThis show is presented by Trail & District Arts Council and supported by the BC Arts Council\, the BC Touring Council\, the Government of British Columbia and Tourism South Kootenay. This series is funded [in part] by the Government of Canada. / Ce projet est financé [en partie] par le gouvernement du Canada.
URL:https://www.wkartscouncil.com/event/hot-flash-comedy-tour/
LOCATION:Charles Bailey Theatre\, 1501 Cedar Ave\, Trail\, British Columbia\, V1R 4C7\, Canada
CATEGORIES:Calendar,Comedy
ATTACH;FMTTYPE=image/jpeg:https://genexsites.s3.ca-west-1.amazonaws.com/05/wp-content/uploads/sites/26/2025/03/20175533/hot-R8qqdr.tmp_.jpg
ORGANIZER;CN="Trail &#038%3B District Arts Council":MAILTO:info@trail-arts.com
END:VEVENT
BEGIN:VEVENT
DTSTART;TZID=America/Vancouver:20250308T193000
DTEND;TZID=America/Vancouver:20250308T210000
DTSTAMP:20260422T011856
CREATED:20250303T193256Z
LAST-MODIFIED:20250308T234620Z
UID:12630-1741462200-1741467600@www.wkartscouncil.com
SUMMARY:Randy from Creston at the Scout Hall
DESCRIPTION:Lucas Myers returns with his lovable rural opinionator\, Randy from Creston! Randy will be addressing the divisiveness or our current social situation and sharing his own very particular version of “radical redneck wellfullness”\, a process which will include many tangents\, a few tunes\, and a guest star. Oh and laughs. Lots of laughs. Buckle up\, buttercup! \nPick your ticket price\, $15 or $20 plus fees.
URL:https://www.wkartscouncil.com/event/randy-from-creston-at-the-scout-hall-2/
LOCATION:The Scout Hall 310 Cedar st\, 310 Cedar St\, Nelson\, BC\, Canada
CATEGORIES:Calendar,Comedy,Live Performance
ATTACH;FMTTYPE=image/avif:https://genexsites.s3.ca-west-1.amazonaws.com/05/wp-content/uploads/sites/26/2025/03/20175545/randy-byQozT.tmp_.avif
ORGANIZER;CN="Pilotcopilot Theatre":MAILTO:lucasmyers5000@gmail.com
END:VEVENT
BEGIN:VEVENT
DTSTART;TZID=America/Vancouver:20250309T193000
DTEND;TZID=America/Vancouver:20250309T210000
DTSTAMP:20260422T011856
CREATED:20250303T193256Z
LAST-MODIFIED:20250310T000118Z
UID:12632-1741548600-1741554000@www.wkartscouncil.com
SUMMARY:Randy from Creston at the Scout Hall
DESCRIPTION:Lucas Myers returns with his lovable rural opinionator\, Randy from Creston! Randy will be addressing the divisiveness or our current social situation and sharing his own very particular version of “radical redneck wellfullness”\, a process which will include many tangents\, a few tunes\, and a guest star. Oh and laughs. Lots of laughs. Buckle up\, buttercup! \nPick your ticket price\, $15 or $20 plus fees.
URL:https://www.wkartscouncil.com/event/randy-from-creston-at-the-scout-hall/
LOCATION:The Scout Hall 310 Cedar st\, 310 Cedar St\, Nelson\, BC\, Canada
CATEGORIES:Calendar,Comedy,Live Performance
ATTACH;FMTTYPE=image/avif:https://genexsites.s3.ca-west-1.amazonaws.com/05/wp-content/uploads/sites/26/2025/03/20175545/randy-byQozT.tmp_.avif
ORGANIZER;CN="Pilotcopilot Theatre":MAILTO:lucasmyers5000@gmail.com
END:VEVENT
BEGIN:VEVENT
DTSTART;TZID=America/Vancouver:20250327T190000
DTEND;TZID=America/Vancouver:20250327T220000
DTSTAMP:20260422T011856
CREATED:20250317T230708Z
LAST-MODIFIED:20250328T004627Z
UID:13169-1743102000-1743112800@www.wkartscouncil.com
SUMMARY:Ok Dope! Stand-up Comedy Show @ Backroads Brewing
DESCRIPTION:NELSON! THURSDAY\, MARCH 27TH! OK\, DOPE is proud to present BO JOHNSON (Don’t Tell Comedy\, JFL\, Comedy Central\, Kevin Hart’s LOL!) Live at Backroads Brewing Co! Featuring Amy Walsh and Hosted by Nash Park!\nDoors: 7:00PM | Show: 8:00PM. Get your tickets at  https://www.jumpcomedy.com/e/ok-dope-presents-bo-johnson-live-at-backroads-brewing/
URL:https://www.wkartscouncil.com/event/ok-dope-stand-up-comedy-show-backroads-brewing/
LOCATION:Backroads Brewing\, 460 Baker St\, Nelson\, BC\, V1L4H8\, Canada
CATEGORIES:Calendar,Comedy
ATTACH;FMTTYPE=image/jpeg:https://genexsites.s3.ca-west-1.amazonaws.com/05/wp-content/uploads/sites/26/2025/03/20175500/OkDopeKCR-urLIdI.tmp_.jpg
END:VEVENT
END:VCALENDAR