
BEGIN:VCALENDAR
VERSION:2.0
PRODID:-//West Kootenay Regional Arts Council - ECPv6.15.20//NONSGML v1.0//EN
CALSCALE:GREGORIAN
METHOD:PUBLISH
X-WR-CALNAME:West Kootenay Regional Arts Council
X-ORIGINAL-URL:https://www.wkartscouncil.com
X-WR-CALDESC:Events for West Kootenay Regional Arts Council
REFRESH-INTERVAL;VALUE=DURATION:PT1H
X-Robots-Tag:noindex
X-PUBLISHED-TTL:PT1H
BEGIN:VTIMEZONE
TZID:America/Vancouver
BEGIN:DAYLIGHT
TZOFFSETFROM:-0800
TZOFFSETTO:-0700
TZNAME:PDT
DTSTART:20250309T100000
END:DAYLIGHT
BEGIN:STANDARD
TZOFFSETFROM:-0700
TZOFFSETTO:-0800
TZNAME:PST
DTSTART:20251102T090000
END:STANDARD
BEGIN:DAYLIGHT
TZOFFSETFROM:-0800
TZOFFSETTO:-0700
TZNAME:PDT
DTSTART:20260308T100000
END:DAYLIGHT
BEGIN:STANDARD
TZOFFSETFROM:-0700
TZOFFSETTO:-0800
TZNAME:PST
DTSTART:20261101T090000
END:STANDARD
BEGIN:DAYLIGHT
TZOFFSETFROM:-0800
TZOFFSETTO:-0700
TZNAME:PDT
DTSTART:20270314T100000
END:DAYLIGHT
BEGIN:STANDARD
TZOFFSETFROM:-0700
TZOFFSETTO:-0800
TZNAME:PST
DTSTART:20271107T090000
END:STANDARD
END:VTIMEZONE
BEGIN:VEVENT
DTSTART;VALUE=DATE:20260401
DTEND;VALUE=DATE:20260501
DTSTAMP:20260422T020808
CREATED:20260408T181934Z
LAST-MODIFIED:20260408T181934Z
UID:27010-1775001600-1777593599@www.wkartscouncil.com
SUMMARY:Nelson - 2026 Earth Days - April 1st - 30th
DESCRIPTION:See the full calendar here \nCELEBRATE • CONNECT • ENGAGE\nCelebrate a full month of community\, creativity\, and climate action this April! 🌿\nEarth Days Nelson brings together 45+ events designed to inspire\, connect\, and empower— with something for everyone. \nExpect a vibrant mix of:\n– Guided walks & nature exploration\n– Performances\, films & art events\n– Workshops\, talks & hands-on learning\n– Climate action & community initiatives\n– Family-friendly activities & social gatherings\n– Earth Days Parade & Celebration \nEvents are happening all April long at various locations across Nelson & Area\, and the majority are FREE. \nExplore the full schedule: earthdaysnelson.ca \nCome celebrate\, learn\, and take action together
URL:https://www.wkartscouncil.com/event/nelson-earth-days-2026/
LOCATION:British Columbia
CATEGORIES:Calendar,Community Events
ATTACH;FMTTYPE=image/png:https://genexsites.s3.ca-west-1.amazonaws.com/05/wp-content/uploads/sites/26/2026/04/08111242/earth-days-main-poster.png
ORGANIZER;CN="Earth Days Nelson":MAILTO:earthdaysnelson@gmail.com
END:VEVENT
BEGIN:VEVENT
DTSTART;TZID=America/Vancouver:20260422T193000
DTEND;TZID=America/Vancouver:20260422T213000
DTSTAMP:20260422T020808
CREATED:20260414T052357Z
LAST-MODIFIED:20260422T080142Z
UID:23985-1776886200-1776893400@www.wkartscouncil.com
SUMMARY:Nelson - Weekly Tango Mini Lesson & Practice
DESCRIPTION:Want to learn and practice dancing Argentine Tango?\n \n\nWe host a weekly Class and Practice at Christie Lees Hall in Fairview.\n \n\nThe guided portion from 7:30-8:30 has a different topic each week (check our Facebook page for host and topic announcements). We have an open practice after the lesson until 9:30 pm.\n \n\n\nDancers of all levels are welcome! Material is beginner-friendly.\n\n \nTango is an improvised partner dance originating in Argentina and Uruguay; you don’t need a partner to attend tango practices or events and it can be danced by anyone and everyone.\n\n \n\n\nPlease bring your dancing shoes and a water bottle.\n\n\n10$ donation\n \n\n\nWhere to find us: Christies Lees Hall is on Radio Ave.\, in lower Fairview. You can access Radio from 4th or 7th Streets. The Hall’s part of the Kiwanis Villa complex. On Radio Ave. look for “701” on the deck post near the sidewalk leading to the front doors. Also\, look for the sandwich board near the sidewalk.\n\n\nGoogle map link: https://goo.gl/maps/zFraPXNpJ6aBBJtv6\nMaps will tell you that it’s “temporarily closed” but don’t believe it!
URL:https://www.wkartscouncil.com/event/weekly-tango/
LOCATION:Christie Lee’s Hall\, 807-703 Radio Ave\, Nelson\, BC\, V1L3L3\, Canada
CATEGORIES:Calendar,Community Events,Workshops
ATTACH;FMTTYPE=image/jpeg:https://genexsites.s3.ca-west-1.amazonaws.com/05/wp-content/uploads/sites/26/2023/11/20182235/ballroom-6474222_640-s0kOpm.tmp_.jpg
ORGANIZER;CN="Nelson BC Tango":MAILTO:nelsonbctango@gmail.com
END:VEVENT
END:VCALENDAR