
BEGIN:VCALENDAR
VERSION:2.0
PRODID:-//West Kootenay Regional Arts Council - ECPv6.15.20//NONSGML v1.0//EN
CALSCALE:GREGORIAN
METHOD:PUBLISH
X-ORIGINAL-URL:https://www.wkartscouncil.com
X-WR-CALDESC:Events for West Kootenay Regional Arts Council
REFRESH-INTERVAL;VALUE=DURATION:PT1H
X-Robots-Tag:noindex
X-PUBLISHED-TTL:PT1H
BEGIN:VTIMEZONE
TZID:America/Edmonton
BEGIN:DAYLIGHT
TZOFFSETFROM:-0700
TZOFFSETTO:-0600
TZNAME:MDT
DTSTART:20240310T090000
END:DAYLIGHT
BEGIN:STANDARD
TZOFFSETFROM:-0600
TZOFFSETTO:-0700
TZNAME:MST
DTSTART:20241103T080000
END:STANDARD
BEGIN:DAYLIGHT
TZOFFSETFROM:-0700
TZOFFSETTO:-0600
TZNAME:MDT
DTSTART:20250309T090000
END:DAYLIGHT
BEGIN:STANDARD
TZOFFSETFROM:-0600
TZOFFSETTO:-0700
TZNAME:MST
DTSTART:20251102T080000
END:STANDARD
BEGIN:DAYLIGHT
TZOFFSETFROM:-0700
TZOFFSETTO:-0600
TZNAME:MDT
DTSTART:20260308T090000
END:DAYLIGHT
BEGIN:STANDARD
TZOFFSETFROM:-0600
TZOFFSETTO:-0700
TZNAME:MST
DTSTART:20261101T080000
END:STANDARD
END:VTIMEZONE
BEGIN:VTIMEZONE
TZID:America/Vancouver
BEGIN:DAYLIGHT
TZOFFSETFROM:-0800
TZOFFSETTO:-0700
TZNAME:PDT
DTSTART:20240310T100000
END:DAYLIGHT
BEGIN:STANDARD
TZOFFSETFROM:-0700
TZOFFSETTO:-0800
TZNAME:PST
DTSTART:20241103T090000
END:STANDARD
BEGIN:DAYLIGHT
TZOFFSETFROM:-0800
TZOFFSETTO:-0700
TZNAME:PDT
DTSTART:20250309T100000
END:DAYLIGHT
BEGIN:STANDARD
TZOFFSETFROM:-0700
TZOFFSETTO:-0800
TZNAME:PST
DTSTART:20251102T090000
END:STANDARD
BEGIN:DAYLIGHT
TZOFFSETFROM:-0800
TZOFFSETTO:-0700
TZNAME:PDT
DTSTART:20260308T100000
END:DAYLIGHT
BEGIN:STANDARD
TZOFFSETFROM:-0700
TZOFFSETTO:-0800
TZNAME:PST
DTSTART:20261101T090000
END:STANDARD
END:VTIMEZONE
BEGIN:VEVENT
DTSTART;VALUE=DATE:20250904
DTEND;VALUE=DATE:20250929
DTSTAMP:20260419T221114
CREATED:20250903T015547Z
LAST-MODIFIED:20250903T015547Z
UID:19162-1756944000-1759103999@www.wkartscouncil.com
SUMMARY:"Natural Geometry" Solo Art Exhibit by Michael Hepher
DESCRIPTION:Kimberley\, BC — September 4–28\, 2025 — Art Gallery Kimberley is proud to present “Natural Geometry\,” a solo exhibition of hand-printed artworks by Fernie-based interdisciplinary artist Michael Hepher. Known for his vibrant sense of colour\, thoughtful interpretation of the everyday\, and abilities across mediums\, Michael’s series pushes the boundaries of abstraction while using the historic art of letterpress printmaking. \nFor more than a decade\, Michael has explored the intersection of the natural and the abstract. “Natural Geometry” translates organic shapes and landscapes into layered compositions of bold colours\, overlapping forms\, and rhythmic patterns. Each work invites viewers to see the world around them in a new way—where the familiar vanishes into geometry\, and where the mechanics of nature are revealed in uplifting\, unexpected ways. \n“Letterpress printing is both ancient and tactile\,” says Michael. “It offers a human touch to abstraction—each impression carrying the honesty of an analog process while reimagining the natural spaces we move through every day.” \nWorking from his Clawhammer Press studio in Fernie\, BC\, Michael combines traditional wood and linoleum block techniques with modern design sensibilities. His limited-edition prints touch the intersection of history\, craft\, and contemporary vision. \nMichael’s career spans printmaking\, oil painting\, and illustration\, with a portfolio of acclaimed public art projects\, private commissions\, and exhibitions including All Kinds of Beauty\, a 16 x 96’ mural celebrating Fernie (2019)\, Backroads BC (Fernie Museum Gallery\, 2018; Smithers Art Gallery\, 2019)\, and In This Together\, a touring exhibition shown across the Kootenays (2021–2022). \nPlease join us in celebrating this bold and intimate exploration of how we see\, feel\, and interpret the natural world at the closing reception on Friday\, September 26\, 2025 between 6 and 8 pm with an artist talk and interactive demonstration at 7 pm.
URL:https://www.wkartscouncil.com/event/natural-geometry-solo-art-exhibit-by-michael-hepher/
LOCATION:167 Deer Park Avenue\, Kimberley\, BC\, V1A 2J5\, 167 Deer Park Avenue\, Kimberley\, V1A 2J5
CATEGORIES:Calendar,Exhibition/Speakers
ATTACH;FMTTYPE=image/jpeg:https://genexsites.s3.ca-west-1.amazonaws.com/05/wp-content/uploads/sites/26/2025/09/02185205/Natural-Geometry1.jpg
ORGANIZER;CN="Art Gallery Kimberley":MAILTO:info@artgallerykimberley.com
END:VEVENT
BEGIN:VEVENT
DTSTART;TZID=America/Vancouver:20250925T160000
DTEND;TZID=America/Vancouver:20250925T200000
DTSTAMP:20260419T221114
CREATED:20250627T052431Z
LAST-MODIFIED:20250902T222732Z
UID:17284-1758816000-1758830400@www.wkartscouncil.com
SUMMARY:Summer Lovin’ FREE Thursdays
DESCRIPTION:Come on down to the Nelson Museum on Thursday evenings\, where you can visit the galleries\, museum\, and shop for FREE. 4-8pm every Thursday.
URL:https://www.wkartscouncil.com/event/summer-lovin-free-thursdays-3/
LOCATION:Nelson Museum\, Archives & Gallery\, 502 Vernon Street\, Nelson\, V1L 4E7\, Canada
CATEGORIES:Art,Calendar,Kid Friendly
ATTACH;FMTTYPE=image/png:https://genexsites.s3.ca-west-1.amazonaws.com/05/wp-content/uploads/sites/26/2025/06/20174552/summer-lovin-insta-FLsxqR.png
ORGANIZER;CN="Nelson Museum%2C Archives &amp%3B Gallery":MAILTO:info@nelsonmuseum.ca
END:VEVENT
BEGIN:VEVENT
DTSTART;TZID=America/Vancouver:20250925T173000
DTEND;TZID=America/Vancouver:20250925T193000
DTSTAMP:20260419T221114
CREATED:20250814T164914Z
LAST-MODIFIED:20250902T222735Z
UID:18476-1758821400-1758828600@www.wkartscouncil.com
SUMMARY:Beading Space with West Kootenay Metis Society
DESCRIPTION:4th Thursday and Saturday \nBeading Space \nFNMI relatives are invited to join us the 4th Thursday and Saturday of the month \nNMAG at 502 Vernon \nSummer hours – \nThursday July 24 5:30- 7:30pm \nSaturday July 26 2-4pm \nTheme- Blueberry pin kits \n  \nThursday August 28 5:30- 7:30pm \nSaturday August 30 2-4pm \nTheme -Orange Shirt pins \nCost is free. Supplies included. Light snack provided. Beginner kits available. Intermediate and advanced welcome to bring own project. \nBeginner kits are: \na simple leather thimble. \nBasic and based on the theme of the month \n\nHeartberries ‘ode mina’ (strawberry)
URL:https://www.wkartscouncil.com/event/beading-space-with-west-kootenay-metis-society-4/
LOCATION:Nelson Museum\, Archives & Gallery\, 502 Vernon Street\, Nelson\, V1L 4E7\, Canada
CATEGORIES:Calendar
ATTACH;FMTTYPE=image/jpeg:https://genexsites.s3.ca-west-1.amazonaws.com/05/wp-content/uploads/sites/26/2025/08/20174414/KCR-PSA-Calendar-Beading-Space-rb9nKp.jpg
END:VEVENT
BEGIN:VEVENT
DTSTART;TZID=America/Vancouver:20250925T183000
DTEND;TZID=America/Vancouver:20250925T200000
DTSTAMP:20260419T221114
CREATED:20250904T002350Z
LAST-MODIFIED:20250904T002350Z
UID:19196-1758825000-1758830400@www.wkartscouncil.com
SUMMARY:POETRY IN THE GALLERY | FREE
DESCRIPTION:POETRY IN THE GALLERY | FREE\nHosted by Emma Beck\nCome spend a free evening surrounded by poetry\, creativity\, and community! Whether you’d like to read your own work\, share a favourite poem\, or just sit back and enjoy\, everyone is invited. Bring a warm drink\, settle into the cozy gallery space\, and let yourself be inspired. This is a relaxed\, judgment-free event where all voices are welcome—especially beginners! \nThursday\, September 25\n6:30pm – 8:00pm\nSeptembers Theme: “Tolerance”\nRVAC Main Gallery\, 320 Wilson st.\nAll forms of poetry welcome\nNo bookings required!\nFor our younger poets: All ages are encouraged to join these poetry nights\, however please note that the last 45 minuets of this session will be reserved for adult content. Starting at 7:15pm some material may not be suitable for younger audiences.
URL:https://www.wkartscouncil.com/event/poetry-in-the-gallery-free-2/
LOCATION:320 Wilson St.\, Revelstoke
CATEGORIES:Calendar,Exhibition/Speakers
ORGANIZER;CN="Revelstoke Visual Arts Centre":MAILTO:info@revelstokeartgallery.ca
END:VEVENT
END:VCALENDAR