
BEGIN:VCALENDAR
VERSION:2.0
PRODID:-//West Kootenay Regional Arts Council - ECPv6.15.20//NONSGML v1.0//EN
CALSCALE:GREGORIAN
METHOD:PUBLISH
X-WR-CALNAME:West Kootenay Regional Arts Council
X-ORIGINAL-URL:https://www.wkartscouncil.com
X-WR-CALDESC:Events for West Kootenay Regional Arts Council
REFRESH-INTERVAL;VALUE=DURATION:PT1H
X-Robots-Tag:noindex
X-PUBLISHED-TTL:PT1H
BEGIN:VTIMEZONE
TZID:America/Vancouver
BEGIN:DAYLIGHT
TZOFFSETFROM:-0800
TZOFFSETTO:-0700
TZNAME:PDT
DTSTART:20240310T100000
END:DAYLIGHT
BEGIN:STANDARD
TZOFFSETFROM:-0700
TZOFFSETTO:-0800
TZNAME:PST
DTSTART:20241103T090000
END:STANDARD
BEGIN:DAYLIGHT
TZOFFSETFROM:-0800
TZOFFSETTO:-0700
TZNAME:PDT
DTSTART:20250309T100000
END:DAYLIGHT
BEGIN:STANDARD
TZOFFSETFROM:-0700
TZOFFSETTO:-0800
TZNAME:PST
DTSTART:20251102T090000
END:STANDARD
BEGIN:DAYLIGHT
TZOFFSETFROM:-0800
TZOFFSETTO:-0700
TZNAME:PDT
DTSTART:20260308T100000
END:DAYLIGHT
BEGIN:STANDARD
TZOFFSETFROM:-0700
TZOFFSETTO:-0800
TZNAME:PST
DTSTART:20261101T090000
END:STANDARD
END:VTIMEZONE
BEGIN:VTIMEZONE
TZID:America/Edmonton
BEGIN:DAYLIGHT
TZOFFSETFROM:-0700
TZOFFSETTO:-0600
TZNAME:MDT
DTSTART:20240310T090000
END:DAYLIGHT
BEGIN:STANDARD
TZOFFSETFROM:-0600
TZOFFSETTO:-0700
TZNAME:MST
DTSTART:20241103T080000
END:STANDARD
BEGIN:DAYLIGHT
TZOFFSETFROM:-0700
TZOFFSETTO:-0600
TZNAME:MDT
DTSTART:20250309T090000
END:DAYLIGHT
BEGIN:STANDARD
TZOFFSETFROM:-0600
TZOFFSETTO:-0700
TZNAME:MST
DTSTART:20251102T080000
END:STANDARD
BEGIN:DAYLIGHT
TZOFFSETFROM:-0700
TZOFFSETTO:-0600
TZNAME:MDT
DTSTART:20260308T090000
END:DAYLIGHT
BEGIN:STANDARD
TZOFFSETFROM:-0600
TZOFFSETTO:-0700
TZNAME:MST
DTSTART:20261101T080000
END:STANDARD
END:VTIMEZONE
BEGIN:VEVENT
DTSTART;VALUE=DATE:20250606
DTEND;VALUE=DATE:20250921
DTSTAMP:20260419T090346
CREATED:20250516T173812Z
LAST-MODIFIED:20250516T173812Z
UID:15173-1749168000-1758412799@www.wkartscouncil.com
SUMMARY:Castlegar Art Walk
DESCRIPTION:Opening night kicks off June 6th with live music\, refreshments and art! This free\, self guided community event runs from June 6th – Sep 20th which sees 19 artists featured at 11 local businesses.
URL:https://www.wkartscouncil.com/event/castlegar-art-walk/
LOCATION:Castlegar\, Castlegar\, BC
CATEGORIES:Calendar,Community Events,Exhibition/Speakers
END:VEVENT
BEGIN:VEVENT
DTSTART;VALUE=DATE:20250904
DTEND;VALUE=DATE:20250929
DTSTAMP:20260419T090346
CREATED:20250903T015547Z
LAST-MODIFIED:20250903T015547Z
UID:19162-1756944000-1759103999@www.wkartscouncil.com
SUMMARY:"Natural Geometry" Solo Art Exhibit by Michael Hepher
DESCRIPTION:Kimberley\, BC — September 4–28\, 2025 — Art Gallery Kimberley is proud to present “Natural Geometry\,” a solo exhibition of hand-printed artworks by Fernie-based interdisciplinary artist Michael Hepher. Known for his vibrant sense of colour\, thoughtful interpretation of the everyday\, and abilities across mediums\, Michael’s series pushes the boundaries of abstraction while using the historic art of letterpress printmaking. \nFor more than a decade\, Michael has explored the intersection of the natural and the abstract. “Natural Geometry” translates organic shapes and landscapes into layered compositions of bold colours\, overlapping forms\, and rhythmic patterns. Each work invites viewers to see the world around them in a new way—where the familiar vanishes into geometry\, and where the mechanics of nature are revealed in uplifting\, unexpected ways. \n“Letterpress printing is both ancient and tactile\,” says Michael. “It offers a human touch to abstraction—each impression carrying the honesty of an analog process while reimagining the natural spaces we move through every day.” \nWorking from his Clawhammer Press studio in Fernie\, BC\, Michael combines traditional wood and linoleum block techniques with modern design sensibilities. His limited-edition prints touch the intersection of history\, craft\, and contemporary vision. \nMichael’s career spans printmaking\, oil painting\, and illustration\, with a portfolio of acclaimed public art projects\, private commissions\, and exhibitions including All Kinds of Beauty\, a 16 x 96’ mural celebrating Fernie (2019)\, Backroads BC (Fernie Museum Gallery\, 2018; Smithers Art Gallery\, 2019)\, and In This Together\, a touring exhibition shown across the Kootenays (2021–2022). \nPlease join us in celebrating this bold and intimate exploration of how we see\, feel\, and interpret the natural world at the closing reception on Friday\, September 26\, 2025 between 6 and 8 pm with an artist talk and interactive demonstration at 7 pm.
URL:https://www.wkartscouncil.com/event/natural-geometry-solo-art-exhibit-by-michael-hepher/
LOCATION:167 Deer Park Avenue\, Kimberley\, BC\, V1A 2J5\, 167 Deer Park Avenue\, Kimberley\, V1A 2J5
CATEGORIES:Calendar,Exhibition/Speakers
ATTACH;FMTTYPE=image/jpeg:https://genexsites.s3.ca-west-1.amazonaws.com/05/wp-content/uploads/sites/26/2025/09/02185205/Natural-Geometry1.jpg
ORGANIZER;CN="Art Gallery Kimberley":MAILTO:info@artgallerykimberley.com
END:VEVENT
BEGIN:VEVENT
DTSTART;TZID=America/Vancouver:20250920T110000
DTEND;TZID=America/Vancouver:20250920T120000
DTSTAMP:20260419T090346
CREATED:20250627T052447Z
LAST-MODIFIED:20250902T222712Z
UID:17136-1758366000-1758369600@www.wkartscouncil.com
SUMMARY:Saturday Bunker tours
DESCRIPTION:During the height of the Cold War\, in the 1950s and 1960s\, nearly 50 bunkers were constructed across Canada. In 2017\, the Nelson Museum began work on restoring the space and opening it to the public. You can join a tour of one of the Museumʼs best-loved spaces!\n\nFrom iodine pills and Geiger counters to board games and ashtrays\, visitors get a glimpse of the vast measures taken to create normalcy in an extraordinary time.\n\nClick on the link to register. Adult admission required – children under 19 are always free! (https://form-can.keela.co/bunker-tours)
URL:https://www.wkartscouncil.com/event/saturday-bunker-tours-3/
LOCATION:Nelson Museum\, Archives & Gallery\, 502 Vernon Street\, Nelson\, V1L 4E7\, Canada
CATEGORIES:Calendar,Community Events,Kid Friendly
ATTACH;FMTTYPE=image/jpeg:https://genexsites.s3.ca-west-1.amazonaws.com/05/wp-content/uploads/sites/26/2023/09/20182335/17-UdtcgC.tmp_.jpg
ORGANIZER;CN="Nelson Museum%2C Archives &amp%3B Gallery":MAILTO:info@nelsonmuseum.ca
END:VEVENT
BEGIN:VEVENT
DTSTART;TZID=America/Vancouver:20250920T130000
DTEND;TZID=America/Vancouver:20250920T150000
DTSTAMP:20260419T090346
CREATED:20250825T172024Z
LAST-MODIFIED:20250825T172228Z
UID:18900-1758373200-1758380400@www.wkartscouncil.com
SUMMARY:Botanical Printing on cloth w/Tracy Fillion
DESCRIPTION:Learn the fundamentals of botanical printing on fabric. In this hands-on workshop\, we will explore how to identify suitable fibres for plant dyeing and how to properly prepare cloth for plant dyeing and eco printing. \nWe will also discuss dye plants\, ethical harvesting practices\, and working in harmony with seasonal and local materials. \nUsing locally grown flowers\, each participant will have the opportunity to design and create their own botanically printed cotton bandana to take home. \nfree to attend\nregistration required\nall materials provided\n[max. 20 students per workshop] \n  \nREGISTER: https://oxygenartcentre.org/seed-bombs-event-1-w-tracy-fillion/ 
URL:https://www.wkartscouncil.com/event/botanical-printing-on-cloth-w-tracy-fillion/
LOCATION:Oxygen Art Centre\, 320 Vernon St Unit-3\, Nelson\, British Columbia\, V1L 4E4\, Canada
CATEGORIES:Art,Calendar,Community Events,Exhibition/Speakers,Workshops
ATTACH;FMTTYPE=image/jpeg:https://genexsites.s3.ca-west-1.amazonaws.com/05/wp-content/uploads/sites/26/2025/08/25102157/oxygen_botanical-printing.jpeg
END:VEVENT
BEGIN:VEVENT
DTSTART;TZID=America/Edmonton:20250920T200000
DTEND;TZID=America/Edmonton:20250920T220000
DTSTAMP:20260419T090346
CREATED:20250903T013011Z
LAST-MODIFIED:20250903T013011Z
UID:19143-1758398400-1758405600@www.wkartscouncil.com
SUMMARY:4th annual Jazz Night with Brass Roots
DESCRIPTION:It’s that time of year again—Centre 64 is presenting the Kaleidoscope Festival with three days of workshops and fabulous music. One of the festival’s most popular traditions has been Jazz Night\, which for the past three years has featured local jazz favourites Take Four\, led by Randy Marchi.\nThis year\, Brass Roots takes over hosting duties\, bringing their own high-energy style\, big-band sound\, and Latin flair to the stage. \nKnown for their dynamic performances and sold-out shows\, Brass Roots has delighted audiences with themed concerts such as Jazz in Cinema and Roots of Jazz. This year’s event will be a “gala mix”—a celebration of highlights from past shows\, along with a sneak peek at their upcoming Sangria Dance Party on November 15 at the Stemwinder Bar & Grill. \nAdding to the excitement\, the evening will feature surprise guest performers and showcase some of the hidden talents within Brass Roots’ own lineup.\nTickets are already selling quickly\, and another sold-out performance is expected. Get yours now at the Centre 64 website: centre64.com. \nIf you missed the last couple of shows\, now’s the perfect time to catch up—don’t miss this year’s Kaleidoscope Jazz Night with Brass Roots! 🎶 \n📅 Date: Saturday\, September 20\n🕗 Time: 8:00 PM\n📍 Venue: Centre 64 Theatre Room
URL:https://www.wkartscouncil.com/event/4th-annual-jazz-night-with-brass-roots/
LOCATION:64 Deer Park Ave\, 64 Deer Park Ave\, Kimberley\, BC\, V1A 2J2
CATEGORIES:Calendar
ATTACH;FMTTYPE=image/jpeg:https://genexsites.s3.ca-west-1.amazonaws.com/05/wp-content/uploads/sites/26/2025/09/02182537/Kaleidoscope-2025-Brass-Roots--scaled.jpg
ORGANIZER;CN="Centre 64- Kimberley Arts":MAILTO:info@kimberleyarts.com
END:VEVENT
END:VCALENDAR