
BEGIN:VCALENDAR
VERSION:2.0
PRODID:-//West Kootenay Regional Arts Council - ECPv6.15.20//NONSGML v1.0//EN
CALSCALE:GREGORIAN
METHOD:PUBLISH
X-ORIGINAL-URL:https://www.wkartscouncil.com
X-WR-CALDESC:Events for West Kootenay Regional Arts Council
REFRESH-INTERVAL;VALUE=DURATION:PT1H
X-Robots-Tag:noindex
X-PUBLISHED-TTL:PT1H
BEGIN:VTIMEZONE
TZID:America/Edmonton
BEGIN:DAYLIGHT
TZOFFSETFROM:-0700
TZOFFSETTO:-0600
TZNAME:MDT
DTSTART:20230312T090000
END:DAYLIGHT
BEGIN:STANDARD
TZOFFSETFROM:-0600
TZOFFSETTO:-0700
TZNAME:MST
DTSTART:20231105T080000
END:STANDARD
BEGIN:DAYLIGHT
TZOFFSETFROM:-0700
TZOFFSETTO:-0600
TZNAME:MDT
DTSTART:20240310T090000
END:DAYLIGHT
BEGIN:STANDARD
TZOFFSETFROM:-0600
TZOFFSETTO:-0700
TZNAME:MST
DTSTART:20241103T080000
END:STANDARD
BEGIN:DAYLIGHT
TZOFFSETFROM:-0700
TZOFFSETTO:-0600
TZNAME:MDT
DTSTART:20250309T090000
END:DAYLIGHT
BEGIN:STANDARD
TZOFFSETFROM:-0600
TZOFFSETTO:-0700
TZNAME:MST
DTSTART:20251102T080000
END:STANDARD
END:VTIMEZONE
BEGIN:VTIMEZONE
TZID:America/Vancouver
BEGIN:DAYLIGHT
TZOFFSETFROM:-0800
TZOFFSETTO:-0700
TZNAME:PDT
DTSTART:20230312T100000
END:DAYLIGHT
BEGIN:STANDARD
TZOFFSETFROM:-0700
TZOFFSETTO:-0800
TZNAME:PST
DTSTART:20231105T090000
END:STANDARD
BEGIN:DAYLIGHT
TZOFFSETFROM:-0800
TZOFFSETTO:-0700
TZNAME:PDT
DTSTART:20240310T100000
END:DAYLIGHT
BEGIN:STANDARD
TZOFFSETFROM:-0700
TZOFFSETTO:-0800
TZNAME:PST
DTSTART:20241103T090000
END:STANDARD
BEGIN:DAYLIGHT
TZOFFSETFROM:-0800
TZOFFSETTO:-0700
TZNAME:PDT
DTSTART:20250309T100000
END:DAYLIGHT
BEGIN:STANDARD
TZOFFSETFROM:-0700
TZOFFSETTO:-0800
TZNAME:PST
DTSTART:20251102T090000
END:STANDARD
END:VTIMEZONE
BEGIN:VEVENT
DTSTART;VALUE=DATE:20241004
DTEND;VALUE=DATE:20241105
DTSTAMP:20260421T155753
CREATED:20240924T045433Z
LAST-MODIFIED:20240930T044021Z
UID:10102-1728000000-1730764799@www.wkartscouncil.com
SUMMARY:Centre 64 Art Exhibition
DESCRIPTION:George C. Hogg\, “An Artist’s Odessey- 60 years of Landscapes and Cultural Expression”. Oct 4th-Nov 13th. Hours are Tuesday through Saturday 12-4pm closed Sunday & Monday & Statutory Holidays
URL:https://www.wkartscouncil.com/event/centre-64-art-exhibition/
LOCATION:64 Deer Park Ave\, 64 Deer Park Ave\, Kimberley\, BC\, V1A 2J2
CATEGORIES:Calendar,Community Events,Exhibition/Speakers
ATTACH;FMTTYPE=image/jpeg:https://genexsites.s3.ca-west-1.amazonaws.com/05/wp-content/uploads/sites/26/2024/09/20180149/thumbnail_image1.jpg
ORGANIZER;CN="Centre 64- Kimberley Arts":MAILTO:info@kimberleyarts.com
END:VEVENT
BEGIN:VEVENT
DTSTART;TZID=America/Edmonton:20241024T200000
DTEND;TZID=America/Edmonton:20241103T210000
DTSTAMP:20260421T155753
CREATED:20241022T215310Z
LAST-MODIFIED:20241022T215418Z
UID:10464-1729800000-1730667600@www.wkartscouncil.com
SUMMARY:Theatrical Fernie Ghost Tours
DESCRIPTION:Do you have the nerve to face Fernie’s darkest secrets? \nFernie Ghost Tours is a parade of Fernie’s most ghastly ghost stories\, blood-soaked buildings and horrible happenings in the downtown core. Every tale is crafted from dark history\, local legend\, or vivid ghostly experiences shared by Fernie locals. Is Fernie haunted? Could our pleasant streets hide an eerie truth\, too terrible for the light of day? \nTake the Fernie Ghost Tour and find out! \nGhost Tour Info:\nDeparts: 8pm from Station Square\, 591 1st Ave. \nBookings required. Tours offered nightly from October 24th – November 3rd. \nPlease note that these tours are not for the faint hearted and should be taken with a pinch of salt\, and a sense of humour! Tours are approx 1 hour\, depending on weather and supernatural happenings…Evenings are cold and the terrain can be uneven\, wet\, so warm waterproof clothing and sturdy walking shoes are recommended. \nRecommended minimum age 8+. \nMinimum 4 people required for tours to depart. Other dates available on request. \nCost: $25 per person. Special rates available for school groups. \nBookings: email Lindsay Vallance using the link on this page\, or call: 250-946-6484
URL:https://www.wkartscouncil.com/event/theatrical-fernie-ghost-tours/
LOCATION:Station Square\, 591 1st Ave\, Fernie
CATEGORIES:Calendar,Community Events,Exhibition/Speakers
ATTACH;FMTTYPE=image/jpeg:https://genexsites.s3.ca-west-1.amazonaws.com/05/wp-content/uploads/sites/26/2024/10/20180107/Ghostwalk_19_Oct_2022_060-medium.jpg
END:VEVENT
BEGIN:VEVENT
DTSTART;TZID=America/Vancouver:20241101T100000
DTEND;TZID=America/Vancouver:20241101T160000
DTSTAMP:20260421T155753
CREATED:20240806T222456Z
LAST-MODIFIED:20241101T230121Z
UID:9625-1730455200-1730476800@www.wkartscouncil.com
SUMMARY:Selkirk Weavers & Spinners Studio and Giftshop
DESCRIPTION:Visit the Selkirk Weavers & Spinners Guild Studio and Gift Shop located at the Doukhobor Discovery Centre\, Heritage Way in Castlegar this summer. Meet our members\, shop a selection of handcrafted items in our giftshop and enjoy live demonstrations. Thinking to join? Find us on Facebook and Instagram @selkirkweaversspinners. Saturdays only in June. Wed-Sat July through Sept.
URL:https://www.wkartscouncil.com/event/selkirk-weavers-spinners-studio-and-giftshop-72/
LOCATION:Doukhobor Discovery Centre\, 112 Heritage Way\, Castlegar\, BC\, V1N 4M5\, Canada
CATEGORIES:Calendar,Markets/Festival
ATTACH;FMTTYPE=image/jpeg:https://genexsites.s3.ca-west-1.amazonaws.com/05/wp-content/uploads/sites/26/2024/03/20181754/Rayon-and-Tencel-Shawl-by-S.-Donohue-WDNijU.tmp_.jpg
ORGANIZER;CN="Selkirk Weavers and Spinners Guild":MAILTO:selkirkweavers@gmail.com
END:VEVENT
BEGIN:VEVENT
DTSTART;TZID=America/Vancouver:20241101T193000
DTEND;TZID=America/Vancouver:20241101T220000
DTSTAMP:20260421T155753
CREATED:20241023T235502Z
LAST-MODIFIED:20241101T230123Z
UID:10461-1730489400-1730498400@www.wkartscouncil.com
SUMMARY:Finley’s Afterwork Dance Party with White Lightning Blues\, Rock and Boogie Band
DESCRIPTION:White Lightning Blues\, Rock and Boogie Band returns to Finley’s Bar and Grill. Take to the dance floor to burn off the candy and drive away those ghosts of Halloween past.  New numbers brighten up the band’s great collection of classics from Little Walter to Chuck Berry and The Beatles. Not forgetting those quirky Kootenay- themed originals. Suggested Cover $10.
URL:https://www.wkartscouncil.com/event/finleys-afterwork-dance-party-with-white-lightning-blues-rock-and-boogie-band-10/
LOCATION:Finley’s Bar $ Grill\, 705 Vernon St\, Nelson\, BC\, V1L 4G3\, Canada
CATEGORIES:Calendar,Food/Beverage,Live Performance
ATTACH;FMTTYPE=image/jpeg:https://genexsites.s3.ca-west-1.amazonaws.com/05/wp-content/uploads/sites/26/2024/10/20180108/Finleys-Nov.1st-for-square-2024-EoUMTM.tmp_.jpg
END:VEVENT
BEGIN:VEVENT
DTSTART;TZID=America/Vancouver:20241101T200000
DTEND;TZID=America/Vancouver:20241101T233000
DTSTAMP:20260421T155753
CREATED:20241003T012542Z
LAST-MODIFIED:20241101T230123Z
UID:10301-1730491200-1730503800@www.wkartscouncil.com
SUMMARY:Apollo Suns w/ Dinosaur Fight
DESCRIPTION:
URL:https://www.wkartscouncil.com/event/apollo-suns-w-dinosaur-fight/
LOCATION:Spiritbar\, 422 Vernon St\, Nelson\, British Columbia\, V1L 4E5
CATEGORIES:Calendar,Live Performance
ATTACH;FMTTYPE=image/jpeg:https://genexsites.s3.ca-west-1.amazonaws.com/05/wp-content/uploads/sites/26/2024/10/20180140/apollo-NoczUG.tmp_.jpg
ORGANIZER;CN="Hume Hotel":MAILTO:info@humehotel.com
END:VEVENT
END:VCALENDAR