
BEGIN:VCALENDAR
VERSION:2.0
PRODID:-//West Kootenay Regional Arts Council - ECPv6.15.20//NONSGML v1.0//EN
CALSCALE:GREGORIAN
METHOD:PUBLISH
X-WR-CALNAME:West Kootenay Regional Arts Council
X-ORIGINAL-URL:https://www.wkartscouncil.com
X-WR-CALDESC:Events for West Kootenay Regional Arts Council
REFRESH-INTERVAL;VALUE=DURATION:PT1H
X-Robots-Tag:noindex
X-PUBLISHED-TTL:PT1H
BEGIN:VTIMEZONE
TZID:America/Edmonton
BEGIN:DAYLIGHT
TZOFFSETFROM:-0700
TZOFFSETTO:-0600
TZNAME:MDT
DTSTART:20230312T090000
END:DAYLIGHT
BEGIN:STANDARD
TZOFFSETFROM:-0600
TZOFFSETTO:-0700
TZNAME:MST
DTSTART:20231105T080000
END:STANDARD
BEGIN:DAYLIGHT
TZOFFSETFROM:-0700
TZOFFSETTO:-0600
TZNAME:MDT
DTSTART:20240310T090000
END:DAYLIGHT
BEGIN:STANDARD
TZOFFSETFROM:-0600
TZOFFSETTO:-0700
TZNAME:MST
DTSTART:20241103T080000
END:STANDARD
BEGIN:DAYLIGHT
TZOFFSETFROM:-0700
TZOFFSETTO:-0600
TZNAME:MDT
DTSTART:20250309T090000
END:DAYLIGHT
BEGIN:STANDARD
TZOFFSETFROM:-0600
TZOFFSETTO:-0700
TZNAME:MST
DTSTART:20251102T080000
END:STANDARD
END:VTIMEZONE
BEGIN:VTIMEZONE
TZID:America/Vancouver
BEGIN:DAYLIGHT
TZOFFSETFROM:-0800
TZOFFSETTO:-0700
TZNAME:PDT
DTSTART:20230312T100000
END:DAYLIGHT
BEGIN:STANDARD
TZOFFSETFROM:-0700
TZOFFSETTO:-0800
TZNAME:PST
DTSTART:20231105T090000
END:STANDARD
BEGIN:DAYLIGHT
TZOFFSETFROM:-0800
TZOFFSETTO:-0700
TZNAME:PDT
DTSTART:20240310T100000
END:DAYLIGHT
BEGIN:STANDARD
TZOFFSETFROM:-0700
TZOFFSETTO:-0800
TZNAME:PST
DTSTART:20241103T090000
END:STANDARD
BEGIN:DAYLIGHT
TZOFFSETFROM:-0800
TZOFFSETTO:-0700
TZNAME:PDT
DTSTART:20250309T100000
END:DAYLIGHT
BEGIN:STANDARD
TZOFFSETFROM:-0700
TZOFFSETTO:-0800
TZNAME:PST
DTSTART:20251102T090000
END:STANDARD
END:VTIMEZONE
BEGIN:VEVENT
DTSTART;VALUE=DATE:20241004
DTEND;VALUE=DATE:20241105
DTSTAMP:20260421T153722
CREATED:20240924T045433Z
LAST-MODIFIED:20240930T044021Z
UID:10102-1728000000-1730764799@www.wkartscouncil.com
SUMMARY:Centre 64 Art Exhibition
DESCRIPTION:George C. Hogg\, “An Artist’s Odessey- 60 years of Landscapes and Cultural Expression”. Oct 4th-Nov 13th. Hours are Tuesday through Saturday 12-4pm closed Sunday & Monday & Statutory Holidays
URL:https://www.wkartscouncil.com/event/centre-64-art-exhibition/
LOCATION:64 Deer Park Ave\, 64 Deer Park Ave\, Kimberley\, BC\, V1A 2J2
CATEGORIES:Calendar,Community Events,Exhibition/Speakers
ATTACH;FMTTYPE=image/jpeg:https://genexsites.s3.ca-west-1.amazonaws.com/05/wp-content/uploads/sites/26/2024/09/20180149/thumbnail_image1.jpg
ORGANIZER;CN="Centre 64- Kimberley Arts":MAILTO:info@kimberleyarts.com
END:VEVENT
BEGIN:VEVENT
DTSTART;TZID=America/Edmonton:20241024T200000
DTEND;TZID=America/Edmonton:20241103T210000
DTSTAMP:20260421T153722
CREATED:20241022T215310Z
LAST-MODIFIED:20241022T215418Z
UID:10464-1729800000-1730667600@www.wkartscouncil.com
SUMMARY:Theatrical Fernie Ghost Tours
DESCRIPTION:Do you have the nerve to face Fernie’s darkest secrets? \nFernie Ghost Tours is a parade of Fernie’s most ghastly ghost stories\, blood-soaked buildings and horrible happenings in the downtown core. Every tale is crafted from dark history\, local legend\, or vivid ghostly experiences shared by Fernie locals. Is Fernie haunted? Could our pleasant streets hide an eerie truth\, too terrible for the light of day? \nTake the Fernie Ghost Tour and find out! \nGhost Tour Info:\nDeparts: 8pm from Station Square\, 591 1st Ave. \nBookings required. Tours offered nightly from October 24th – November 3rd. \nPlease note that these tours are not for the faint hearted and should be taken with a pinch of salt\, and a sense of humour! Tours are approx 1 hour\, depending on weather and supernatural happenings…Evenings are cold and the terrain can be uneven\, wet\, so warm waterproof clothing and sturdy walking shoes are recommended. \nRecommended minimum age 8+. \nMinimum 4 people required for tours to depart. Other dates available on request. \nCost: $25 per person. Special rates available for school groups. \nBookings: email Lindsay Vallance using the link on this page\, or call: 250-946-6484
URL:https://www.wkartscouncil.com/event/theatrical-fernie-ghost-tours/
LOCATION:Station Square\, 591 1st Ave\, Fernie
CATEGORIES:Calendar,Community Events,Exhibition/Speakers
ATTACH;FMTTYPE=image/jpeg:https://genexsites.s3.ca-west-1.amazonaws.com/05/wp-content/uploads/sites/26/2024/10/20180107/Ghostwalk_19_Oct_2022_060-medium.jpg
END:VEVENT
BEGIN:VEVENT
DTSTART;TZID=America/Vancouver:20241026T220000
DTEND;TZID=America/Vancouver:20241027T020000
DTSTAMP:20260421T153722
CREATED:20241016T224016Z
LAST-MODIFIED:20241026T221616Z
UID:10413-1729980000-1729994400@www.wkartscouncil.com
SUMMARY:Halloween: Smalltown DJ’s Live At Bloom Nightclub
DESCRIPTION:Its Halloween Weekend At Bloom Nightclub!! \nSaturday Oct 26th \nSMALLTOWN DJs \nSoup \nLAW \nThe time has come for the best party of the year! Smalltown DJs (Calgary) LAW (Kelowna) and DJ Soup (Pagoda Stage) are playing our legendary yearly extravaganza with crazy spooky custom video and prizes for best costume including a grand prize of a FREE snowboard from Ripping Giraffe! This party sells out every year an this will be no exception! \n  \nCOSTUME CONTEST for a SNOW BOARD sponsored by RIPPING GIRAFFE!!! \n10PM-2AM \n19+
URL:https://www.wkartscouncil.com/event/halloween-smalltown-djs-live-at-bloom-nightclub/
LOCATION:Bloom Nightclub\, 198 Baker St\, Nelson\, British Columbia\, V1L 4H4\, Canada
CATEGORIES:Calendar,Live Performance
END:VEVENT
BEGIN:VEVENT
DTSTART;TZID=America/Vancouver:20241027T130000
DTEND;TZID=America/Vancouver:20241027T153000
DTSTAMP:20260421T153722
CREATED:20240828T192857Z
LAST-MODIFIED:20241027T221615Z
UID:9835-1730034000-1730043000@www.wkartscouncil.com
SUMMARY:Intermediate Handbuilding: Bathroom Countertopware with Natural Impressions (Sept 15-Oct 27)
DESCRIPTION:Incorporate natural elements such as flowers and grasses to create a set of bathroom countertopware. Participants must have previously taken a hand building class or be a Trail Pottery Studio member. \nParticipants Will Create: \n1 Toothbrush Jar\, 1 small water cup\, Soap Dish with Feet\, Bathroom Jar with Lid\, Soap Pump Bottle\, Watch and Ring Tray\n\nAbout Lana Jamieson of Black Earth Ceramics:\nLana is the potter behind Black Earth Ceramics. She has a BFA from Concordia University where she majored in Studio Arts with a Concentration in Ceramic Sculpture. While in Montreal\, Lana fell in love with pottery\, while studying privately with Iranian master potter Mahmoud Baghaeian. She has a studio in her home in Rossland where she creates pottery which she sells in several shops. Lana has taught several ceramics workshops in schools\, at peoples homes\, and at the Rossland Museum. Lana also has a Bachelor of Education with a focus on teaching fine arts and currently works as a teacher for SD 20.\n\nWorkshop Fees:\n$270 for VISAC members (or $300 for non-members) \nSupplies:\n$20 for clay\, to be paid in cash or by e-transfer on the first day of class.\n\nWorkshop Dates:\nSunday afternoons\nSeptember 15 – October 27\, 2024\n1:00pm – 3:30pm\n\nMinimum 4 students\, with a maximum of 8.\nYouth ages 16-18 are welcome to participate\, with parental consent. \n\nWhere: \nVISAC Gallery – Under the red gallery awning\n1501 Cedar Ave\, Trail\nLower Level of Selkirk Building\n\nIf you have any questions\, reach out to info@visacgallery.com\n\nRegister here: https://revenue-can.keela.co/intermediate-handbuilding-bathroom-countertopware-with-natural-impressions-sept-15-oct-27
URL:https://www.wkartscouncil.com/event/intermediate-handbuilding-bathroom-countertopware-with-natural-impressions-sept-15-oct-27-2/
LOCATION:VISAC Gallery\, 1501 Cedar Avenue\, Trail\, V1R 2J5
CATEGORIES:Calendar,Workshops
ATTACH;FMTTYPE=image/jpeg:https://genexsites.s3.ca-west-1.amazonaws.com/05/wp-content/uploads/sites/26/2024/08/20180301/Hand-Building-Natural-q1z24p.tmp_.jpg
ORGANIZER;CN="VISAC Gallery":MAILTO:Info@visacgallery.com
END:VEVENT
BEGIN:VEVENT
DTSTART;TZID=America/Vancouver:20241027T150000
DTEND;TZID=America/Vancouver:20241027T160000
DTSTAMP:20260421T153722
CREATED:20241009T013450Z
LAST-MODIFIED:20241027T221615Z
UID:10354-1730041200-1730044800@www.wkartscouncil.com
SUMMARY:Halloween Night: A Musical For Kids
DESCRIPTION:Get your costumes ready and get into the spirit of Halloween with Mister Mojo’s original family friendly musical\, HALLOWEEN NIGHT. Chronicling Mister Mojos eventful night where he and his friends stumble upon a Monster Party in the dark woods\, this production is full of twists\, turns\, laughter and music that the whole family will love. Join us at 3pm\, Oct 27 at the Capitol Theatre and get dressed up!
URL:https://www.wkartscouncil.com/event/halloween-night-a-musical-for-kids/
LOCATION:The Capitol Theatre\, 421 Victoria Street\, Nelson\, British Columbia\, V1L 5R2\, Canada
CATEGORIES:Calendar,Community Events,Kid Friendly,Live Performance
ATTACH;FMTTYPE=image/jpeg:https://genexsites.s3.ca-west-1.amazonaws.com/05/wp-content/uploads/sites/26/2024/10/20180129/KCR-poster-scaled-xB3nkz.tmp_.jpg
ORGANIZER;CN="Mister Mojo":MAILTO:mojonesmusic@yahoo.com
END:VEVENT
BEGIN:VEVENT
DTSTART;TZID=America/Vancouver:20241027T160000
DTEND;TZID=America/Vancouver:20241027T190000
DTSTAMP:20260421T153722
CREATED:20240729T174228Z
LAST-MODIFIED:20241027T221615Z
UID:9551-1730044800-1730055600@www.wkartscouncil.com
SUMMARY:Newkeys Place presents\, Blues in The Afternoon with Sam Hurrie
DESCRIPTION:Newkeys Place in Crawforbay presents\, Blues in The Afternoon with Sam Hurrie\, Like with friends. \nSundays 4-7
URL:https://www.wkartscouncil.com/event/newkeys-place-presents-blues-in-the-afternoon-with-sam-hurrie-39/
LOCATION:New Key’s Pub\, 16070 BC-3A\, Crawford Bay\, BC\, V0B 1E0\, Canada
CATEGORIES:Calendar,Live Performance
ATTACH;FMTTYPE=image/jpeg:https://genexsites.s3.ca-west-1.amazonaws.com/05/wp-content/uploads/sites/26/2024/02/20182019/421386343_794638979369624_4824241606627690411_n-MipTQS.tmp_.jpg
END:VEVENT
END:VCALENDAR