
BEGIN:VCALENDAR
VERSION:2.0
PRODID:-//West Kootenay Regional Arts Council - ECPv6.15.20//NONSGML v1.0//EN
CALSCALE:GREGORIAN
METHOD:PUBLISH
X-ORIGINAL-URL:https://www.wkartscouncil.com
X-WR-CALDESC:Events for West Kootenay Regional Arts Council
REFRESH-INTERVAL;VALUE=DURATION:PT1H
X-Robots-Tag:noindex
X-PUBLISHED-TTL:PT1H
BEGIN:VTIMEZONE
TZID:America/Edmonton
BEGIN:DAYLIGHT
TZOFFSETFROM:-0700
TZOFFSETTO:-0600
TZNAME:MDT
DTSTART:20230312T090000
END:DAYLIGHT
BEGIN:STANDARD
TZOFFSETFROM:-0600
TZOFFSETTO:-0700
TZNAME:MST
DTSTART:20231105T080000
END:STANDARD
BEGIN:DAYLIGHT
TZOFFSETFROM:-0700
TZOFFSETTO:-0600
TZNAME:MDT
DTSTART:20240310T090000
END:DAYLIGHT
BEGIN:STANDARD
TZOFFSETFROM:-0600
TZOFFSETTO:-0700
TZNAME:MST
DTSTART:20241103T080000
END:STANDARD
BEGIN:DAYLIGHT
TZOFFSETFROM:-0700
TZOFFSETTO:-0600
TZNAME:MDT
DTSTART:20250309T090000
END:DAYLIGHT
BEGIN:STANDARD
TZOFFSETFROM:-0600
TZOFFSETTO:-0700
TZNAME:MST
DTSTART:20251102T080000
END:STANDARD
END:VTIMEZONE
BEGIN:VTIMEZONE
TZID:America/Vancouver
BEGIN:DAYLIGHT
TZOFFSETFROM:-0800
TZOFFSETTO:-0700
TZNAME:PDT
DTSTART:20230312T100000
END:DAYLIGHT
BEGIN:STANDARD
TZOFFSETFROM:-0700
TZOFFSETTO:-0800
TZNAME:PST
DTSTART:20231105T090000
END:STANDARD
BEGIN:DAYLIGHT
TZOFFSETFROM:-0800
TZOFFSETTO:-0700
TZNAME:PDT
DTSTART:20240310T100000
END:DAYLIGHT
BEGIN:STANDARD
TZOFFSETFROM:-0700
TZOFFSETTO:-0800
TZNAME:PST
DTSTART:20241103T090000
END:STANDARD
BEGIN:DAYLIGHT
TZOFFSETFROM:-0800
TZOFFSETTO:-0700
TZNAME:PDT
DTSTART:20250309T100000
END:DAYLIGHT
BEGIN:STANDARD
TZOFFSETFROM:-0700
TZOFFSETTO:-0800
TZNAME:PST
DTSTART:20251102T090000
END:STANDARD
END:VTIMEZONE
BEGIN:VEVENT
DTSTART;VALUE=DATE:20241004
DTEND;VALUE=DATE:20241105
DTSTAMP:20260421T153542
CREATED:20240924T045433Z
LAST-MODIFIED:20240930T044021Z
UID:10102-1728000000-1730764799@www.wkartscouncil.com
SUMMARY:Centre 64 Art Exhibition
DESCRIPTION:George C. Hogg\, “An Artist’s Odessey- 60 years of Landscapes and Cultural Expression”. Oct 4th-Nov 13th. Hours are Tuesday through Saturday 12-4pm closed Sunday & Monday & Statutory Holidays
URL:https://www.wkartscouncil.com/event/centre-64-art-exhibition/
LOCATION:64 Deer Park Ave\, 64 Deer Park Ave\, Kimberley\, BC\, V1A 2J2
CATEGORIES:Calendar,Community Events,Exhibition/Speakers
ATTACH;FMTTYPE=image/jpeg:https://genexsites.s3.ca-west-1.amazonaws.com/05/wp-content/uploads/sites/26/2024/09/20180149/thumbnail_image1.jpg
ORGANIZER;CN="Centre 64- Kimberley Arts":MAILTO:info@kimberleyarts.com
END:VEVENT
BEGIN:VEVENT
DTSTART;TZID=America/Edmonton:20241004T193000
DTEND;TZID=America/Edmonton:20241019T214000
DTSTAMP:20260421T153542
CREATED:20240911T010422Z
LAST-MODIFIED:20240911T010422Z
UID:9907-1728070200-1729374000@www.wkartscouncil.com
SUMMARY:Pippin\, a magical theatre experience
DESCRIPTION:Cranbrook Community Theatre (CCT) is proud to present the Tony Award-Winning musical Pippin\, a timeless story of self-discovery\, adventure\, and the search for meaning\, set to the unforgettable music of Stephen Schwartz. Directed by Sanjay Fisk\, this production promises to captivate audiences with its dynamic performances\, dazzling choreography\, and enchanting storytelling October 4-6\, 10-12\, 16-19 at the Studio Stage Door in Cranbrook. \nPippin follows the journey of a young prince as he embarks on a quest to find purpose and significance in life. Along the way\, he encounters love\, war\, and temptation\, all while being guided by a mysterious group of performers. With a mix of humour\, heart\, and spectacle\, Pippin is a musical that has resonated with audiences for decades\, offering a message of hope and resilience. This show promises to be a magical theatrical experience that will prove why Pippin continues to be a favourite among theatre lovers of all ages. \nPerformances run Oct.4-6*\, 10-12\, 16-19 at 7:30pm\n(*Matinee Oct.6th starts at 2pm)\nDoors open 1/2 hour before showtime
URL:https://www.wkartscouncil.com/event/pippin-a-magical-theatre-experience/
LOCATION:The Studio Stage Door\, 11 11th Ave. S.\, Cranbrook
CATEGORIES:Calendar,Community Events,Live Performance
ATTACH;FMTTYPE=image/jpeg:https://genexsites.s3.ca-west-1.amazonaws.com/05/wp-content/uploads/sites/26/2024/09/20180249/FINAL-8.5x11-scaled.jpg
ORGANIZER;CN="Cranbrook Community Theatre":MAILTO:crancommtheatre@gmail.com
END:VEVENT
BEGIN:VEVENT
DTSTART;TZID=America/Vancouver:20241015T090000
DTEND;TZID=America/Vancouver:20241015T100000
DTSTAMP:20260421T153542
CREATED:20240828T192858Z
LAST-MODIFIED:20241015T204717Z
UID:9830-1728982800-1728986400@www.wkartscouncil.com
SUMMARY:Itty Bitty Art Time (Preschool Art Classes)
DESCRIPTION:Participants can expect to make artwork in a wide range of materials that encourage experimentation and motor skill development. Previous projects include yarn bowls\, glitter dioramas and marker pull art.\n\nThese classes get MESSY\, be sure to dress your child (and yourself!) in play clothes. Paint\, salt\, glue and many more materials will be used. One caregiver per child (or group of children) is required.  \nAbout the Instructor:\nErin has a BFA in Studio Arts from UVic and a Masters of Illustration from Falmouth University. Her classes focus on process-based activities that don’t have a set outcome\, fostering creativity and a low pressure environment\, encouraging exploration and making mistakes!\n\nWorkshop Dates:\nTuesday mornings\nSeptember 10 – December 17\, 2024 (15 sessions)\n9:00am-9:45am or 10:00am-10:45am\n\nMinimum 6 students\, with a maximum of 12.\n\nWhere: \nVISAC Gallery – Under the red gallery awning\n1501 Cedar Ave\, Trail\nLower Level of Selkirk Building\n\nIf you have any questions\, reach out to info@visacgallery.com
URL:https://www.wkartscouncil.com/event/itty-bitty-art-time-preschool-art-classes-9/
LOCATION:VISAC Gallery\, 1501 Cedar Avenue\, Trail\, V1R 2J5
CATEGORIES:Calendar,Kid Friendly,Workshops
ATTACH;FMTTYPE=image/jpeg:https://genexsites.s3.ca-west-1.amazonaws.com/05/wp-content/uploads/sites/26/2024/08/20180302/Itty-Bitty-Art-Time-1-RYMiD9.tmp_.jpg
ORGANIZER;CN="VISAC Gallery":MAILTO:Info@visacgallery.com
END:VEVENT
BEGIN:VEVENT
DTSTART;TZID=America/Vancouver:20241015T153000
DTEND;TZID=America/Vancouver:20241015T163000
DTSTAMP:20260421T153542
CREATED:20240828T192858Z
LAST-MODIFIED:20241015T204729Z
UID:9831-1729006200-1729009800@www.wkartscouncil.com
SUMMARY:Visual Exploration Club (Ages 5-8)
DESCRIPTION:About Visual Exploration Club (VEC):\nStudents can expect to learn about other artists\, experiment with various materials\, and make mistakes. Each participant receives a sketchbook to track their skill development in a wide range of materials such as drawing\, painting\, printmaking and 3-dimensional art.\n\nThis session is for ages 5-8\, or primary students in grades K-3.\n\nAbout the instructor:\nErin has a BFA in Studio Arts from UVic and a Masters of Illustration from Falmouth University. Her classes focus on process-based activities that don’t have a set outcome\, fostering creativity and a low pressure environment\, encouraging exploration and making mistakes!\n\nWorkshop Dates:\nTuesday afternoons\nSeptember 10 – December 17\, 2024 (15 sessions)\n3:30pm-4:30pm\n\nMinimum 6 students\, with a maximum of 12.\n\nWhere: \nVISAC Gallery – Under the red gallery awning\n1501 Cedar Ave\, Trail\nLower Level of Selkirk Building\n\nIf you have any questions\, reach out to info@visacgallery.com\n\nRegister here: https://revenue-can.keela.co/visual-exploration-club-ages-5-8
URL:https://www.wkartscouncil.com/event/visual-exploration-club-ages-5-8-9/
LOCATION:VISAC Gallery\, 1501 Cedar Avenue\, Trail\, V1R 2J5
CATEGORIES:Calendar,Kid Friendly,Workshops
ATTACH;FMTTYPE=image/jpeg:https://genexsites.s3.ca-west-1.amazonaws.com/05/wp-content/uploads/sites/26/2024/08/20180302/Visual-Exploration-Club-wreizB.tmp_.jpg
ORGANIZER;CN="VISAC Gallery":MAILTO:Info@visacgallery.com
END:VEVENT
END:VCALENDAR