
BEGIN:VCALENDAR
VERSION:2.0
PRODID:-//West Kootenay Regional Arts Council - ECPv6.15.20//NONSGML v1.0//EN
CALSCALE:GREGORIAN
METHOD:PUBLISH
X-ORIGINAL-URL:https://www.wkartscouncil.com
X-WR-CALDESC:Events for West Kootenay Regional Arts Council
REFRESH-INTERVAL;VALUE=DURATION:PT1H
X-Robots-Tag:noindex
X-PUBLISHED-TTL:PT1H
BEGIN:VTIMEZONE
TZID:America/Edmonton
BEGIN:DAYLIGHT
TZOFFSETFROM:-0700
TZOFFSETTO:-0600
TZNAME:MDT
DTSTART:20230312T090000
END:DAYLIGHT
BEGIN:STANDARD
TZOFFSETFROM:-0600
TZOFFSETTO:-0700
TZNAME:MST
DTSTART:20231105T080000
END:STANDARD
BEGIN:DAYLIGHT
TZOFFSETFROM:-0700
TZOFFSETTO:-0600
TZNAME:MDT
DTSTART:20240310T090000
END:DAYLIGHT
BEGIN:STANDARD
TZOFFSETFROM:-0600
TZOFFSETTO:-0700
TZNAME:MST
DTSTART:20241103T080000
END:STANDARD
BEGIN:DAYLIGHT
TZOFFSETFROM:-0700
TZOFFSETTO:-0600
TZNAME:MDT
DTSTART:20250309T090000
END:DAYLIGHT
BEGIN:STANDARD
TZOFFSETFROM:-0600
TZOFFSETTO:-0700
TZNAME:MST
DTSTART:20251102T080000
END:STANDARD
END:VTIMEZONE
BEGIN:VTIMEZONE
TZID:America/Vancouver
BEGIN:DAYLIGHT
TZOFFSETFROM:-0800
TZOFFSETTO:-0700
TZNAME:PDT
DTSTART:20230312T100000
END:DAYLIGHT
BEGIN:STANDARD
TZOFFSETFROM:-0700
TZOFFSETTO:-0800
TZNAME:PST
DTSTART:20231105T090000
END:STANDARD
BEGIN:DAYLIGHT
TZOFFSETFROM:-0800
TZOFFSETTO:-0700
TZNAME:PDT
DTSTART:20240310T100000
END:DAYLIGHT
BEGIN:STANDARD
TZOFFSETFROM:-0700
TZOFFSETTO:-0800
TZNAME:PST
DTSTART:20241103T090000
END:STANDARD
BEGIN:DAYLIGHT
TZOFFSETFROM:-0800
TZOFFSETTO:-0700
TZNAME:PDT
DTSTART:20250309T100000
END:DAYLIGHT
BEGIN:STANDARD
TZOFFSETFROM:-0700
TZOFFSETTO:-0800
TZNAME:PST
DTSTART:20251102T090000
END:STANDARD
END:VTIMEZONE
BEGIN:VEVENT
DTSTART;VALUE=DATE:20241003
DTEND;VALUE=DATE:20241014
DTSTAMP:20260421T205017
CREATED:20240912T213204Z
LAST-MODIFIED:20240912T213204Z
UID:9912-1727913600-1728863999@www.wkartscouncil.com
SUMMARY:Look Now What Ive Become
DESCRIPTION:Andrea shares her personal story of healing and transformation through creativity. This exhibit is a reflection of the resilience of our spirits and the power of art as a tool for recovery and self-discovery. \nAndrea’s work\, which started as a way to cope with the trauma of spousal abuse\, evolved into an expression of joy\, strength\, and authenticity. Her incredible clay sculptures are more than just art; they are a reflection of her path from pain to peace\, and from survival to an authentic life. \nJoin us for an inspiring afternoon where Andrea will share how her creative process became a form of art therapy\, allowing her to channel her emotions and experiences into something beautiful and empowering. This is not a story of suffering\, but one of healing\, hope\, and the incredible power of creativity to shape our lives. \nCome\, take in this uplifting exhibit\, and see the artworks that have not only transformed Andrea’s life but also are a beacon of hope for others in their own experience of healing.
URL:https://www.wkartscouncil.com/event/look-now-what-ive-become/
LOCATION:Art Gallery Kimberley at “The Laundromat”\, 167 Deer Park Avenue\, Kimberley
CATEGORIES:Calendar,Exhibition/Speakers
ATTACH;FMTTYPE=image/png:https://genexsites.s3.ca-west-1.amazonaws.com/05/wp-content/uploads/sites/26/2024/09/20180248/IMG_8875-2.png
ORGANIZER;CN="Art Gallery Kimberley":MAILTO:info@artgallerykimberley.com
END:VEVENT
BEGIN:VEVENT
DTSTART;VALUE=DATE:20241004
DTEND;VALUE=DATE:20241105
DTSTAMP:20260421T205017
CREATED:20240924T045433Z
LAST-MODIFIED:20240930T044021Z
UID:10102-1728000000-1730764799@www.wkartscouncil.com
SUMMARY:Centre 64 Art Exhibition
DESCRIPTION:George C. Hogg\, “An Artist’s Odessey- 60 years of Landscapes and Cultural Expression”. Oct 4th-Nov 13th. Hours are Tuesday through Saturday 12-4pm closed Sunday & Monday & Statutory Holidays
URL:https://www.wkartscouncil.com/event/centre-64-art-exhibition/
LOCATION:64 Deer Park Ave\, 64 Deer Park Ave\, Kimberley\, BC\, V1A 2J2
CATEGORIES:Calendar,Community Events,Exhibition/Speakers
ATTACH;FMTTYPE=image/jpeg:https://genexsites.s3.ca-west-1.amazonaws.com/05/wp-content/uploads/sites/26/2024/09/20180149/thumbnail_image1.jpg
ORGANIZER;CN="Centre 64- Kimberley Arts":MAILTO:info@kimberleyarts.com
END:VEVENT
BEGIN:VEVENT
DTSTART;TZID=America/Edmonton:20241004T193000
DTEND;TZID=America/Edmonton:20241019T214000
DTSTAMP:20260421T205017
CREATED:20240911T010422Z
LAST-MODIFIED:20240911T010422Z
UID:9907-1728070200-1729374000@www.wkartscouncil.com
SUMMARY:Pippin\, a magical theatre experience
DESCRIPTION:Cranbrook Community Theatre (CCT) is proud to present the Tony Award-Winning musical Pippin\, a timeless story of self-discovery\, adventure\, and the search for meaning\, set to the unforgettable music of Stephen Schwartz. Directed by Sanjay Fisk\, this production promises to captivate audiences with its dynamic performances\, dazzling choreography\, and enchanting storytelling October 4-6\, 10-12\, 16-19 at the Studio Stage Door in Cranbrook. \nPippin follows the journey of a young prince as he embarks on a quest to find purpose and significance in life. Along the way\, he encounters love\, war\, and temptation\, all while being guided by a mysterious group of performers. With a mix of humour\, heart\, and spectacle\, Pippin is a musical that has resonated with audiences for decades\, offering a message of hope and resilience. This show promises to be a magical theatrical experience that will prove why Pippin continues to be a favourite among theatre lovers of all ages. \nPerformances run Oct.4-6*\, 10-12\, 16-19 at 7:30pm\n(*Matinee Oct.6th starts at 2pm)\nDoors open 1/2 hour before showtime
URL:https://www.wkartscouncil.com/event/pippin-a-magical-theatre-experience/
LOCATION:The Studio Stage Door\, 11 11th Ave. S.\, Cranbrook
CATEGORIES:Calendar,Community Events,Live Performance
ATTACH;FMTTYPE=image/jpeg:https://genexsites.s3.ca-west-1.amazonaws.com/05/wp-content/uploads/sites/26/2024/09/20180249/FINAL-8.5x11-scaled.jpg
ORGANIZER;CN="Cranbrook Community Theatre":MAILTO:crancommtheatre@gmail.com
END:VEVENT
BEGIN:VEVENT
DTSTART;TZID=America/Vancouver:20241006T100000
DTEND;TZID=America/Vancouver:20241006T150000
DTSTAMP:20260421T205018
CREATED:20240930T043304Z
LAST-MODIFIED:20241006T194634Z
UID:10152-1728208800-1728226800@www.wkartscouncil.com
SUMMARY:Museum Mash!
DESCRIPTION:You’ll never hear ‘Don’t touch!’ and ‘Shhh!’ at Museum Mash! People of all ages are invited to explore the museum in new ways – fostering creativity\, making memories\, and building a lifelong love for museums and galleries. Sing! Dance! Colour on the walls! Is that a giant cardboard fort? YES! \nOn Sunday\, October 6 at 10 am the doors at the Nelson Museum are flung open and free activities are offered throughout the day\, until 3 pm. Drumming\, cardboard forts\, and giant Jenga will entertain younger children while older artists get creative with printmaking and papercrafts. Designed with kids in mind\, Museum Mash! is a beloved semi-annual event that encourages families to explore the museum in unique ways.
URL:https://www.wkartscouncil.com/event/museum-mash-3/
LOCATION:Nelson Museum\, Archives & Gallery\, 502 Vernon Street\, Nelson\, V1L 4E7\, Canada
CATEGORIES:Calendar,Community Events,Kid Friendly,Live Performance,Workshops
ATTACH;FMTTYPE=image/png:https://genexsites.s3.ca-west-1.amazonaws.com/05/wp-content/uploads/sites/26/2024/09/20180213/museum-mash-insta-91ew1V.tmp_.png
ORGANIZER;CN="Nelson Museum%2C Archives &amp%3B Gallery":MAILTO:info@nelsonmuseum.ca
END:VEVENT
BEGIN:VEVENT
DTSTART;TZID=America/Vancouver:20241006T130000
DTEND;TZID=America/Vancouver:20241006T153000
DTSTAMP:20260421T205018
CREATED:20240828T192900Z
LAST-MODIFIED:20241006T194634Z
UID:9826-1728219600-1728228600@www.wkartscouncil.com
SUMMARY:Intermediate Handbuilding: Bathroom Countertopware with Natural Impressions (Sept 15-Oct 27)
DESCRIPTION:Incorporate natural elements such as flowers and grasses to create a set of bathroom countertopware. Participants must have previously taken a hand building class or be a Trail Pottery Studio member. \nParticipants Will Create: \n1 Toothbrush Jar\, 1 small water cup\, Soap Dish with Feet\, Bathroom Jar with Lid\, Soap Pump Bottle\, Watch and Ring Tray\n\nAbout Lana Jamieson of Black Earth Ceramics:\nLana is the potter behind Black Earth Ceramics. She has a BFA from Concordia University where she majored in Studio Arts with a Concentration in Ceramic Sculpture. While in Montreal\, Lana fell in love with pottery\, while studying privately with Iranian master potter Mahmoud Baghaeian. She has a studio in her home in Rossland where she creates pottery which she sells in several shops. Lana has taught several ceramics workshops in schools\, at peoples homes\, and at the Rossland Museum. Lana also has a Bachelor of Education with a focus on teaching fine arts and currently works as a teacher for SD 20.\n\nWorkshop Fees:\n$270 for VISAC members (or $300 for non-members) \nSupplies:\n$20 for clay\, to be paid in cash or by e-transfer on the first day of class.\n\nWorkshop Dates:\nSunday afternoons\nSeptember 15 – October 27\, 2024\n1:00pm – 3:30pm\n\nMinimum 4 students\, with a maximum of 8.\nYouth ages 16-18 are welcome to participate\, with parental consent. \n\nWhere: \nVISAC Gallery – Under the red gallery awning\n1501 Cedar Ave\, Trail\nLower Level of Selkirk Building\n\nIf you have any questions\, reach out to info@visacgallery.com\n\nRegister here: https://revenue-can.keela.co/intermediate-handbuilding-bathroom-countertopware-with-natural-impressions-sept-15-oct-27
URL:https://www.wkartscouncil.com/event/intermediate-handbuilding-bathroom-countertopware-with-natural-impressions-sept-15-oct-27-4/
LOCATION:VISAC Gallery\, 1501 Cedar Avenue\, Trail\, V1R 2J5
CATEGORIES:Calendar,Workshops
ATTACH;FMTTYPE=image/jpeg:https://genexsites.s3.ca-west-1.amazonaws.com/05/wp-content/uploads/sites/26/2024/08/20180301/Hand-Building-Natural-q1z24p.tmp_.jpg
ORGANIZER;CN="VISAC Gallery":MAILTO:Info@visacgallery.com
END:VEVENT
BEGIN:VEVENT
DTSTART;TZID=America/Vancouver:20241006T150000
DTEND;TZID=America/Vancouver:20241006T170000
DTSTAMP:20260421T205018
CREATED:20240729T050511Z
LAST-MODIFIED:20241006T194634Z
UID:9542-1728226800-1728234000@www.wkartscouncil.com
SUMMARY:The Classical Series – Amuse Bouche Trio with chocolate tasting
DESCRIPTION:Enjoy an afternoon of tea\, a sweet treat and music as Trail & District Arts Council presents Sarah Hagen: Wonder Women in The Griff at The Bailey Theatre on Sunday\, October 6 at 3:00 pm as part of our Classical series. A celebration of the music and stories of female composers “Wonder Women!” sees pianist Sarah Hagen delve into the remarkable stories and piano music of forgotten female composers from the classical repertoire. This recital will highlight piano works by 18th and 19th century composers\, including Clara Schumann\, Cécile Chaminade\, and others.
URL:https://www.wkartscouncil.com/event/the-classical-series-amuse-bouche-trio-with-chocolate-tasting/
LOCATION:Bailey Theatre\, 1501 Cedar Ave.\, Trail\, BC
CATEGORIES:Calendar,Live Performance
ATTACH;FMTTYPE=image/png:https://genexsites.s3.ca-west-1.amazonaws.com/05/wp-content/uploads/sites/26/2024/07/20180325/sarah-hagen-bh-500-x-600-px-byxuww.tmp_.png
ORGANIZER;CN="Trail &#038%3B District Arts Council":MAILTO:info@trail-arts.com
END:VEVENT
BEGIN:VEVENT
DTSTART;TZID=America/Vancouver:20241006T150000
DTEND;TZID=America/Vancouver:20241006T170000
DTSTAMP:20260421T205018
CREATED:20240920T163620Z
LAST-MODIFIED:20241006T194635Z
UID:10018-1728226800-1728234000@www.wkartscouncil.com
SUMMARY:Symphony of the Kootenays
DESCRIPTION:The wonder of live symphonic music returns to the Capitol Theatre in Nelson with the Symphony of the Kootenays under the direction of Jeff Faragher. The concert features West Kootenay soloists Natasha Hall and Martine denBok performing Mozart’s Sinfonia Concertante. – Mozart Sinfonia Concertante for Violin\, Viola\, and Orchestra – Dvorak New World Symphony. \nAdult $42\nSenior $38\nUnder 30 $15
URL:https://www.wkartscouncil.com/event/symphony-of-the-kootenays/
LOCATION:The Capitol Theatre\, 421 Victoria Street\, Nelson\, British Columbia\, V1L 5R2\, Canada
CATEGORIES:Calendar,Community Events,Live Performance
ATTACH;FMTTYPE=image/jpeg:https://genexsites.s3.ca-west-1.amazonaws.com/05/wp-content/uploads/sites/26/2024/09/20180237/13-5xjgBC.tmp_.jpg
END:VEVENT
BEGIN:VEVENT
DTSTART;TZID=America/Vancouver:20241006T160000
DTEND;TZID=America/Vancouver:20241006T190000
DTSTAMP:20260421T205018
CREATED:20240709T172144Z
LAST-MODIFIED:20241006T194635Z
UID:9356-1728230400-1728241200@www.wkartscouncil.com
SUMMARY:Newkeys Place presents\, Blues in The Afternoon with Sam Hurrie
DESCRIPTION:Newkeys Place in Crawforbay presents\, Blues in The Afternoon with Sam Hurrie\, Like with friends. \nSundays 4-7
URL:https://www.wkartscouncil.com/event/newkeys-place-presents-blues-in-the-afternoon-with-sam-hurrie-36/
LOCATION:New Key’s Pub\, 16070 BC-3A\, Crawford Bay\, BC\, V0B 1E0\, Canada
CATEGORIES:Calendar,Live Performance
ATTACH;FMTTYPE=image/jpeg:https://genexsites.s3.ca-west-1.amazonaws.com/05/wp-content/uploads/sites/26/2024/02/20182019/421386343_794638979369624_4824241606627690411_n-MipTQS.tmp_.jpg
END:VEVENT
END:VCALENDAR